Workbook
Name _RAN1: "A1..J66"
Name access_fibre_length_Tier1: [1]Network_design_inputs!$E$263
Name access_fibre_length_Tier2: [1]Network_design_inputs!$E$262
Name access_fibre_length_Tier3: [1]Network_design_inputs!$E$261
Name access_repeater_per_BTS: [1]Network_design_inputs!$E$301
Name actualizar.seleccion: [2]L!$C$71
Name aire.acondicionado.capacidad.superficie: [2]Control!$F$123
Name aire.acondicionado.espacio.maniobra: [2]Control!$H$124
Name año: [2]L!$C$47:$C$56
Name año.activo: [2]Control!$F$55
Name area.espacio.overheads: [2]Dimensionado!$F$60
Name area.exterior.central.PH: [2]Dimensionado!$F$16
Name area.libre.CS: [2]Control!$F$144
Name area.sala.baterias: [2]Dimensionado!$F$55
Name area.sala.control: [2]Dimensionado!$F$28
Name area.sala.coubicacion.CS: [2]Dimensionado!$F$24
Name area.sala.coubicacion.externa.CS: [2]Dimensionado!$F$67
Name area.sala.emergencia: [2]Dimensionado!$F$49
Name area.sala.MDF.PH: [2]Dimensionado!$F$20
Name area.sala.subestacion.electrica: [2]Dimensionado!$F$40
Name area.sala.subestacion.electrica.CSs: [2]Dimensionado!$F$43
Name area.sala.subestacion.electrica.PH: [2]Dimensionado!$F$42
Name area.sala.switching: [2]Dimensionado!$F$32
Name area.sala.transmision: [2]Dimensionado!$F$36
Name area.salas.central.PH: [2]Dimensionado!$F$15
Name area.total.predio: [2]Dimensionado!$F$11
Name asignacion.aireacondicionado.CSs: [2]Precio!$K$30:$K$36
Name asignacion.coubicacion.CSs: [2]Precio!$H$30:$H$36
Name asignacion.fuente.energia.respaldo.CSs: [2]Precio!$J$30:$J$36
Name asignacion.subestacion.electrica.CSs: [2]Precio!$I$30:$I$36
Name asset_capex: [1]Asset_inputs!$L$4:$L$167
Name asset_capex_categories: [1]Asset_inputs!$Q$4:$Q$167
Name Asset_groups: [1]Lists!$T$6:$T$21
Name asset_lifetimes: [1]Asset_inputs!$H$4:$H$167
Name Asset_list: [1]Asset_inputs!$C$4:$C$167
Name asset_opex: [1]Asset_inputs!$P$4:$P$167
Name asset_planning_periods: [1]Asset_inputs!$I$4:$I$167
Name Asset_traffic_volumes: [1]Demand_Subs_Calc!$I$534:$BF$549
Name Asset_traffic_volumes_per_line_urban: [1]Demand_Subs_Calc!$I$591:$BF$606
Name Asset_traffic_volumes_rural: [1]Demand_Subs_Calc!$I$572:$BF$587
Name Asset_type: [1]Asset_inputs!$E$4:$E$167
Name Assets_Full_network_annual: [1]Full_network!$I$16:$BF$179
Name AWDM_amplifiers_per_element: [1]Network_design_inputs!$E$212
Name AWDM_wavelengths: [1]Network_design_inputs!$E$211
Name backup.minimo.baterias.rural: [2]Control!$F$133
Name backup.minimo.baterias.urbano: [2]Control!$F$132
Name backup.minimo.generador.diesel.rural: [2]Control!$F$136
Name backup.minimo.generador.diesel.urbano: [2]Control!$F$135
Name BHkbps_VoD_traffic_per_sub: [1]Network_design_inputs!$E$68
Name Billing.systems: '[1]Core Network_design'!$I$485:$BF$485
Name billion: 1000000000
Name billion: 1000000000
Name bit.conversion: 1024
Name bit.per.byte: 8
Name bits_per_byte: [1]Lists!$K$19
Name BRAS.Units: '[1]Core Network_design'!$I$356:$BF$356
Name bucles.central.PH: [2]Control!$F$47
Name bytes_per_SMS: [1]Network_design_inputs!$E$62
Name calculos.secundarios.dimension.racks: '[2]Caracteristicas tecnicas'!$E$111
Name calculos.secundarios.Sala_de_control: '[2]Caracteristicas tecnicas'!$D$7:$G$7

Sheet S 
C1: Guía de estilos en Excel
A3: Nota: Utilizar la opción 'Congelar los paneles' (para cada hoja de cálculo) para mantener la cabecera de la columna y de la fila a la vista cuando se navega por la hoja de cálculo
A4: Nota: Si una hoja de cálculo abarca más de una página, se sugiere repetir la primera fila de encabezados de columna en todas las páginas (Diseño de página_Repetir filas en extremo superior_Indique la referencia $1:$1, tal y como se hace en esta hoja de cálculo)
A6: Estilos de celda (datos de entrada o inputs)
A7: Utilizar estos estilos para identificar los datos de entrada (inputs) al modelo
A8: Nota: Estos estilos cambian prácticamente todo el formato de una celda (excepto los números y la alineación)
B10: Parámetro de entrada | C10: 100 | D10: Desbloqueada | E10: Un input (dato de entrada) que puede ser modificado por el usuario (siempre que quiera)
B12: Parámetro de entrada | C12: 250 | D12: Desbloqueada | E12: Se sugiere configurar el tipo de datos o los valores que los usuarios pueden escribir en una celda. La validación de datos se configura en el cuadro de diálogo 'Validación de datos'
B13: Minimum | C13: 100
B14: Maximum | C14: 300
B16: Parámetro de entrada | C16: 300 | D16: Desbloqueada | E16: Si un parámetro puede tomar sólo uno de entre un rango reducido de valores, para controlar el tipo de datos o los valores que los usuarios pueden entrar en una celda, se sugiere configurar la lista en el cuadro de diálogo Validación de Datos_Permitir_Lista, asegurándose de que esté activada la casilla Celda con lista desplegable
B17: Acceptable values | C17: 100
C18: 200
C19: 300
B21: Dato de entrada | C21: 100 | D21: Desbloqueada | E21: Estimado con base en datos reales, ya sean públicos o proporcionados por los operadores
B23: Estimación de valores de entrada | C23: 100 | D23: Desbloqueada | E23: Una estimación utilizada ante la falta de datos reales (cambiar únicamente si se dispone de una mejor estimación, o de datos)
B25: Cálculo de valores de entrada | C25: 100 | D25: Bloqueada | E25: Datos de entrada del modelo calculados a partir de otros datos de entrada (e.g. valores de entrada interpolados)
B27: Enlace (dentro del mismo libro) | C27: 100 | D27: Bloqueada | E27: Celda vinculada a una fuente ubicada en otra hoja de cálculo dentro del mismo libro
B29: Enlace (a otro libro) | C29: 100 | D29: Bloqueada | E29: Celda vinculada a una fuente ubicada en una hoja de cálculo en otro libro
B31: Parámetro anonimizado | C31: 100 | D31: Bloqueada | E31: Contiene un input anonimizado (más/menos 10%) para preservar la confidencialidad de los datos
A33: Otros estilos de celda
A34: Utilizar estos estilos para identificar el papel de otras celdas en el modelo
A35: Nota: Estos estilos cambian sólo el tipo de letra utilizada en una celda
B37: Cálculo | C37: 100 | D37: Bloqueada | E37: Un cálculo del modelo
B39: Total | C39: 123.45 | E39: Total (utilizar si no forma parte de un 'Sub-total de fila' o un 'Total de fila' en una tabla - ver más abajo)
B41: Suma de verificación | C41: 0 | D41: Bloqueada | E41: Cálculo secundario cuyo objetivo principal es verificar un resultado (al que por tanto no debería hacerse referencia en ninguna otra parte del modelo)
B43: Suma de verificación | C43: 0.1 | D43: Bloqueada | E43: Utilizar este formato condicional para resaltar los valores de error obtenidos a través de la suma de verificación (ej. valores diferentes a cero)
B45: Valor de salida | C45: 100 | E45: Un resultado clave de esta parte del modelo (en particular uno que será utilizado en otra parte del modelo)
B47: Nombre | C47: Nombre | D47: Bloqueada | E47: Un nombre en Excel aplicable a una o más celdas adjuntas (Insertar Nombre_Crear)
B49: Nota | C49: Nota | E49: Una nota (cuyo tamaño de texto es menor de lo normal)
B51: Resaltar una celda con un formato especial | C51: 100 | E51: Una celda que contiene valores especiales
B53: Eliminar el resaltado de una celda | C53: 100 | E53: Una celda que deja de contener valores especiales
A55: Formatos de número
A56: Utilizar estos estilos para formatear números (y fechas) de manera consistente
A57: Nota: Todos los formatos de número utilizan un símbolo de separador decimal y de agrupamiento de dígitos (separador de miles), ambos definidos en las Opciones Regionales en el cuadro de diálogo 'Propriedades de Control'. Si desea cambiar los formatos de número, no lo haga aquí, sino en Excel!
A58: Nota: Casi todos los formatos de número dejan espacio para un ')' a la derecha del número, pero sólo los formatos de moneda utilizan '(…)' para los números negativos
C60: Número | D60: Número (2pd) | E60: Porcentaje | F60: Porcentaje (2pd) | G60: Moneda | H60: Moneda (2pd) | I60: Coma | J60: Porcentaje
B61: Positivo | C61: 1234.56 | D61: 123.45 | E61: 0.1234 | F61: 0.1234 | G61: 1234.56 | H61: 123.45 | I61: 1234.56 | J61: 0.1234
B62: Negativo | C62: -1234.56 | D62: -123.45 | E62: -0.1234 | F62: -0.1234 | G62: -1234.56 | H62: -123.45 | I62: -1234.56 | J62: -0.1234
B63: Cero | C63: 0 | D63: 0 | E63: 0 | F63: 0 | G63: 0 | H63: 0 | I63: 0 | J63: 0
...

Sheet Resultados
D1: Resultados
B4: Precios de los enlaces de transmisión de interconexión gestionados entre coubicaciones
E6: AÑO | F6: 2027 | J6: AÑO | K6: 2028 | P6: AÑO | Q6: 2029
B7: Costos instalación | H7: Costos instalación | M7: Costos instalación
B8: Totales | F8: ='Modelo ITX cruzada'!G6 -> 235598.91 | H8: Totales | K8: ='Modelo ITX cruzada'!H6 -> 232413.62 | M8: Totales | Q8: ='Modelo ITX cruzada'!I6 -> 229271.38
B9: ="Por operador ("&numero.de.operadores&" operadores)" -> Por operador (2 operadores) | F9: ='Modelo ITX cruzada'!G7 -> 117799.46 | H9: ="Por operador ("&numero.de.operadores&" operadores)" -> Por operador (2 operadores) | K9: ='Modelo ITX cruzada'!H7 -> 116206.81 | M9: ="Por operador ("&numero.de.operadores&" operadores)" -> Por operador (2 operadores) | Q9: ='Modelo ITX cruzada'!I7 -> 114635.69
B10: Despliegue fibra por ML | F10: ='Modelo ITX cruzada'!G8 -> 45.19233 | H10: Despliegue fibra por ML | K10: ='Modelo ITX cruzada'!H8 -> 44.581329 | M10: Despliegue fibra por ML | Q10: ='Modelo ITX cruzada'!I8 -> 43.97859
B11: Construcción de escalerilla por ML | F11: ='Modelo ITX cruzada'!G9 -> 421.79508 | H11: Construcción de escalerilla por ML | K11: ='Modelo ITX cruzada'!H9 -> 416.09241 | M11: Construcción de escalerilla por ML | Q11: ='Modelo ITX cruzada'!I9 -> 410.46684
B13: Costos mantenimiento mensuales | H13: Costos mantenimiento mensuales | M13: Costos mantenimiento mensuales
B14: Totales | F14: ='Modelo ITX cruzada'!G13 -> 2729.9507 | H14: Totales | K14: ='Modelo ITX cruzada'!H13 -> 2834.7808 | M14: Totales | Q14: ='Modelo ITX cruzada'!I13 -> 2943.6364
B15: ="Por operador ("&numero.de.operadores&" operadores)" -> Por operador (2 operadores) | F15: ='Modelo ITX cruzada'!G14 -> 1364.9754 | H15: ="Por operador ("&numero.de.operadores&" operadores)" -> Por operador (2 operadores) | K15: ='Modelo ITX cruzada'!H14 -> 1417.3904 | M15: ="Por operador ("&numero.de.operadores&" operadores)" -> Por operador (2 operadores) | Q15: ='Modelo ITX cruzada'!I14 -> 1471.8182
B16: Fibra y escalerilla por ML | F16: ='Modelo ITX cruzada'!G15+'Modelo ITX cruzada'!G16 -> 14.543953 | H16: Fibra y escalerilla por ML | K16: ='Modelo ITX cruzada'!H15+'Modelo ITX cruzada'!H16 -> 15.102441 | M16: Fibra y escalerilla por ML | Q16: ='Modelo ITX cruzada'!I15+'Modelo ITX cruzada'!I16 -> 15.682375

Sheet Modelo ITX cruzada
C1: Interconexión cruzada
B3: Resultados del modelo
B5: Costos instalación | E5: 2025 | F5: =E5+1 -> 2026 | G5: =F5+1 -> 2027 | H5: =G5+1 -> 2028 | I5: =H5+1 -> 2029 | L5: 2025 | M5: =L5+1 -> 2026 | N5: =M5+1 -> 2027 | O5: =N5+1 -> 2028 | P5: =O5+1 -> 2029
B6: Totales | E6: 304707.08 | F6: =E6 -> 304707.08 | G6: {=N6:N9*$E$39*$G$41} -> 235598.91 | H6: {=O6:O9*$E$39*$H$41} -> 232413.62 | I6: {=P6:P9*$E$39*$I$41} -> 229271.38 | J6: MXN nominales | L6: 13409.131 | M6: =L6 -> 13409.131 | N6: =G56 -> 12101.74 | O6: =H56 -> 11496.653 | P6: =I56 -> 10921.821 | Q6: USD Reales de 2025
B7: ="Por operador ("&numero.de.operadores&" operadores)" -> Por operador (2 operadores) | E7: 152353.54 | F7: =E7 -> 152353.54 | G7: {=N7:N10*$E$39*$G$41} -> 117799.46 | H7: 116206.81 | I7: {=P7:P10*$E$39*$I$41} -> 114635.69 | J7: MXN nominales | L7: 6704.5653 | M7: =L7 -> 6704.5653 | N7: =G57 -> 6050.8702 | O7: =H57 -> 5748.3267 | P7: =I57 -> 5460.9104 | Q7: USD Reales de 2025
B8: Despliegue fibra por ML | E8: 58.448585 | F8: =E8 -> 58.448585 | G8: {=N8:N11*$E$39*$G$41} -> 45.19233 | H8: 44.581329 | I8: {=P8:P11*$E$39*$I$41} -> 43.97859 | J8: MXN nominales | L8: 2.572125 | M8: =L8 -> 2.572125 | N8: =G58 -> 2.3213428 | O8: =H58 -> 2.2052757 | P8: =I58 -> 2.0950119 | Q8: USD Reales de 2025
B9: Construcción de escalerilla por ML | E9: 545.52012 | F9: =E9 -> 545.52012 | G9: {=N9:N12*$E$39*$G$41} -> 421.79508 | H9: 416.09241 | I9: {=P9:P12*$E$39*$I$41} -> 410.46684 | J9: MXN nominales | L9: 24.0065 | M9: =L9 -> 24.0065 | N9: =G59 -> 21.665866 | O9: =H59 -> 20.582573 | P9: =I59 -> 19.553444 | Q9: USD Reales de 2025
E10: Nota: Precio de construcción de escalerilla por ML ya definido en la Oferta de Referencia de Desagregación
B12: Costos mantenimiento mensuales | E12: 2025 | F12: =E12+1 -> 2026 | G12: =F12+1 -> 2027 | H12: =G12+1 -> 2028 | I12: =H12+1 -> 2029 | L12: 2025 | M12: =L12+1 -> 2026 | N12: =M12+1 -> 2027 | O12: =N12+1 -> 2028 | P12: =O12+1 -> 2029
B13: Totales | E13: 3186.4807 | F13: =E13 -> 3186.4807 | G13: {=N13:N16*$E$39*$G$41} -> 2729.9507 | H13: {=O13:O16*$E$39*$H$41} -> 2834.7808 | I13: {=P13:P16*$E$39*$I$41} -> 2943.6364 | J13: MXN nominales | L13: 140.22626 | M13: =L13 -> 140.22626 | N13: =G72 -> 140.22626 | O13: =H72 -> 140.22626 | P13: =I72 -> 140.22626 | Q13: USD Reales de 2025
B14: ="Por operador ("&numero.de.operadores&" operadores)" -> Por operador (2 operadores) | E14: 1593.2403 | F14: =E14 -> 1593.2403 | G14: {=N14:N17*$E$39*$G$41} -> 1364.9754 | H14: {=O14:O17*$E$39*$H$41} -> 1417.3904 | I14: {=P14:P17*$E$39*$I$41} -> 1471.8182 | J14: MXN nominales | L14: 70.113131 | M14: =L14 -> 70.113131 | N14: =G73 -> 70.113131 | O14: =H73 -> 70.113131 | P14: =I73 -> 70.113131 | Q14: USD Reales de 2025
B15: Fibra por ML | E15: 0.15372408 | F15: =E15 -> 0.15372408 | G15: {=N15:N18*$E$39*$G$41} -> 0.1316999 | H15: {=O15:O18*$E$39*$H$41} -> 0.13675717 | I15: {=P15:P18*$E$39*$I$41} -> 0.14200865 | J15: MXN nominales | L15: 0.0067648783 | M15: =L15 -> 0.0067648783 | N15: =G74 -> 0.0067648783 | O15: =H74 -> 0.0067648783 | P15: =I74 -> 0.0067648783 | Q15: USD Reales de 2025
B16: Escalerilla por ML | E16: 16.822416 | F16: =E16 -> 16.822416 | G16: {=N16:N19*$E$39*$G$41} -> 14.412253 | H16: {=O16:O19*$E$39*$H$41} -> 14.965684 | I16: {=P16:P19*$E$39*$I$41} -> 15.540366 | J16: MXN nominales | L16: 0.74029776 | M16: =L16 -> 0.74029776 | N16: =G75 -> 0.74029776 | O16: =H75 -> 0.74029776 | P16: =I75 -> 0.74029776 | Q16: USD Reales de 2025
E17: Nota: Precio mensual de mantenimiento de escalerilla por ML ya definido en la Oferta de Referencia de Desagregación
B19: Escenario
B22: Equipo de transporte (Switch) | E22: 1
B23: DFO pequeño | E23: 1
B24: Demarcador (switch) | E24: =numero.de.operadores -> 2
B25: Jumper óptico | E25: =numero.de.operadores -> 2
B26: Cable óptico
B27: Escalerilla
B29: Número de operadores | E29: 2 | F29: numero.de.operadores
B30: Número de interconexiones posibles | E30: =$E$29*($E$29-1)/2 -> 1 | F30: numero.de.interconexiones | J30: 1Gbps | K30: 10Gbps
B31: Velocidad switch | E31: 1Gbps | F31: =INDEX(J31:K31,MATCH(E31,J30:K30,0)) -> 1 | I31: Multiplicador de precio | J31: 1 | K31: 2.5
B32: CCPP nominal antes de impuestos | E32: 0.10000505 | F32: wacc | G32: 6.41% real antes de impuestos
B33: Incluir anualización | E33: Sí | F33: Sí | G33: No
B36: Parámetros del modelo
E38: 2025 | F38: =E38+1 -> 2026 | G38: =F38+1 -> 2027 | H38: =G38+1 -> 2028 | I38: =H38+1 -> 2029
B39: Tipo de cambio MXN:USD | E39: 17.9667 | J39: tasa.cambio.mxn.usd
B40: Inflación México | E40: 0.0369 | F40: 0.0435 | G40: 0.0384 | H40: 0.0384 | I40: 0.0384
B41: Inflación acumulada | E41: 1 | F41: =E41*(1+F40) -> 1.0435 | G41: =F41*(1+G40) -> 1.0835704 | H41: =G41*(1+H40) -> 1.1251795 | I41: =H41*(1+I40) -> 1.1683864
B43: Modelo de interconexión cruzada
B45: Capex
C47: Capex unitario (2025) | E47: 2025 | F47: =E47+1 -> 2026 | G47: =F47+1 -> 2027 | H47: =G47+1 -> 2028 | I47: =H47+1 -> 2029
B49: {=B22:B27} -> Equipo de transporte (Switch) | C49: ='Costos asociados'!D9 -> 6087.3625 | E49: =C49 -> 6087.3625 | F49: =E49*(1+tendencia.equipamiento) -> 5782.9944 | G49: =F49*(1+tendencia.equipamiento) -> 5493.8447 | H49: =G49*(1+tendencia.equipamiento) -> 5219.1524 | I49: =H49*(1+tendencia.equipamiento) -> 4958.1948
B50: DFO pequeño | C50: ='Costos asociados'!D10 -> 300.93862 | E50: =C50 -> 300.93862 | F50: =E50*(1+tendencia.equipamiento) -> 285.89169 | G50: =F50*(1+tendencia.equipamiento) -> 271.59711 | H50: =G50*(1+tendencia.equipamiento) -> 258.01725 | I50: =H50*(1+tendencia.equipamiento) -> 245.11639
B51: Demarcador (switch) | C51: ='Costos asociados'!D11 -> 2143.4375 | E51: =C51 -> 2143.4375 | F51: =E51*(1+tendencia.equipamiento) -> 2036.2656 | G51: =F51*(1+tendencia.equipamiento) -> 1934.4523 | H51: =G51*(1+tendencia.equipamiento) -> 1837.7297 | I51: =H51*(1+tendencia.equipamiento) -> 1745.8432
B52: Jumper óptico | C52: ='Costos asociados'!D12 -> 32.58025 | E52: =C52 -> 32.58025 | F52: =E52*(1+tendencia.equipamiento) -> 30.951237 | G52: =F52*(1+tendencia.equipamiento) -> 29.403676 | H52: =G52*(1+tendencia.equipamiento) -> 27.933492 | I52: =H52*(1+tendencia.equipamiento) -> 26.536817
B53: Cable óptico | C53: ='Costos asociados'!D13 -> 2.572125 | E53: =C53 -> 2.572125 | F53: =E53*(1+tendencia.equipamiento) -> 2.4435187 | G53: =F53*(1+tendencia.equipamiento) -> 2.3213428 | H53: =G53*(1+tendencia.equipamiento) -> 2.2052757 | I53: =H53*(1+tendencia.equipamiento) -> 2.0950119
B54: Escalerilla | C54: ='Costos asociados'!D14 -> 24.0065 | E54: =C54 -> 24.0065 | F54: =E54*(1+tendencia.equipamiento) -> 22.806175 | G54: =F54*(1+tendencia.equipamiento) -> 21.665866 | H54: =G54*(1+tendencia.equipamiento) -> 20.582573 | I54: =H54*(1+tendencia.equipamiento) -> 19.553444
...

Sheet Costos asociados
C1: Costos
B4: Modelo de interconexión cruzada
B6: Capex
C8: Unidades | D8: Capex (USD) Reales 2025 | E8: Instalación | F8: Capex total (USD) Reales 2025 | G8: Vida útil | H8: Anualización | I8: Fuente
B9: {='Modelo ITX cruzada'!B49:B54} -> Equipo de transporte (Switch) | C9: ='Modelo ITX cruzada'!E22 -> 1 | D9: 6087.3625 | E9: 0.25 | F9: {=C9:C12*D9:D12} -> 6087.3625 | G9: 7 | H9: =+(F9*wacc)/(1-(1+wacc)^-(G9)) -> 1250.3985 | I9: Estimación CRT. Fibre NG SDH switch de 16 puertos. Actualización de costos a 2025 con promedio de con estimaciones de modelo 2025 y estimaciones con inflación acumulada.
B10: DFO pequeño | C10: ='Modelo ITX cruzada'!E23 -> 1 | D10: 300.93862 | E10: 0.25 | F10: 300.93862 | G10: 7 | H10: =+(F10*wacc)/(1-(1+wacc)^-(G10)) -> 61.815477 | I10: Estimación CRT. Distribuidor óptico de 6 pares de fibra o 12 conectores simplex, estimado a USD70 por par de fibra. Actualización a 2025 con promedio de con estimaciones de modelo 2025 y estimaciones con inflación acumulada.
B11: Demarcador (switch) | C11: ='Modelo ITX cruzada'!E24 -> 2 | D11: 2143.4375 | E11: 0.25 | F11: 4286.875 | G11: 7 | H11: =+(F11*wacc)/(1-(1+wacc)^-(G11)) -> 880.56234 | I11: Estimación CRT. Fibre NG SDH switch de 6 puertos. Actualización a 2025 con promedio de con estimaciones de modelo 2025 y estimaciones con inflación acumulada.
B12: Jumper óptico | C12: ='Modelo ITX cruzada'!E25 -> 2 | D12: 32.58025 | E12: 0 | F12: 65.1605 | G12: 7 | H12: =+(F12*wacc)/(1-(1+wacc)^-(G12)) -> 13.384548 | I12: Estimación CRT. Jumper óptico multimodo duplex 2mm con conectores, de 10m de longitud. Actualización a 2025 con promedio de con estimaciones de modelo 2025 y estimaciones con inflación acumulada.
B13: Cable óptico | D13: 2.572125 | G13: 25 | H13: =+(D13*wacc)/(1-(1+wacc)^-(G13)) -> 0.28337706 | I13: Estimación CRT. Cable de 12 fibras.Actualización a 2025 con promedio de con estimaciones de modelo 2025 y estimaciones con inflación acumulada.
B14: Escalerilla | D14: 24.0065 | I14: Estimación CRT. Actualización a 2025 con promedio de con estimaciones de modelo 2025 y estimaciones con inflación acumulada.
B16: Costos comunes | C16: =SUM(F9:F12) -> 10740.337 | D16: USD Reales de 2025
B17: Costos comunes por operador | C17: =C16/numero.de.operadores -> 5370.1683 | D17: USD Reales de 2025
B18: Costos despliegue fibra por ML | C18: =D13 -> 2.572125 | D18: USD Reales de 2025
B19: Costos construcción de escalerilla por ML | C19: =D14 -> 24.0065 | D19: USD Reales de 2025
B21: Opex
C23: Unidades | D23: Opex mensual (USD) reales de 2025 | E23: Fuente
B24: {='Modelo ITX cruzada'!B65:B70} -> Equipo de transporte (Switch) | C24: {=C9:C12} -> 1 | D24: 77.312895 | E24: Estimación CRT. Actualización de costos a 2025 conforme a modelo 2025.
B25: DFO pequeño | C25: 1 | D25: 4.058927 | E25: Estimación CRT. Actualización de costos a 2025 conforme a modelo 2025.
B26: Demarcador (switch) | C26: 2 | D26: 57.984671 | E26: Estimación CRT. Actualización de costos a 2025 conforme a modelo 2025.
B27: Jumper óptico | C27: 2 | D27: 0.86977006 | E27: Estimación CRT. Actualización de costos a 2025 conforme a modelo 2025.
B28: Cable óptico | D28: 0.0067648783 | E28: Estimación CRT. Actualización de costos a 2025 conforme a modelo 2025.
B29: Escalerilla | D29: 0.74029776 | E29: Estimación CRT. Actualización de costos a 2025 conforme a modelo 2025.
B31: Costos comunes mensuales | C31: =SUM(D24:D27) -> 140.22626 | D31: USD/mes
B32: Costos comunes por operador | C32: =C31/numero.de.operadores -> 70.113131 | D32: USD/mes
B33: Costos mensual fibra por ML | C33: =D28 -> 0.0067648783 | D33: USD/mes
B34: Costos mensual escalerilla por ML | C34: =D29 -> 0.74029776 | D34: USD/mes
B37: Tendencia de costes reales
B39: Tendencia de costo de equipamiento | D39: -0.05 | E39: tendencia.equipamiento
B40: Tendencia de costo de opex | D40: 0 | E40: tendencia.opex
