Workbook
Name _RAN1: "A1..J66"
Name billion: 1000000000
Name bit.conversion: 1024
Name bit.per.byte: 8
Name calidad.SAIB: Insumos!$D$34:$D$37
Name cell.pi: 2.6
Name costo.unitario: Insumos!$K$19:$O$21
Name costos.acceso: Insumos!$K$75:$O$97
Name days.per.month: 30.42
Name days.per.year: 365
Name epsilon: 0.000001
Name factor.calidad.SAIB: Insumos!$M$34:$M$37
Name factor.simetria.SAIB: Insumos!$M$28:$M$29
Name factor.vel.SAIB: Insumos!$M$42:$M$64
Name hours.per.day: 24
Name hundred: 100
Name indice.tiempo: Listas!$E$12:$I$12
Name million: 1000000
Name minutes.per.hour: 60
Name monlogo: "Image 69"
Name months: 12
Name months.per.year: 12
Name Network_minutes_per_Mbps: Listas!$E$4
Name niveles.desagregacion: Insumos!$D$19:$D$21
Name scenario_selected: "'!$D$46"
Name seconds.per.hour: 3600
Name seconds.per.minute: 60
Name simetria.SAIB: Insumos!$D$28:$D$29
Name thousand: 1000
Name vel.SAIB: Listas!$C$4:$C$26
Name years: Listas!$E$13:$I$13

Sheet V
B1: =B5 -> Módulo SAIB
A3: Información
A5: Título | B5: Módulo SAIB
A6: Objetivo | B6: Cálculo del costo asociado al SAIB
A8: Versión | B8: Versión final tras consulta pública
A9: Autor | B9: Dirección General de Compartición de Infraestructura-UPR

Sheet S
C1: Guía de estilos en Excel
A3: Nota: Utilizar la opción 'Congelar los paneles' (para cada hoja de cálculo) para mantener la cabecera de la columna y de la fila a la vista cuando se navega por la hoja de cálculo
A4: Nota: Si una hoja de cálculo abarca más de una página, se sugiere repetir la primera fila de encabezados de columna en todas las páginas (Diseño de página_Repetir filas en extremo superior_Indique la referencia $1:$1, tal y como se hace en esta hoja de cálculo)
A6: Estilos de celda (datos de entrada o inputs)
A7: Utilizar estos estilos para identificar los datos de entrada (inputs) al modelo
A8: Nota: Estos estilos cambian prácticamente todo el formato de una celda (excepto los números y la alineación)
B10: Parámetro de entrada | C10: 100 | D10: Desbloqueada | E10: Un input (dato de entrada) que puede ser modificado por el usuario (siempre que quiera)
B12: Parámetro de entrada | C12: 250 | D12: Desbloqueada | E12: Se sugiere configurar el tipo de datos o los valores que los usuarios pueden escribir en una celda. La validación de datos se configura en el cuadro de diálogo 'Validación de datos'
B13: Minimum | C13: 100
B14: Maximum | C14: 300
B16: Parámetro de entrada | C16: 300 | D16: Desbloqueada | E16: Si un parámetro puede tomar sólo uno de entre un rango reducido de valores, para controlar el tipo de datos o los valores que los usuarios pueden entrar en una celda, se sugiere configurar la lista en el cuadro de diálogo Validación de Datos_Permitir_Lista, asegurándose de que esté activada la casilla Celda con lista desplegable
B17: Acceptable values | C17: 100
C18: 200
C19: 300
B21: Dato de entrada | C21: 100 | D21: Desbloqueada | E21: Datos reales (modificar únicamente si se dispone de mejores datos)
B23: Estimación de valores de entrada | C23: 100 | D23: Desbloqueada | E23: Una estimación utilizada ante la falta de datos reales (cambiar únicamente si se dispone de una mejor estimación, o de datos)
B25: Cálculo de valores de entrada | C25: 100 | D25: Bloqueada | E25: Datos de entrada del modelo calculados a partir de otros datos de entrada (e.g. valores de entrada interpolados)
B27: Enlace (dentro del mismo libro) | C27: 100 | D27: Bloqueada | E27: Celda vinculada a una fuente ubicada en otra hoja de cálculo dentro del mismo libro
B29: Enlace (a otro libro) | C29: 100 | D29: Bloqueada | E29: Celda vinculada a una fuente ubicada en una hoja de cálculo en otro libro
A31: Otros estilos de celda
A32: Utilizar estos estilos para identificar el papel de otras celdas en el modelo
A33: Nota: Estos estilos cambian sólo el tipo de letra utilizada en una celda
B35: Cálculo | C35: 100 | D35: Bloqueada | E35: Un cálculo del modelo
B37: Total | C37: 123.45 | E37: Total (utilizar si no forma parte de un 'Sub-total de fila' o un 'Total de fila' en una tabla - ver más abajo)
B39: Suma de verificación | C39: 0 | D39: Bloqueada | E39: Cálculo secundario cuyo objetivo principal es verificar un resultado (al que por tanto no debería hacerse referencia en ninguna otra parte del modelo)
B41: Suma de verificación | C41: 0.1 | D41: Bloqueada | E41: Utilizar este formato condicional para resaltar los valores de error obtenidos a través de la suma de verificación (ej. valores diferentes a cero)
B43: Valor de salida | C43: 100 | E43: Un resultado clave de esta parte del modelo (en particular uno que será utilizado en otra parte del modelo)
B45: Nombre | C45: Nombre | D45: Bloqueada | E45: Un nombre en Excel aplicable a una o más celdas adjuntas (Insertar Nombre_Crear)
B47: Nota | C47: Nota | E47: Una nota (cuyo tamaño de texto es menor de lo normal)
B49: Resaltar una celda con un formato especial | C49: 100 | E49: Una celda que contiene valores especiales
B51: Eliminar el resaltado de una celda | C51: 100 | E51: Una celda que deja de contener valores especiales
A53: Formatos de número
A54: Utilizar estos estilos para formatear números (y fechas) de manera consistente
A55: Nota: Todos los formatos de número utilizan un símbolo de separador decimal y de agrupamiento de dígitos (separador de miles), ambos definidos en las Opciones Regionales en el cuadro de diálogo 'Propriedades de Control'. Si desea cambiar los formatos de número, no lo haga aquí, sino en Excel!
A56: Nota: Casi todos los formatos de número dejan espacio para un ')' a la derecha del número, pero sólo los formatos de moneda utilizan '(…)' para los números negativos
C58: Número | D58: Número (2pd) | E58: Porcentaje | F58: Porcentaje (2pd) | G58: Moneda | H58: Moneda (2pd) | I58: Coma | J58: Porcentaje
B59: Positivo | C59: 1234.56 | D59: 123.45 | E59: 0.1234 | F59: 0.1234 | G59: 1234.56 | H59: 123.45 | I59: 1234.56 | J59: 0.1234
B60: Negativo | C60: -1234.56 | D60: -123.45 | E60: -0.1234 | F60: -0.1234 | G60: -1234.56 | H60: -123.45 | I60: -1234.56 | J60: -0.1234
B61: Cero | C61: 0 | D61: 0 | E61: 0 | F61: 0 | G61: 0 | H61: 0 | I61: 0 | J61: 0
B62: Texto | C62: Texto | D62: Texto | E62: Texto | F62: Texto | G62: Texto | H62: Texto | I62: Texto | J62: Texto
C64: Moneda EUR | D64: Moneda EUR (2pd) | E64: Moneda Euro | F64: Moneda Euro (2pd)
B65: Positivo | C65: 1234.56 | D65: 123.45 | E65: 1234.56 | F65: 123.45
B66: Negativo | C66: -1234.56 | D66: -123.45 | E66: -1234.56 | F66: -123.45
B67: Cero | C67: 0 | D67: 0 | E67: 0 | F67: 0
B68: Texto | C68: Texto | D68: Texto | E68: Texto | F68: Texto
C70: Moneda USD | D70: Moneda USD (2pd) | E70: Moneda Dólar | F70: Modena Dólar (2pd)
B71: Positivo | C71: 1234.56 | D71: 123.45 | E71: 1234.56 | F71: 123.45
B72: Negativo | C72: -1234.56 | D72: -123.45 | E72: -1234.56 | F72: -123.45
B73: Cero | C73: 0 | D73: 0 | E73: 0 | F73: 0
B74: Texto | C74: Texto | D74: Texto | E74: Texto | F74: Texto
C76: Moneda GBP | D76: Moneda GBP (2dp) | E76: Moneda Libra Esterlina | F76: Moneda Libra Esterlina (2dp)
B77: Positivo | C77: 1234.56 | D77: 123.45 | E77: 1234.56 | F77: 123.45
B78: Negativo | C78: -1234.56 | D78: -123.45 | E78: -1234.56 | F78: -123.45
B79: Cero | C79: 0 | D79: 0 | E79: 0 | F79: 0
B80: Texto | C80: Texto | D80: Texto | E80: Texto | F80: Texto
C82: Fecha | D82: Fecha (mes) | E82: Fecha (año)
B83: Fecha | C83: 37591 | D83: 37591 | E83: 37591
A85: Estilos de títulos
A86: Utilizar estos estilos para formatear los títulos
A87: Nota: Estos estilos cambian sólo el tipo de letra utilizada en una celda
B89: H1 | C89: Título | E89: Nivel 1
B91: H2 | C91: Título | E91: Nivel 2
B93: H3 | C93: Título | E93: Nivel 3
B95: H4 | C95: Título | E95: Nivel 4
A97: Estilos de tablas
A98: Utilizar estos estilos para formatear las tablas de manera consistente
A99: Nota: Estos estilos cambian el formato de celda (según se desee en función del contexto)
A101: Una tabla simple
B102: Encabezado de la columna (texto alineado a la izquierda) | C102: Encabezado de la columna | D102: Encabezado de la columna | E102: Encabezado de la columna | F102: Encabezado de la columna
B103: Encabezado de la fila
B104: Encabezado de la fila
B105: Encabezado de la fila
B106: (Última fila)
A108: Ejemplo de una tabla más compleja
D109: Encabezado de la columa (sin ajustar el texto) | F109: Encabezado de la columna (sin ajustar el texto)
B110: Encabezado de la columna (texto alineado a la izquierda) | C110: Encabezado de la columna (no en negrita) | D110: Encabezado de la columna | E110: Encabezado de la columna | F110: Encabezado de la columna | G110: Encabezado de la columna
B111: Encabezado de la fila | D111: (tabla sin sombreado) | F111: (tabla con sombreado)
B112: Encabezado de la fila (sangría)
B113: Sub-total de fila
B114: Total de fila
A117: Ejemplos de uso
A118: Nota: Para evitar posibles confusiones y errores en esta plantilla, no se han creado los nombres falsos que se muestran a continuación
A120: Número de suscriptores (fin de año)
B121: Servicio | C121: Unidad | D121: Notas | E121: 2000 | F121: 2001 | G121: 2002 | H121: 2003 | I121: Suscriptores.Por servicio.Fin de año
B122: Dial-up | C122: Suscriptores | D122: Interpolación lineal | E122: 1000000 | F122: =E122+($H122-$E122)/3 -> 1000000 | G122: =F122+($H122-$E122)/3 -> 1000000 | H122: 1000000
B123: ADSL | C123: Suscriptores | D123: Interpolación lineal | E123: 100000 | F123: =E123+($H123-$E123)/3 -> 133333.33 | G123: =F123+($H123-$E123)/3 -> 166666.67 | H123: 200000
B124: Cable módem | C124: Suscriptores | D124: Interpolación lineal | E124: 50000 | F124: =E124+($H124-$E124)/3 -> 100000 | G124: =F124+($H124-$E124)/3 -> 150000 | H124: 200000
B125: Total | C125: Suscriptores | E125: =SUM(E122:E124) -> 1150000 | F125: =SUM(F122:F124) -> 1233333.3 | G125: =SUM(G122:G124) -> 1316666.7 | H125: =SUM(H122:H124) -> 1400000
A127: Número de suscriptores (fin de año)
B128: Servicio | C128: Unidad | D128: Notas | E128: 2000 | F128: 2001 | G128: 2002 | H128: 2003
B129: Dial-up | C129: Suscriptores | D129: Datos tomados de la tabla anterior | E129: {=$E$122:$H$124} -> 1000000 | F129: 1000000 | G129: 1000000 | H129: 1000000
B130: ADSL | C130: Suscriptores | D130: Datos tomados de la tabla anterior | E130: 100000 | F130: 133333.33 | G130: 166666.67 | H130: 200000
B131: Cable módem | C131: Suscriptores | D131: Datos tomados del fichero Cable_modem.xls | E131: 50000 | F131: 100000 | G131: 150000 | H131: 200000
B132: Total | C132: Suscriptores | E132: =SUM(E129:E131) -> 1150000 | F132: =SUM(F129:F131) -> 1233333.3 | G132: =SUM(G129:G131) -> 1316666.7 | H132: =SUM(H129:H131) -> 1400000
A135: Número de suscriptores (promedio simple)
B136: Servicio | C136: Unidad | D136: Notas | E136: 2000 | F136: 2001 | G136: 2002 | H136: 2003
B137: Dial-up | C137: Suscriptores | F137: =(F129+E129)/2 -> 1000000 | G137: =(G129+F129)/2 -> 1000000 | H137: =(H129+G129)/2 -> 1000000
B138: ADSL | C138: Suscriptores | F138: =(F130+E130)/2 -> 116666.67 | G138: =(G130+F130)/2 -> 150000 | H138: =(H130+G130)/2 -> 183333.33
B139: Cable módem | C139: Suscriptores | F139: =(F131+E131)/2 -> 75000 | G139: =(G131+F131)/2 -> 125000 | H139: =(H131+G131)/2 -> 175000
B140: Total | C140: Suscriptores | F140: =SUM(F137:F139) -> 1191666.7 | G140: =SUM(G137:G139) -> 1275000 | H140: =SUM(H137:H139) -> 1358333.3 | I140: Suscriptores.Promedio.Anual.Total

Sheet Listas
D1: Listas
C3: Velocidad de bajada | E3: Minutes to Mbps
C4: 2 | E4: 2355072.5
C5: 3 | E5: Network_minutes_per_Mbps
C6: 5
C7: 10
C8: 15
C9: 20
C10: 30
C11: 40
C12: 50 | E12: 1 | F12: =+E12+1 -> 2 | G12: =+F12+1 -> 3 | H12: =+G12+1 -> 4 | I12: =+H12+1 -> 5
C13: 60 | E13: 2022 | F13: =E13+1 -> 2023 | G13: =F13+1 -> 2024 | H13: =G13+1 -> 2025 | I13: =H13+1 -> 2026
C14: 70
C15: 80
C16: 100
C17: 120
C18: 150
C19: 200
C20: 250
C21: 300
C22: 350
C23: 400
C24: 500
C25: 750
C26: 1000
C27: vel.SAIB

Sheet Insumos
D1: Distribución según el tipo de servicio
K2: 1 | L2: =+K2+1 -> 2 | M2: =+L2+1 -> 3 | N2: =+M2+1 -> 4 | O2: =+N2+1 -> 5
E3: Fuente | F3: Notas | G3: Periodo | H3: Unidades | I3: Check | K3: 2022 | L3: =K3+1 -> 2023 | M3: =L3+1 -> 2024 | N3: =M3+1 -> 2025 | O3: =N3+1 -> 2026
A5: =MAX($A$1:$A4)+1 -> 1 | C5: Costo mensual por usuario
B7: Costo total SCyD
D9: Local | H9: MXN | K9: 5.7823514e+09 | L9: 6.5662114e+09 | M9: 7.3230729e+09 | N9: 8.0661272e+09 | O9: 8.7531277e+09
D10: Regional | H10: MXN | K10: 3.8672579e+09 | L10: 4.3585727e+09 | M10: 4.8256938e+09 | N10: 5.2780673e+09 | O10: 5.6888275e+09
D11: Nacional | H11: MXN | K11: 2776199.7 | L11: 3128779.6 | M11: 3463744.7 | N11: 3787829.1 | O11: 4081718.9
B13: Tráfico total SCyD
D14: Local | H14: Mbps | K14: 16073321 | L14: 17604412 | M14: 19035745 | N14: 20353731 | O14: 21576673
D15: Regional | H15: Mbps | K15: 7436083.1 | L15: 8144419.4 | M15: 8806604.4 | N15: 9416351.1 | O15: 9982127
D16: Nacional | H16: Mbps | K16: 3992.8978 | L16: 4373.2479 | M16: 4728.8164 | N16: 5056.2275 | O16: 5360.028
B18: Costo unitario del SCyD
D19: Local | H19: MXN/Mbps/mes | K19: =K9/K14/12 -> 29.979032 | L19: =L9/L14/12 -> 31.082225 | M19: =M9/M14/12 -> 32.058429 | N19: =N9/N14/12 -> 33.024769 | O19: =O9/O14/12 -> 33.806292
D20: Regional | H20: MXN/Mbps/mes | K20: =K10/K15/12 -> 43.338877 | L20: =L10/L15/12 -> 44.59672 | M20: =M10/M15/12 -> 45.663587 | N20: =N10/N15/12 -> 46.710126 | O20: =O10/O15/12 -> 47.491778
D21: Nacional | H21: MXN/Mbps/mes | K21: =K11/K16/12 -> 57.940368 | L21: =L11/L16/12 -> 59.619678 | M21: =M11/M16/12 -> 61.039669 | N21: =N11/N16/12 -> 62.428445 | O21: =O11/O16/12 -> 63.459229
D22: niveles.desagregacion
A24: =MAX($A$1:$A22)+1 -> 2 | C24: Factor de capacidad
C26: Factor simetría
D28: Simétrico | E28: IFT | M28: 1.7855127
D29: Asimétrico | E29: IFT | M29: 1
D30: simetria.SAIB | M30: factor.simetria.SAIB
C32: Factor calidad
D34: Calidad Best Effort | E34: IFT | M34: 1
D35: Calidad Datos Generales | E35: IFT | M35: 1.11015
D36: Calidad Doble | E36: IFT | M36: 1.2727637
D37: Calidad Triple | E37: IFT | M37: 1.42
D38: calidad.SAIB | M38: factor.calidad.SAIB
C40: Factor velocidad
C42: 2 | D42: 2 Mbps | E42: Estimación basado en datos de los operadores | M42: 0.4237123
C43: {=vel.SAIB} -> 2 | D43: 3 Mbps | E43: Estimación basado en datos de los operadores | M43: 0.51604389
C44: 3 | D44: 5 Mbps | E44: Estimación basado en datos de los operadores | M44: 0.66152994
C45: 5 | D45: 10 Mbps | E45: Estimación basado en datos de los operadores | M45: 0.92663839
C46: 10 | D46: 15 Mbps | E46: Estimación basado en datos de los operadores | M46: 1.1285631
C47: 15 | D47: 20 Mbps | E47: Estimación basado en datos de los operadores | M47: 1.2979892
C48: 20 | D48: 30 Mbps | E48: Estimación basado en datos de los operadores | M48: 1.5808354
C49: 30 | D49: 40 Mbps | E49: Estimación basado en datos de los operadores | M49: 1.818159
C50: 40 | D50: 50 Mbps | E50: Estimación basado en datos de los operadores | M50: 2.0265135
C51: 50 | D51: 60 Mbps | E51: Estimación basado en datos de los operadores | M51: 2.2143559
C52: 60 | D52: 70 Mbps | E52: Estimación basado en datos de los operadores | M52: 2.3866952
C53: 70 | D53: 80 Mbps | E53: Estimación basado en datos de los operadores | M53: 2.5467871
C54: 80 | D54: 100 Mbps | E54: Estimación basado en datos de los operadores | M54: 2.8386398
C55: 100 | D55: 120 Mbps | E55: Estimación basado en datos de los operadores | M55: 3.1017601
... C64: 750 | D64: 1000 Mbps | E64: Estimación basado en datos de los operadores | M64: 8.6958149
M65: factor.vel.SAIB
A67: =MAX($A$1:$A66)+1 -> 3 | C67: Costos de acceso
C69: Precio unitario
D70: Bucle de cobre | E70: Modelo Integral de Acceso Fijo y estimación AM | F70: Valores correspondientes al vigente para 2023, los años posteriores han sido estimados conforme a los datos del pasado (aplicando un crecimiento correspondiente a la tasa de crecimiento media de los últimos 5 años) - estos datos serán actualizados con los datos que se obtengán de la revisión del modelo Integral de Acceso Fijo | H70: MXN | K70: 96.61967 | L70: 100.12283 | M70: 89.312607 | N70: 92.492616 | O70: 96.627664
D71: Bucle de fibra | E71: Modelo Integral de Acceso Fijo y estimación AM | F71: Valores correspondientes al vigente para 2023, los años posteriores han sido estimados conforme a los datos del pasado (aplicando un crecimiento correspondiente a la tasa de crecimiento media de los últimos 5 años) - estos datos serán actualizados con los datos que se obtengán de la revisión del modelo Integral de Acceso Fijo | H71: MXN | K71: 88.134491 | L71: 85.169436 | M71: 102.63042 | N71: 102.50667 | O71: 102.15764
D72: Promedio bucles | E72: Modelo Integral de Acceso Fijo y estimación AM | F72: Valores correspondientes al vigente para 2023, los años posteriores han sido estimados conforme a los datos del pasado (aplicando un crecimiento correspondiente a la tasa de crecimiento media de los últimos 5 años) - estos datos serán actualizados con los datos que se obtengán de la revisión del modelo Integral de Acceso Fijo | H72: MXN | K72: =+AVERAGE(K70:K71) -> 92.377081 | L72: =+AVERAGE(L70:L71) -> 92.646133 | M72: =+AVERAGE(M70:M71) -> 95.971513 | N72: =+AVERAGE(N70:N71) -> 97.499641 | O72: =+AVERAGE(O70:O71) -> 99.392652
C74: Precio unitario por velocidad
D75: {=vel.SAIB} -> 2 | K75: =+K$72 -> 92.377081 | L75: =+L$72 -> 92.646133 | M75: =+M$72 -> 95.971513 | N75: =+N$72 -> 97.499641 | O75: =+O$72 -> 99.392652
D76: 3 | K76: =+K$72 -> 92.377081 | L76: =+L$72 -> 92.646133 | M76: =+M$72 -> 95.971513 | N76: =+N$72 -> 97.499641 | O76: =+O$72 -> 99.392652
D77: 5 | K77: =+K$72 -> 92.377081 | L77: =+L$72 -> 92.646133 | M77: =+M$72 -> 95.971513 | N77: =+N$72 -> 97.499641 | O77: =+O$72 -> 99.392652
D78: 10 | K78: =+K$71 -> 88.134491 | L78: =+L$71 -> 85.169436 | M78: =+M$71 -> 102.63042 | N78: =+N$71 -> 102.50667 | O78: =+O$71 -> 102.15764
D79: 15 | K79: =+K$71 -> 88.134491 | L79: =+L$71 -> 85.169436 | M79: =+M$71 -> 102.63042 | N79: =+N$71 -> 102.50667 | O79: =+O$71 -> 102.15764
D80: 20 | K80: =+K$71 -> 88.134491 | L80: =+L$71 -> 85.169436 | M80: =+M$71 -> 102.63042 | N80: =+N$71 -> 102.50667 | O80: =+O$71 -> 102.15764
D81: 30 | K81: =+K$71 -> 88.134491 | L81: =+L$71 -> 85.169436 | M81: =+M$71 -> 102.63042 | N81: =+N$71 -> 102.50667 | O81: =+O$71 -> 102.15764
D82: 40 | K82: =+K$71 -> 88.134491 | L82: =+L$71 -> 85.169436 | M82: =+M$71 -> 102.63042 | N82: =+N$71 -> 102.50667 | O82: =+O$71 -> 102.15764
D83: 50 | K83: =+K$71 -> 88.134491 | L83: =+L$71 -> 85.169436 | M83: =+M$71 -> 102.63042 | N83: =+N$71 -> 102.50667 | O83: =+O$71 -> 102.15764
D84: 60 | K84: =+K$71 -> 88.134491 | L84: =+L$71 -> 85.169436 | M84: =+M$71 -> 102.63042 | N84: =+N$71 -> 102.50667 | O84: =+O$71 -> 102.15764
D85: 70 | K85: =+K$71 -> 88.134491 | L85: =+L$71 -> 85.169436 | M85: =+M$71 -> 102.63042 | N85: =+N$71 -> 102.50667 | O85: =+O$71 -> 102.15764
D86: 80 | K86: =+K$71 -> 88.134491 | L86: =+L$71 -> 85.169436 | M86: =+M$71 -> 102.63042 | N86: =+N$71 -> 102.50667 | O86: =+O$71 -> 102.15764
D87: 100 | K87: =+K$71 -> 88.134491 | L87: =+L$71 -> 85.169436 | M87: =+M$71 -> 102.63042 | N87: =+N$71 -> 102.50667 | O87: =+O$71 -> 102.15764
D88: 120 | K88: =+K$71 -> 88.134491 | L88: =+L$71 -> 85.169436 | M88: =+M$71 -> 102.63042 | N88: =+N$71 -> 102.50667 | O88: =+O$71 -> 102.15764
D89: 150 | K89: =+K$71 -> 88.134491 | L89: =+L$71 -> 85.169436 | M89: =+M$71 -> 102.63042 | N89: =+N$71 -> 102.50667 | O89: =+O$71 -> 102.15764
... D97: 1000 | K97: =+K$71 -> 88.134491 | L97: =+L$71 -> 85.169436 | M97: =+M$71 -> 102.63042 | N97: =+N$71 -> 102.50667 | O97: =+O$71 -> 102.15764
P98: costos.acceso

Sheet Costo SCyD
D1: Cálculo del costo de transporte por tipo de servicio
O2: 2022 | P2: =O2+1 -> 2023 | Q2: =P2+1 -> 2024 | R2: =Q2+1 -> 2025 | S2: =R2+1 -> 2026
A3: 1 | C3: Costo mensual por cliente por tipo de servicio
B5: Costo mensual por cliente - Nacional | J5: Factor velocidad | K5: Factor calidad | L5: Factor simetria | M5: Factor total
C7: Simétrico
D8: Calidad Best Effort
A9: Nacional | B9: =+IF(D8="Calidad best effort",C7,B8) -> Simétrico | C9: =+IF(D9=2,D8,C8) -> Calidad Best Effort | D9: {=vel.SAIB} -> 2 | J9: =INDEX([0]!factor.vel.SAIB,MATCH(D9,vel.SAIB,0)) -> 0.4237123 | K9: =INDEX(factor.calidad.SAIB,MATCH(C9,calidad.SAIB,0)) -> 1 | L9: =INDEX(factor.simetria.SAIB,MATCH(B9,simetria.SAIB,0)) -> 1.7855127 | M9: =J9*K9*L9 -> 0.7565437 | O9: {=INDEX(costo.unitario,MATCH($A9:$A31,niveles.desagregacion,0),indice.tiempo)*M9:M31} -> 43.834421 | P9: 45.104892 | Q9: 46.179177 | R9: 47.229847 | S9: 48.00968
A10: Nacional | B10: =+IF(D9="Calidad best effort",C8,B9) -> Simétrico | C10: =+IF(D10=2,D9,C9) -> Calidad Best Effort | D10: 3 | E10: Cálculo | H10: MXN/linea/mes | J10: =INDEX([0]!factor.vel.SAIB,MATCH(D10,vel.SAIB,0)) -> 0.51604389 | K10: =INDEX(factor.calidad.SAIB,MATCH(C10,calidad.SAIB,0)) -> 1 | L10: =INDEX(factor.simetria.SAIB,MATCH(B10,simetria.SAIB,0)) -> 1.7855127 | M10: =J10*K10*L10 -> 0.92140293 | O10: 53.386425 | P10: 54.933746 | Q10: 56.24213 | R10: 57.521752 | S10: 58.471519
A11: Nacional | B11: =+IF(D10="Calidad best effort",C9,B10) -> Simétrico | C11: =+IF(D11=2,D10,C10) -> Calidad Best Effort | D11: 5 | E11: Cálculo | H11: MXN/linea/mes | J11: =INDEX(factor.vel.SAIB,MATCH(D11,vel.SAIB,0)) -> 0.66152994 | K11: =INDEX(factor.calidad.SAIB,MATCH(C11,calidad.SAIB,0)) -> 1 | L11: =INDEX(factor.simetria.SAIB,MATCH(B11,simetria.SAIB,0)) -> 1.7855127 | M11: =J11*K11*L11 -> 1.1811701 | O11: 68.437432 | P11: 70.420983 | Q11: 72.098233 | R11: 73.738614 | S11: 74.956145
A12: Nacional | B12: =+IF(D11="Calidad best effort",C10,B11) -> Simétrico | C12: =+IF(D12=2,D11,C11) -> Calidad Best Effort | D12: 10 | E12: Cálculo | H12: MXN/linea/mes | J12: =INDEX(factor.vel.SAIB,MATCH(D12,vel.SAIB,0)) -> 0.92663839 | K12: =INDEX(factor.calidad.SAIB,MATCH(C12,calidad.SAIB,0)) -> 1 | L12: =INDEX(factor.simetria.SAIB,MATCH(B12,simetria.SAIB,0)) -> 1.7855127 | M12: =J12*K12*L12 -> 1.6545246 | O12: 95.863766 | P12: 98.642226 | Q12: 100.99164 | R12: 103.2894 | S12: 104.99486
A13: Nacional | B13: =+IF(D12="Calidad best effort",C11,B12) -> Simétrico | C13: =+IF(D13=2,D12,C12) -> Calidad Best Effort | D13: 15 | E13: Cálculo | H13: MXN/linea/mes | J13: =INDEX(factor.vel.SAIB,MATCH(D13,vel.SAIB,0)) -> 1.1285631 | K13: =INDEX(factor.calidad.SAIB,MATCH(C13,calidad.SAIB,0)) -> 1 | L13: =INDEX(factor.simetria.SAIB,MATCH(B13,simetria.SAIB,0)) -> 1.7855127 | M13: =J13*K13*L13 -> 2.0150638 | O13: 116.75354 | P13: 120.13746 | Q13: 122.99883 | R13: 125.7973 | S13: 127.8744
A14: Nacional | B14: =+IF(D13="Calidad best effort",C12,B13) -> Simétrico | C14: =+IF(D14=2,D13,C13) -> Calidad Best Effort | D14: 20 | E14: Cálculo | H14: MXN/linea/mes | J14: =INDEX(factor.vel.SAIB,MATCH(D14,vel.SAIB,0)) -> 1.2979892 | K14: =INDEX(factor.calidad.SAIB,MATCH(C14,calidad.SAIB,0)) -> 1 | L14: =INDEX(factor.simetria.SAIB,MATCH(B14,simetria.SAIB,0)) -> 1.7855127 | M14: =J14*K14*L14 -> 2.3175762 | O14: 134.28122 | P14: 138.17315 | Q14: 141.46408 | R14: 144.68268 | S14: 147.0716
A15: Nacional | B15: =+IF(D14="Calidad best effort",C13,B14) -> Simétrico | C15: =+IF(D15=2,D14,C14) -> Calidad Best Effort | D15: 30 | E15: Cálculo | H15: MXN/linea/mes | J15: =INDEX(factor.vel.SAIB,MATCH(D15,vel.SAIB,0)) -> 1.5808354 | K15: =INDEX(factor.calidad.SAIB,MATCH(C15,calidad.SAIB,0)) -> 1 | L15: =INDEX(factor.simetria.SAIB,MATCH(B15,simetria.SAIB,0)) -> 1.7855127 | M15: =J15*K15*L15 -> 2.8226016 | O15: 163.54258 | P15: 168.2826 | Q15: 172.29067 | R15: 176.21063 | S15: 179.12012
A16: Nacional | B16: =+IF(D15="Calidad best effort",C14,B15) -> Simétrico | C16: =+IF(D16=2,D15,C15) -> Calidad Best Effort | D16: 40 | E16: Cálculo | H16: MXN/linea/mes | J16: =INDEX(factor.vel.SAIB,MATCH(D16,vel.SAIB,0)) -> 1.818159 | K16: =INDEX(factor.calidad.SAIB,MATCH(C16,calidad.SAIB,0)) -> 1 | L16: =INDEX(factor.simetria.SAIB,MATCH(B16,simetria.SAIB,0)) -> 1.7855127 | M16: =J16*K16*L16 -> 3.246346 | O16: 188.09448 | P16: 193.5461 | Q16: 198.15588 | R16: 202.66433 | S16: 206.01061
A17: Nacional | B17: =+IF(D16="Calidad best effort",C15,B16) -> Simétrico | C17: =+IF(D17=2,D16,C16) -> Calidad Best Effort | D17: 50 | E17: Cálculo | H17: MXN/linea/mes | J17: =INDEX(factor.vel.SAIB,MATCH(D17,vel.SAIB,0)) -> 2.0265135 | K17: =INDEX(factor.calidad.SAIB,MATCH(C17,calidad.SAIB,0)) -> 1 | L17: =INDEX(factor.simetria.SAIB,MATCH(B17,simetria.SAIB,0)) -> 1.7855127 | M17: =J17*K17*L17 -> 3.6183656 | O17: 209.64944 | P17: 215.7258 | Q17: 220.86384 | R17: 225.88894 | S17: 229.61869
A18: Nacional | B18: =+IF(D17="Calidad best effort",C16,B17) -> Simétrico | C18: =+IF(D18=2,D17,C17) -> Calidad Best Effort | D18: 60 | E18: Cálculo | H18: MXN/linea/mes | J18: =INDEX(factor.vel.SAIB,MATCH(D18,vel.SAIB,0)) -> 2.2143559 | K18: =INDEX(factor.calidad.SAIB,MATCH(C18,calidad.SAIB,0)) -> 1 | L18: =INDEX(factor.simetria.SAIB,MATCH(B18,simetria.SAIB,0)) -> 1.7855127 | M18: =J18*K18*L18 -> 3.9537606 | O18: 229.08235 | P18: 235.72194 | Q18: 241.33624 | R18: 246.82713 | S18: 250.9026
A19: Nacional | B19: =+IF(D18="Calidad best effort",C17,B18) -> Simétrico | C19: =+IF(D19=2,D18,C18) -> Calidad Best Effort | D19: 70 | E19: Cálculo | H19: MXN/linea/mes | J19: =INDEX(factor.vel.SAIB,MATCH(D19,vel.SAIB,0)) -> 2.3866952 | K19: =INDEX(factor.calidad.SAIB,MATCH(C19,calidad.SAIB,0)) -> 1 | L19: =INDEX(factor.simetria.SAIB,MATCH(B19,simetria.SAIB,0)) -> 1.7855127 | M19: =J19*K19*L19 -> 4.2614746 | O19: 246.91141 | P19: 254.06774 | Q19: 260.119 | R19: 266.03723 | S19: 270.42989
A20: Nacional | B20: =+IF(D19="Calidad best effort",C18,B19) -> Simétrico | C20: =+IF(D20=2,D19,C19) -> Calidad Best Effort | D20: 80 | E20: Cálculo | H20: MXN/linea/mes | J20: =INDEX(factor.vel.SAIB,MATCH(D20,vel.SAIB,0)) -> 2.5467871 | K20: =INDEX(factor.calidad.SAIB,MATCH(C20,calidad.SAIB,0)) -> 1 | L20: =INDEX(factor.simetria.SAIB,MATCH(B20,simetria.SAIB,0)) -> 1.7855127 | M20: =J20*K20*L20 -> 4.5473207 | O20: 263.47344 | P20: 271.1098 | Q20: 277.56695 | R20: 283.88216 | S20: 288.56947
A21: Nacional | B21: =+IF(D20="Calidad best effort",C19,B20) -> Simétrico | C21: =+IF(D21=2,D20,C20) -> Calidad Best Effort | D21: 100 | E21: Cálculo | H21: MXN/linea/mes | J21: =INDEX(factor.vel.SAIB,MATCH(D21,vel.SAIB,0)) -> 2.8386398 | K21: =INDEX(factor.calidad.SAIB,MATCH(C21,calidad.SAIB,0)) -> 1 | L21: =INDEX(factor.simetria.SAIB,MATCH(B21,simetria.SAIB,0)) -> 1.7855127 | M21: =J21*K21*L21 -> 5.0684275 | O21: 293.66655 | P21: 302.17801 | Q21: 309.37514 | R21: 316.41404 | S21: 321.6385
A22: Nacional | B22: =+IF(D21="Calidad best effort",C20,B21) -> Simétrico | C22: =+IF(D22=2,D21,C21) -> Calidad Best Effort | D22: 120 | E22: Cálculo | H22: MXN/linea/mes | J22: =INDEX(factor.vel.SAIB,MATCH(D22,vel.SAIB,0)) -> 3.1017601 | K22: =INDEX(factor.calidad.SAIB,MATCH(C22,calidad.SAIB,0)) -> 1 | L22: =INDEX(factor.simetria.SAIB,MATCH(B22,simetria.SAIB,0)) -> 1.7855127 | M22: =J22*K22*L22 -> 5.5382322 | O22: 320.88721 | P22: 330.18762 | Q22: 338.05186 | R22: 345.74322 | S22: 351.45194
... A31: Nacional | B31: =+IF(D30="Calidad best effort",C29,B30) -> Simétrico | C31: =+IF(D31=2,D30,C30) -> Calidad Best Effort | D31: 1000 | E31: Cálculo | H31: MXN/linea/mes | J31: =INDEX(factor.vel.SAIB,MATCH(D31,vel.SAIB,0)) -> 8.6958149 | K31: =INDEX(factor.calidad.SAIB,MATCH(C31,calidad.SAIB,0)) -> 1 | L31: =INDEX(factor.simetria.SAIB,MATCH(B31,simetria.SAIB,0)) -> 1.7855127 | M31: =J31*K31*L31 -> 15.526488 | O31: 899.61044 | P31: 925.68423 | Q31: 947.7317 | R31: 969.29451 | S31: 985.29896
A32: Nacional | B32: =+IF(D30="Calidad best effort",C29,B30) -> Simétrico | C32: =+IF(D32=2,D30,C30) -> Calidad Best Effort | D32: Calidad Datos Generales
A33: Nacional | B33: =+IF(D32="Calidad best effort",C30,B32) -> Simétrico | C33: =+IF(D33=2,D32,C32) -> Calidad Datos Generales | D33: {=vel.SAIB} -> 2 | J33: =INDEX(factor.vel.SAIB,MATCH(D33,vel.SAIB,0)) -> 0.4237123 | K33: =INDEX(factor.calidad.SAIB,MATCH(C33,calidad.SAIB,0)) -> 1.11015 | L33: =INDEX(factor.simetria.SAIB,MATCH(B33,simetria.SAIB,0)) -> 1.7855127 | M33: =J33*K33*L33 -> 0.83987701 | O33: {=INDEX(costo.unitario,MATCH($A33:$A55,niveles.desagregacion,0),indice.tiempo)*M33:M55} -> 48.662784 | P33: 50.073197 | Q33: 51.265815 | R33: 52.432216 | S33: 53.297947
A34: Nacional | B34: =+IF(D33="Calidad best effort",C32,B33) -> Simétrico | C34: =+IF(D34=2,D33,C33) -> Calidad Datos Generales | D34: 3 | E34: Cálculo | H34: MXN/linea/mes | J34: =INDEX(factor.vel.SAIB,MATCH(D34,vel.SAIB,0)) -> 0.51604389 | K34: =INDEX(factor.calidad.SAIB,MATCH(C34,calidad.SAIB,0)) -> 1.11015 | L34: =INDEX(factor.simetria.SAIB,MATCH(B34,simetria.SAIB,0)) -> 1.7855127 | M34: =J34*K34*L34 -> 1.0228955 | O34: 59.266942 | P34: 60.9847 | Q34: 62.437203 | R34: 63.857775 | S34: 64.912159
A35: Nacional | B35: =+IF(D34="Calidad best effort",C33,B34) -> Simétrico | C35: =+IF(D35=2,D34,C34) -> Calidad Datos Generales | D35: 5 | E35: Cálculo | H35: MXN/linea/mes | J35: =INDEX(factor.vel.SAIB,MATCH(D35,vel.SAIB,0)) -> 0.66152994 | K35: =INDEX(factor.calidad.SAIB,MATCH(C35,calidad.SAIB,0)) -> 1.11015 | L35: =INDEX(factor.simetria.SAIB,MATCH(B35,simetria.SAIB,0)) -> 1.7855127 | M35: =J35*K35*L35 -> 1.311276 | O35: 75.975817 | P35: 78.177856 | Q35: 80.039856 | R35: 81.860924 | S35: 83.212566
A36: Nacional | B36: =+IF(D35="Calidad best effort",C34,B35) -> Simétrico | C36: =+IF(D36=2,D35,C35) -> Calidad Datos Generales | D36: 10 | E36: Cálculo | H36: MXN/linea/mes | J36: =INDEX(factor.vel.SAIB,MATCH(D36,vel.SAIB,0)) -> 0.92663839 | K36: =INDEX(factor.calidad.SAIB,MATCH(C36,calidad.SAIB,0)) -> 1.11015 | L36: =INDEX(factor.simetria.SAIB,MATCH(B36,simetria.SAIB,0)) -> 1.7855127 | M36: =J36*K36*L36 -> 1.8367706 | O36: 106.42316 | P36: 109.50767 | Q36: 112.11587 | R36: 114.66673 | S36: 116.56004
A37: Nacional | B37: =+IF(D36="Calidad best effort",C35,B36) -> Simétrico | C37: =+IF(D37=2,D36,C36) -> Calidad Datos Generales | D37: 15 | E37: Cálculo | H37: MXN/linea/mes | J37: =INDEX(factor.vel.SAIB,MATCH(D37,vel.SAIB,0)) -> 1.1285631 | K37: =INDEX(factor.calidad.SAIB,MATCH(C37,calidad.SAIB,0)) -> 1.11015 | L37: =INDEX(factor.simetria.SAIB,MATCH(B37,simetria.SAIB,0)) -> 1.7855127 | M37: =J37*K37*L37 -> 2.2370232 | O37: 129.61395 | P37: 133.3706 | Q37: 136.54715 | R37: 139.65388 | S37: 141.95976
A38: Nacional | B38: =+IF(D37="Calidad best effort",C36,B37) -> Simétrico | C38: =+IF(D38=2,D37,C37) -> Calidad Datos Generales | D38: 20 | E38: Cálculo | H38: MXN/linea/mes | J38: =INDEX(factor.vel.SAIB,MATCH(D38,vel.SAIB,0)) -> 1.2979892 | K38: =INDEX(factor.calidad.SAIB,MATCH(C38,calidad.SAIB,0)) -> 1.11015 | L38: =INDEX(factor.simetria.SAIB,MATCH(B38,simetria.SAIB,0)) -> 1.7855127 | M38: =J38*K38*L38 -> 2.5728573 | O38: 149.0723 | P38: 153.39292 | Q38: 157.04636 | R38: 160.61948 | S38: 163.27154
A39: Nacional | B39: =+IF(D38="Calidad best effort",C37,B38) -> Simétrico | C39: =+IF(D39=2,D38,C38) -> Calidad Datos Generales | D39: 30 | E39: Cálculo | H39: MXN/linea/mes | J39: =INDEX(factor.vel.SAIB,MATCH(D39,vel.SAIB,0)) -> 1.5808354 | K39: =INDEX(factor.calidad.SAIB,MATCH(C39,calidad.SAIB,0)) -> 1.11015 | L39: =INDEX(factor.simetria.SAIB,MATCH(B39,simetria.SAIB,0)) -> 1.7855127 | M39: =J39*K39*L39 -> 3.1335113 | O39: 181.5568 | P39: 186.81894 | Q39: 191.26849 | R39: 195.62024 | S39: 198.85021
A40: Nacional | B40: =+IF(D39="Calidad best effort",C38,B39) -> Simétrico | C40: =+IF(D40=2,D39,C39) -> Calidad Datos Generales | D40: 40 | E40: Cálculo | H40: MXN/linea/mes | J40: =INDEX(factor.vel.SAIB,MATCH(D40,vel.SAIB,0)) -> 1.818159 | K40: =INDEX(factor.calidad.SAIB,MATCH(C40,calidad.SAIB,0)) -> 1.11015 | L40: =INDEX(factor.simetria.SAIB,MATCH(B40,simetria.SAIB,0)) -> 1.7855127 | M40: =J40*K40*L40 -> 3.6039311 | O40: 208.8131 | P40: 214.86521 | Q40: 219.98276 | R40: 224.98781 | S40: 228.70269
A41: Nacional | B41: =+IF(D40="Calidad best effort",C39,B40) -> Simétrico | C41: =+IF(D41=2,D40,C40) -> Calidad Datos Generales | D41: 50 | E41: Cálculo | H41: MXN/linea/mes | J41: =INDEX(factor.vel.SAIB,MATCH(D41,vel.SAIB,0)) -> 2.0265135 | K41: =INDEX(factor.calidad.SAIB,MATCH(C41,calidad.SAIB,0)) -> 1.11015 | L41: =INDEX(factor.simetria.SAIB,MATCH(B41,simetria.SAIB,0)) -> 1.7855127 | M41: =J41*K41*L41 -> 4.0169287 | O41: 232.74233 | P41: 239.488 | Q41: 245.192 | R41: 250.77061 | S41: 254.9112
A42: Nacional | B42: =+IF(D41="Calidad best effort",C40,B41) -> Simétrico | C42: =+IF(D42=2,D41,C41) -> Calidad Datos Generales | D42: 60 | E42: Cálculo | H42: MXN/linea/mes | J42: =INDEX(factor.vel.SAIB,MATCH(D42,vel.SAIB,0)) -> 2.2143559 | K42: =INDEX(factor.calidad.SAIB,MATCH(C42,calidad.SAIB,0)) -> 1.11015 | L42: =INDEX(factor.simetria.SAIB,MATCH(B42,simetria.SAIB,0)) -> 1.7855127 | M42: =J42*K42*L42 -> 4.3892675 | O42: 254.31578 | P42: 261.68672 | Q42: 267.91944 | R42: 274.01514 | S42: 278.53953
A43: Nacional | B43: =+IF(D42="Calidad best effort",C41,B42) -> Simétrico | C43: =+IF(D43=2,D42,C42) -> Calidad Datos Generales | D43: 70 | E43: Cálculo | H43: MXN/linea/mes | J43: =INDEX(factor.vel.SAIB,MATCH(D43,vel.SAIB,0)) -> 2.3866952 | K43: =INDEX(factor.calidad.SAIB,MATCH(C43,calidad.SAIB,0)) -> 1.11015 | L43: =INDEX(factor.simetria.SAIB,MATCH(B43,simetria.SAIB,0)) -> 1.7855127 | M43: =J43*K43*L43 -> 4.7308761 | O43: 274.10871 | P43: 282.05331 | Q43: 288.77112 | R43: 295.34124 | S43: 300.21775
A44: Nacional | B44: =+IF(D43="Calidad best effort",C42,B43) -> Simétrico | C44: =+IF(D44=2,D43,C43) -> Calidad Datos Generales | D44: 80 | E44: Cálculo | H44: MXN/linea/mes | J44: =INDEX(factor.vel.SAIB,MATCH(D44,vel.SAIB,0)) -> 2.5467871 | K44: =INDEX(factor.calidad.SAIB,MATCH(C44,calidad.SAIB,0)) -> 1.11015 | L44: =INDEX(factor.simetria.SAIB,MATCH(B44,simetria.SAIB,0)) -> 1.7855127 | M44: =J44*K44*L44 -> 5.0482083 | O44: 292.49505 | P44: 300.97255 | Q44: 308.14096 | R44: 315.15179 | S44: 320.3554
A45: Nacional | B45: =+IF(D44="Calidad best effort",C43,B44) -> Simétrico | C45: =+IF(D45=2,D44,C44) -> Calidad Datos Generales | D45: 100 | E45: Cálculo | H45: MXN/linea/mes | J45: =INDEX(factor.vel.SAIB,MATCH(D45,vel.SAIB,0)) -> 2.8386398 | K45: =INDEX(factor.calidad.SAIB,MATCH(C45,calidad.SAIB,0)) -> 1.11015 | L45: =INDEX(factor.simetria.SAIB,MATCH(B45,simetria.SAIB,0)) -> 1.7855127 | M45: =J45*K45*L45 -> 5.6267149 | O45: 326.01394 | P45: 335.46293 | Q45: 343.45282 | R45: 351.26706 | S45: 357.06699
... A55: Nacional | B55: =+IF(D54="Calidad best effort",C53,B54) -> Simétrico | C55: =+IF(D55=2,D54,C54) -> Calidad Datos Generales | D55: 1000 | E55: Cálculo | H55: MXN/linea/mes | J55: =INDEX(factor.vel.SAIB,MATCH(D55,vel.SAIB,0)) -> 8.6958149 | K55: =INDEX(factor.calidad.SAIB,MATCH(C55,calidad.SAIB,0)) -> 1.11015 | L55: =INDEX(factor.simetria.SAIB,MATCH(B55,simetria.SAIB,0)) -> 1.7855127 | M55: =J55*K55*L55 -> 17.236731 | O55: 998.70256 | P55: 1027.6484 | Q55: 1052.1244 | R55: 1076.0623 | S55: 1093.8297
A56: Nacional | B56: =+IF(D54="Calidad best effort",C53,B54) -> Simétrico | C56: =+IF(D56=2,D54,C54) -> Calidad Datos Generales | D56: Calidad Doble
A57: Nacional | B57: =+IF(D56="Calidad best effort",C54,B56) -> Simétrico | C57: =+IF(D57=2,D56,C56) -> Calidad Doble | D57: {=vel.SAIB} -> 2 | J57: =INDEX(factor.vel.SAIB,MATCH(D57,vel.SAIB,0)) -> 0.4237123 | K57: =INDEX(factor.calidad.SAIB,MATCH(C57,calidad.SAIB,0)) -> 1.2727637 | L57: =INDEX(factor.simetria.SAIB,MATCH(B57,simetria.SAIB,0)) -> 1.7855127 | M57: =J57*K57*L57 -> 0.96290134 | O57: {=INDEX(costo.unitario,MATCH($A57:$A79,niveles.desagregacion,0),indice.tiempo)*M57:M79} -> 55.790859 | P57: 57.407868 | Q57: 58.775179 | R57: 60.112433 | S57: 61.104976
A58: Nacional | B58: =+IF(D57="Calidad best effort",C56,B57) -> Simétrico | C58: =+IF(D58=2,D57,C57) -> Calidad Doble | D58: 3 | E58: Cálculo | H58: MXN/linea/mes | J58: =INDEX(factor.vel.SAIB,MATCH(D58,vel.SAIB,0)) -> 0.51604389 | K58: =INDEX(factor.calidad.SAIB,MATCH(C58,calidad.SAIB,0)) -> 1.2727637 | L58: =INDEX(factor.simetria.SAIB,MATCH(B58,simetria.SAIB,0)) -> 1.7855127 | M58: =J58*K58*L58 -> 1.1727282 | O58: 67.948303 | P58: 69.917677 | Q58: 71.58294 | R58: 73.211597 | S58: 74.420426
A59: Nacional | B59: =+IF(D58="Calidad best effort",C57,B58) -> Simétrico | C59: =+IF(D59=2,D58,C58) -> Calidad Doble | D59: 5 | E59: Cálculo | H59: MXN/linea/mes | J59: =INDEX(factor.vel.SAIB,MATCH(D59,vel.SAIB,0)) -> 0.66152994 | K59: =INDEX(factor.calidad.SAIB,MATCH(C59,calidad.SAIB,0)) -> 1.2727637 | L59: =INDEX(factor.simetria.SAIB,MATCH(B59,simetria.SAIB,0)) -> 1.7855127 | M59: =J59*K59*L59 -> 1.5033504 | O59: 87.104678 | P59: 89.629269 | Q59: 91.764013 | R59: 93.851829 | S59: 95.401458
A60: Nacional | B60: =+IF(D59="Calidad best effort",C58,B59) -> Simétrico | C60: =+IF(D60=2,D59,C59) -> Calidad Doble | D60: 10 | E60: Cálculo | H60: MXN/linea/mes | J60: =INDEX(factor.vel.SAIB,MATCH(D60,vel.SAIB,0)) -> 0.92663839 | K60: =INDEX(factor.calidad.SAIB,MATCH(C60,calidad.SAIB,0)) -> 1.2727637 | L60: =INDEX(factor.simetria.SAIB,MATCH(B60,simetria.SAIB,0)) -> 1.7855127 | M60: =J60*K60*L60 -> 2.1058188 | O60: 122.01192 | P60: 125.54824 | Q60: 128.53849 | R60: 131.463 | S60: 133.63364
A61: Nacional | B61: =+IF(D60="Calidad best effort",C59,B60) -> Simétrico | C61: =+IF(D61=2,D60,C60) -> Calidad Doble | D61: 15 | E61: Cálculo | H61: MXN/linea/mes | J61: =INDEX(factor.vel.SAIB,MATCH(D61,vel.SAIB,0)) -> 1.1285631 | K61: =INDEX(factor.calidad.SAIB,MATCH(C61,calidad.SAIB,0)) -> 1.2727637 | L61: =INDEX(factor.simetria.SAIB,MATCH(B61,simetria.SAIB,0)) -> 1.7855127 | M61: =J61*K61*L61 -> 2.5647 | O61: 148.59967 | P61: 152.90659 | Q61: 156.54844 | R61: 160.11024 | S61: 162.75389
A62: Nacional | B62: =+IF(D61="Calidad best effort",C60,B61) -> Simétrico | C62: =+IF(D62=2,D61,C61) -> Calidad Doble | D62: 20 | E62: Cálculo | H62: MXN/linea/mes | J62: =INDEX(factor.vel.SAIB,MATCH(D62,vel.SAIB,0)) -> 1.2979892 | K62: =INDEX(factor.calidad.SAIB,MATCH(C62,calidad.SAIB,0)) -> 1.2727637 | L62: =INDEX(factor.simetria.SAIB,MATCH(B62,simetria.SAIB,0)) -> 1.7855127 | M62: =J62*K62*L62 -> 2.9497268 | O62: 170.90826 | P62: 175.86176 | Q62: 180.05035 | R62: 184.14686 | S62: 187.18739
A63: Nacional | B63: =+IF(D62="Calidad best effort",C61,B62) -> Simétrico | C63: =+IF(D63=2,D62,C62) -> Calidad Doble | D63: 30 | E63: Cálculo | H63: MXN/linea/mes | J63: =INDEX(factor.vel.SAIB,MATCH(D63,vel.SAIB,0)) -> 1.5808354 | K63: =INDEX(factor.calidad.SAIB,MATCH(C63,calidad.SAIB,0)) -> 1.2727637 | L63: =INDEX(factor.simetria.SAIB,MATCH(B63,simetria.SAIB,0)) -> 1.7855127 | M63: =J63*K63*L63 -> 3.5925048 | O63: 208.15105 | P63: 214.18398 | Q63: 219.28531 | R63: 224.27449 | S63: 227.97759
A64: Nacional | B64: =+IF(D63="Calidad best effort",C62,B63) -> Simétrico | C64: =+IF(D64=2,D63,C63) -> Calidad Doble | D64: 40 | E64: Cálculo | H64: MXN/linea/mes | J64: =INDEX(factor.vel.SAIB,MATCH(D64,vel.SAIB,0)) -> 1.818159 | K64: =INDEX(factor.calidad.SAIB,MATCH(C64,calidad.SAIB,0)) -> 1.2727637 | L64: =INDEX(factor.simetria.SAIB,MATCH(B64,simetria.SAIB,0)) -> 1.7855127 | M64: =J64*K64*L64 -> 4.1318313 | O64: 239.39983 | P64: 246.33845 | Q64: 252.20561 | R64: 257.9438 | S64: 262.20282
A65: Nacional | B65: =+IF(D64="Calidad best effort",C63,B64) -> Simétrico | C65: =+IF(D65=2,D64,C64) -> Calidad Doble | D65: 50 | E65: Cálculo | H65: MXN/linea/mes | J65: =INDEX(factor.vel.SAIB,MATCH(D65,vel.SAIB,0)) -> 2.0265135 | K65: =INDEX(factor.calidad.SAIB,MATCH(C65,calidad.SAIB,0)) -> 1.2727637 | L65: =INDEX(factor.simetria.SAIB,MATCH(B65,simetria.SAIB,0)) -> 1.7855127 | M65: =J65*K65*L65 -> 4.6053244 | O65: 266.83419 | P65: 274.56796 | Q65: 281.10748 | R65: 287.50324 | S65: 292.25033
A66: Nacional | B66: =+IF(D65="Calidad best effort",C64,B65) -> Simétrico | C66: =+IF(D66=2,D65,C65) -> Calidad Doble | D66: 60 | E66: Cálculo | H66: MXN/linea/mes | J66: =INDEX(factor.vel.SAIB,MATCH(D66,vel.SAIB,0)) -> 2.2143559 | K66: =INDEX(factor.calidad.SAIB,MATCH(C66,calidad.SAIB,0)) -> 1.2727637 | L66: =INDEX(factor.simetria.SAIB,MATCH(B66,simetria.SAIB,0)) -> 1.7855127 | M66: =J66*K66*L66 -> 5.0322029 | O66: 291.56769 | P66: 300.01832 | Q66: 307.164 | R66: 314.1526 | S66: 319.33972
A67: Nacional | B67: =+IF(D66="Calidad best effort",C65,B66) -> Simétrico | C67: =+IF(D67=2,D66,C66) -> Calidad Doble | D67: 70 | E67: Cálculo | H67: MXN/linea/mes | J67: =INDEX(factor.vel.SAIB,MATCH(D67,vel.SAIB,0)) -> 2.3866952 | K67: =INDEX(factor.calidad.SAIB,MATCH(C67,calidad.SAIB,0)) -> 1.2727637 | L67: =INDEX(factor.simetria.SAIB,MATCH(B67,simetria.SAIB,0)) -> 1.7855127 | M67: =J67*K67*L67 -> 5.4238501 | O67: 314.25987 | P67: 323.3682 | Q67: 331.07001 | R67: 338.60252 | S67: 344.19334
A68: Nacional | B68: =+IF(D67="Calidad best effort",C66,B67) -> Simétrico | C68: =+IF(D68=2,D67,C67) -> Calidad Doble | D68: 80 | E68: Cálculo | H68: MXN/linea/mes | J68: =INDEX(factor.vel.SAIB,MATCH(D68,vel.SAIB,0)) -> 2.5467871 | K68: =INDEX(factor.calidad.SAIB,MATCH(C68,calidad.SAIB,0)) -> 1.2727637 | L68: =INDEX(factor.simetria.SAIB,MATCH(B68,simetria.SAIB,0)) -> 1.7855127 | M68: =J68*K68*L68 -> 5.7876647 | O68: 335.33942 | P68: 345.05871 | Q68: 353.27714 | R68: 361.3149 | S68: 367.28074
A69: Nacional | B69: =+IF(D68="Calidad best effort",C67,B68) -> Simétrico | C69: =+IF(D69=2,D68,C68) -> Calidad Doble | D69: 100 | E69: Cálculo | H69: MXN/linea/mes | J69: =INDEX(factor.vel.SAIB,MATCH(D69,vel.SAIB,0)) -> 2.8386398 | K69: =INDEX(factor.calidad.SAIB,MATCH(C69,calidad.SAIB,0)) -> 1.2727637 | L69: =INDEX(factor.simetria.SAIB,MATCH(B69,simetria.SAIB,0)) -> 1.7855127 | M69: =J69*K69*L69 -> 6.4509104 | O69: 373.76812 | P69: 384.6012 | Q69: 393.76144 | R69: 402.7203 | S69: 409.3698
... A79: Nacional | B79: =+IF(D78="Calidad best effort",C77,B78) -> Simétrico | C79: =+IF(D79=2,D78,C78) -> Calidad Doble | D79: 1000 | E79: Cálculo | H79: MXN/linea/mes | J79: =INDEX(factor.vel.SAIB,MATCH(D79,vel.SAIB,0)) -> 8.6958149 | K79: =INDEX(factor.calidad.SAIB,MATCH(C79,calidad.SAIB,0)) -> 1.2727637 | L79: =INDEX(factor.simetria.SAIB,MATCH(B79,simetria.SAIB,0)) -> 1.7855127 | M79: =J79*K79*L79 -> 19.76155 | O79: 1144.9915 | P79: 1178.1773 | Q79: 1206.2385 | R79: 1233.6828 | S79: 1254.0527
A80: Nacional | B80: =+IF(D78="Calidad best effort",C77,B78) -> Simétrico | C80: =+IF(D80=2,D78,C78) -> Calidad Doble | D80: Calidad Triple
A81: Nacional | B81: =+IF(D80="Calidad best effort",C78,B80) -> Simétrico | C81: =+IF(D81=2,D80,C80) -> Calidad Triple | D81: {=vel.SAIB} -> 2 | J81: =INDEX(factor.vel.SAIB,MATCH(D81,vel.SAIB,0)) -> 0.4237123 | K81: =INDEX(factor.calidad.SAIB,MATCH(C81,calidad.SAIB,0)) -> 1.42 | L81: =INDEX(factor.simetria.SAIB,MATCH(B81,simetria.SAIB,0)) -> 1.7855127 | M81: =J81*K81*L81 -> 1.0742921 | O81: {=INDEX(costo.unitario,MATCH($A81:$A103,niveles.desagregacion,0),indice.tiempo)*M81:M103} -> 62.244877 | P81: 64.048947 | Q81: 65.574432 | R81: 67.066382 | S81: 68.173745
A82: Nacional | B82: =+IF(D81="Calidad best effort",C80,B81) -> Simétrico | C82: =+IF(D82=2,D81,C81) -> Calidad Triple | D82: 3 | E82: Cálculo | H82: MXN/linea/mes | J82: =INDEX(factor.vel.SAIB,MATCH(D82,vel.SAIB,0)) -> 0.51604389 | K82: =INDEX(factor.calidad.SAIB,MATCH(C82,calidad.SAIB,0)) -> 1.42 | L82: =INDEX(factor.simetria.SAIB,MATCH(B82,simetria.SAIB,0)) -> 1.7855127 | M82: =J82*K82*L82 -> 1.3083922 | O82: 75.808724 | P82: 78.00592 | Q82: 79.863825 | R82: 81.680888 | S82: 83.029557
A83: Nacional | B83: =+IF(D82="Calidad best effort",C81,B82) -> Simétrico | C83: =+IF(D83=2,D82,C82) -> Calidad Triple | D83: 5 | E83: Cálculo | H83: MXN/linea/mes | J83: =INDEX(factor.vel.SAIB,MATCH(D83,vel.SAIB,0)) -> 0.66152994 | K83: =INDEX(factor.calidad.SAIB,MATCH(C83,calidad.SAIB,0)) -> 1.42 | L83: =INDEX(factor.simetria.SAIB,MATCH(B83,simetria.SAIB,0)) -> 1.7855127 | M83: =J83*K83*L83 -> 1.6772616 | O83: 97.181153 | P83: 99.997795 | Q83: 102.37949 | R83: 104.70883 | S83: 106.43773
A84: Nacional | B84: =+IF(D83="Calidad best effort",C82,B83) -> Simétrico | C84: =+IF(D84=2,D83,C83) -> Calidad Triple | D84: 10 | E84: Cálculo | H84: MXN/linea/mes | J84: =INDEX(factor.vel.SAIB,MATCH(D84,vel.SAIB,0)) -> 0.92663839 | K84: =INDEX(factor.calidad.SAIB,MATCH(C84,calidad.SAIB,0)) -> 1.42 | L84: =INDEX(factor.simetria.SAIB,MATCH(B84,simetria.SAIB,0)) -> 1.7855127 | M84: =J84*K84*L84 -> 2.349425 | O84: 136.12655 | P84: 140.07196 | Q84: 143.40812 | R84: 146.67095 | S84: 149.0927
A85: Nacional | B85: =+IF(D84="Calidad best effort",C83,B84) -> Simétrico | C85: =+IF(D85=2,D84,C84) -> Calidad Triple | D85: 15 | E85: Cálculo | H85: MXN/linea/mes | J85: =INDEX(factor.vel.SAIB,MATCH(D85,vel.SAIB,0)) -> 1.1285631 | K85: =INDEX(factor.calidad.SAIB,MATCH(C85,calidad.SAIB,0)) -> 1.42 | L85: =INDEX(factor.simetria.SAIB,MATCH(B85,simetria.SAIB,0)) -> 1.7855127 | M85: =J85*K85*L85 -> 2.8613906 | O85: 165.79003 | P85: 170.59519 | Q85: 174.65834 | R85: 178.63217 | S85: 181.58164
A86: Nacional | B86: =+IF(D85="Calidad best effort",C84,B85) -> Simétrico | C86: =+IF(D86=2,D85,C85) -> Calidad Triple | D86: 20 | E86: Cálculo | H86: MXN/linea/mes | J86: =INDEX(factor.vel.SAIB,MATCH(D86,vel.SAIB,0)) -> 1.2979892 | K86: =INDEX(factor.calidad.SAIB,MATCH(C86,calidad.SAIB,0)) -> 1.42 | L86: =INDEX(factor.simetria.SAIB,MATCH(B86,simetria.SAIB,0)) -> 1.7855127 | M86: =J86*K86*L86 -> 3.2909582 | O86: 190.67933 | P86: 196.20587 | Q86: 200.879 | R86: 205.4494 | S86: 208.84167
A87: Nacional | B87: =+IF(D86="Calidad best effort",C85,B86) -> Simétrico | C87: =+IF(D87=2,D86,C86) -> Calidad Triple | D87: 30 | E87: Cálculo | H87: MXN/linea/mes | J87: =INDEX(factor.vel.SAIB,MATCH(D87,vel.SAIB,0)) -> 1.5808354 | K87: =INDEX(factor.calidad.SAIB,MATCH(C87,calidad.SAIB,0)) -> 1.42 | L87: =INDEX(factor.simetria.SAIB,MATCH(B87,simetria.SAIB,0)) -> 1.7855127 | M87: =J87*K87*L87 -> 4.0080943 | O87: 232.23046 | P87: 238.96129 | Q87: 244.65275 | R87: 250.2191 | S87: 254.35057
A88: Nacional | B88: =+IF(D87="Calidad best effort",C86,B87) -> Simétrico | C88: =+IF(D88=2,D87,C87) -> Calidad Triple | D88: 40 | E88: Cálculo | H88: MXN/linea/mes | J88: =INDEX(factor.vel.SAIB,MATCH(D88,vel.SAIB,0)) -> 1.818159 | K88: =INDEX(factor.calidad.SAIB,MATCH(C88,calidad.SAIB,0)) -> 1.42 | L88: =INDEX(factor.simetria.SAIB,MATCH(B88,simetria.SAIB,0)) -> 1.7855127 | M88: =J88*K88*L88 -> 4.6098113 | O88: 267.09416 | P88: 274.83547 | Q88: 281.38136 | R88: 287.78335 | S88: 292.53507
A89: Nacional | B89: =+IF(D88="Calidad best effort",C87,B88) -> Simétrico | C89: =+IF(D89=2,D88,C88) -> Calidad Triple | D89: 50 | E89: Cálculo | H89: MXN/linea/mes | J89: =INDEX(factor.vel.SAIB,MATCH(D89,vel.SAIB,0)) -> 2.0265135 | K89: =INDEX(factor.calidad.SAIB,MATCH(C89,calidad.SAIB,0)) -> 1.42 | L89: =INDEX(factor.simetria.SAIB,MATCH(B89,simetria.SAIB,0)) -> 1.7855127 | M89: =J89*K89*L89 -> 5.1380792 | O89: 297.7022 | P89: 306.33063 | Q89: 313.62666 | R89: 320.7623 | S89: 326.05854
A90: Nacional | B90: =+IF(D89="Calidad best effort",C88,B89) -> Simétrico | C90: =+IF(D90=2,D89,C89) -> Calidad Triple | D90: 60 | E90: Cálculo | H90: MXN/linea/mes | J90: =INDEX(factor.vel.SAIB,MATCH(D90,vel.SAIB,0)) -> 2.2143559 | K90: =INDEX(factor.calidad.SAIB,MATCH(C90,calidad.SAIB,0)) -> 1.42 | L90: =INDEX(factor.simetria.SAIB,MATCH(B90,simetria.SAIB,0)) -> 1.7855127 | M90: =J90*K90*L90 -> 5.6143401 | O90: 325.29693 | P90: 334.72515 | Q90: 342.69746 | R90: 350.49452 | S90: 356.28169
A91: Nacional | B91: =+IF(D90="Calidad best effort",C89,B90) -> Simétrico | C91: =+IF(D91=2,D90,C90) -> Calidad Triple | D91: 70 | E91: Cálculo | H91: MXN/linea/mes | J91: =INDEX(factor.vel.SAIB,MATCH(D91,vel.SAIB,0)) -> 2.3866952 | K91: =INDEX(factor.calidad.SAIB,MATCH(C91,calidad.SAIB,0)) -> 1.42 | L91: =INDEX(factor.simetria.SAIB,MATCH(B91,simetria.SAIB,0)) -> 1.7855127 | M91: =J91*K91*L91 -> 6.0512939 | O91: 350.6142 | P91: 360.7762 | Q91: 369.36898 | R91: 377.77287 | S91: 384.01044
A92: Nacional | B92: =+IF(D91="Calidad best effort",C90,B91) -> Simétrico | C92: =+IF(D92=2,D91,C91) -> Calidad Triple | D92: 80 | E92: Cálculo | H92: MXN/linea/mes | J92: =INDEX(factor.vel.SAIB,MATCH(D92,vel.SAIB,0)) -> 2.5467871 | K92: =INDEX(factor.calidad.SAIB,MATCH(C92,calidad.SAIB,0)) -> 1.42 | L92: =INDEX(factor.simetria.SAIB,MATCH(B92,simetria.SAIB,0)) -> 1.7855127 | M92: =J92*K92*L92 -> 6.4571954 | O92: 374.13228 | P92: 384.97592 | Q92: 394.14507 | R92: 403.11267 | S92: 409.76864
A93: Nacional | B93: =+IF(D92="Calidad best effort",C91,B92) -> Simétrico | C93: =+IF(D93=2,D92,C92) -> Calidad Triple | D93: 100 | E93: Cálculo | H93: MXN/linea/mes | J93: =INDEX(factor.vel.SAIB,MATCH(D93,vel.SAIB,0)) -> 2.8386398 | K93: =INDEX(factor.calidad.SAIB,MATCH(C93,calidad.SAIB,0)) -> 1.42 | L93: =INDEX(factor.simetria.SAIB,MATCH(B93,simetria.SAIB,0)) -> 1.7855127 | M93: =J93*K93*L93 -> 7.197167 | O93: 417.00651 | P93: 429.09278 | Q93: 439.31269 | R93: 449.30794 | S93: 456.72667
... A103: Nacional | B103: =+IF(D102="Calidad best effort",C101,B102) -> Simétrico | C103: =+IF(D103=2,D102,C102) -> Calidad Triple | D103: 1000 | E103: Cálculo | H103: MXN/linea/mes | J103: =INDEX(factor.vel.SAIB,MATCH(D103,vel.SAIB,0)) -> 8.6958149 | K103: =INDEX(factor.calidad.SAIB,MATCH(C103,calidad.SAIB,0)) -> 1.42 | L103: =INDEX(factor.simetria.SAIB,MATCH(B103,simetria.SAIB,0)) -> 1.7855127 | M103: =J103*K103*L103 -> 22.047613 | O103: 1277.4468 | P103: 1314.4716 | Q103: 1345.779 | R103: 1376.3982 | S103: 1399.1245
C105: Asimétrico
D106: Calidad Best Effort
A107: Nacional | B107: =+IF(D106="Calidad best effort",C105,B106) -> Asimétrico | C107: =+IF(D107=2,D106,C106) -> Calidad Best Effort | D107: {=vel.SAIB} -> 2 | J107: =INDEX(factor.vel.SAIB,MATCH(D107,vel.SAIB,0)) -> 0.4237123 | K107: =INDEX(factor.calidad.SAIB,MATCH(C107,calidad.SAIB,0)) -> 1 | L107: =INDEX(factor.simetria.SAIB,MATCH(B107,simetria.SAIB,0)) -> 1 | M107: =J107*K107*L107 -> 0.4237123 | O107: {=INDEX(costo.unitario,MATCH($A107:$A129,niveles.desagregacion,0),indice.tiempo)*M107:M129} -> 24.550047 | P107: 25.261591 | Q107: 25.863259 | R107: 26.4517 | S107: 26.888456
A108: Nacional | B108: =+IF(D107="Calidad best effort",C106,B107) -> Asimétrico | C108: =+IF(D108=2,D107,C107) -> Calidad Best Effort | D108: 3 | E108: Cálculo | H108: MXN/linea/mes | J108: =INDEX(factor.vel.SAIB,MATCH(D108,vel.SAIB,0)) -> 0.51604389 | K108: =INDEX(factor.calidad.SAIB,MATCH(C108,calidad.SAIB,0)) -> 1 | L108: =INDEX(factor.simetria.SAIB,MATCH(B108,simetria.SAIB,0)) -> 1 | M108: =J108*K108*L108 -> 0.51604389 | O108: 29.899773 | P108: 30.766371 | Q108: 31.499148 | R108: 32.215818 | S108: 32.747747
A109: Nacional | B109: =+IF(D108="Calidad best effort",C107,B108) -> Asimétrico | C109: =+IF(D109=2,D108,C108) -> Calidad Best Effort | D109: 5 | E109: Cálculo | H109: MXN/linea/mes | J109: =INDEX(factor.vel.SAIB,MATCH(D109,vel.SAIB,0)) -> 0.66152994 | K109: =INDEX(factor.calidad.SAIB,MATCH(C109,calidad.SAIB,0)) -> 1 | L109: =INDEX(factor.simetria.SAIB,MATCH(B109,simetria.SAIB,0)) -> 1 | M109: =J109*K109*L109 -> 0.66152994 | O109: 38.329288 | P109: 39.440202 | Q109: 40.379569 | R109: 41.298285 | S109: 41.98018
A110: Nacional | B110: =+IF(D109="Calidad best effort",C108,B109) -> Asimétrico | C110: =+IF(D110=2,D109,C109) -> Calidad Best Effort | D110: 10 | E110: Cálculo | H110: MXN/linea/mes | J110: =INDEX(factor.vel.SAIB,MATCH(D110,vel.SAIB,0)) -> 0.92663839 | K110: =INDEX(factor.calidad.SAIB,MATCH(C110,calidad.SAIB,0)) -> 1 | L110: =INDEX(factor.simetria.SAIB,MATCH(B110,simetria.SAIB,0)) -> 1 | M110: =J110*K110*L110 -> 0.92663839 | O110: 53.68977 | P110: 55.245883 | Q110: 56.561701 | R110: 57.848594 | S110: 58.803757
A111: Nacional | B111: =+IF(D110="Calidad best effort",C109,B110) -> Asimétrico | C111: =+IF(D111=2,D110,C110) -> Calidad Best Effort | D111: 15 | E111: Cálculo | H111: MXN/linea/mes | J111: =INDEX(factor.vel.SAIB,MATCH(D111,vel.SAIB,0)) -> 1.1285631 | K111: =INDEX(factor.calidad.SAIB,MATCH(C111,calidad.SAIB,0)) -> 1 | L111: =INDEX(factor.simetria.SAIB,MATCH(B111,simetria.SAIB,0)) -> 1 | M111: =J111*K111*L111 -> 1.1285631 | O111: 65.389364 | P111: 67.284571 | Q111: 68.88712 | R111: 70.454441 | S111: 71.617746
A112: Nacional | B112: =+IF(D111="Calidad best effort",C110,B111) -> Asimétrico | C112: =+IF(D112=2,D111,C111) -> Calidad Best Effort | D112: 20 | E112: Cálculo | H112: MXN/linea/mes | J112: =INDEX(factor.vel.SAIB,MATCH(D112,vel.SAIB,0)) -> 1.2979892 | K112: =INDEX(factor.calidad.SAIB,MATCH(C112,calidad.SAIB,0)) -> 1 | L112: =INDEX(factor.simetria.SAIB,MATCH(B112,simetria.SAIB,0)) -> 1 | M112: =J112*K112*L112 -> 1.2979892 | O112: 75.205971 | P112: 77.385697 | Q112: 79.22883 | R112: 81.031446 | S112: 82.369392
A113: Nacional | B113: =+IF(D112="Calidad best effort",C111,B112) -> Asimétrico | C113: =+IF(D113=2,D112,C112) -> Calidad Best Effort | D113: 30 | E113: Cálculo | H113: MXN/linea/mes | J113: =INDEX(factor.vel.SAIB,MATCH(D113,vel.SAIB,0)) -> 1.5808354 | K113: =INDEX(factor.calidad.SAIB,MATCH(C113,calidad.SAIB,0)) -> 1 | L113: =INDEX(factor.simetria.SAIB,MATCH(B113,simetria.SAIB,0)) -> 1 | M113: =J113*K113*L113 -> 1.5808354 | O113: 91.594183 | P113: 94.248896 | Q113: 96.493668 | R113: 98.689093 | S113: 100.31859
A114: Nacional | B114: =+IF(D113="Calidad best effort",C112,B113) -> Asimétrico | C114: =+IF(D114=2,D113,C113) -> Calidad Best Effort | D114: 40 | E114: Cálculo | H114: MXN/linea/mes | J114: =INDEX(factor.vel.SAIB,MATCH(D114,vel.SAIB,0)) -> 1.818159 | K114: =INDEX(factor.calidad.SAIB,MATCH(C114,calidad.SAIB,0)) -> 1 | L114: =INDEX(factor.simetria.SAIB,MATCH(B114,simetria.SAIB,0)) -> 1 | M114: =J114*K114*L114 -> 1.818159 | O114: 105.3448 | P114: 108.39805 | Q114: 110.97982 | R114: 113.50484 | S114: 115.37897
A115: Nacional | B115: =+IF(D114="Calidad best effort",C113,B114) -> Asimétrico | C115: =+IF(D115=2,D114,C114) -> Calidad Best Effort | D115: 50 | E115: Cálculo | H115: MXN/linea/mes | J115: =INDEX(factor.vel.SAIB,MATCH(D115,vel.SAIB,0)) -> 2.0265135 | K115: =INDEX(factor.calidad.SAIB,MATCH(C115,calidad.SAIB,0)) -> 1 | L115: =INDEX(factor.simetria.SAIB,MATCH(B115,simetria.SAIB,0)) -> 1 | M115: =J115*K115*L115 -> 2.0265135 | O115: 117.41694 | P115: 120.82008 | Q115: 123.69771 | R115: 126.51209 | S115: 128.60098
A116: Nacional | B116: =+IF(D115="Calidad best effort",C114,B115) -> Asimétrico | C116: =+IF(D116=2,D115,C115) -> Calidad Best Effort | D116: 60 | E116: Cálculo | H116: MXN/linea/mes | J116: =INDEX(factor.vel.SAIB,MATCH(D116,vel.SAIB,0)) -> 2.2143559 | K116: =INDEX(factor.calidad.SAIB,MATCH(C116,calidad.SAIB,0)) -> 1 | L116: =INDEX(factor.simetria.SAIB,MATCH(B116,simetria.SAIB,0)) -> 1 | M116: =J116*K116*L116 -> 2.2143559 | O116: 128.3006 | P116: 132.01919 | Q116: 135.16355 | R116: 138.2388 | S116: 140.52132
A117: Nacional | B117: =+IF(D116="Calidad best effort",C115,B116) -> Asimétrico | C117: =+IF(D117=2,D116,C116) -> Calidad Best Effort | D117: 70 | E117: Cálculo | H117: MXN/linea/mes | J117: =INDEX(factor.vel.SAIB,MATCH(D117,vel.SAIB,0)) -> 2.3866952 | K117: =INDEX(factor.calidad.SAIB,MATCH(C117,calidad.SAIB,0)) -> 1 | L117: =INDEX(factor.simetria.SAIB,MATCH(B117,simetria.SAIB,0)) -> 1 | M117: =J117*K117*L117 -> 2.3866952 | O117: 138.286 | P117: 142.294 | Q117: 145.68308 | R117: 148.99767 | S117: 151.45783
A118: Nacional | B118: =+IF(D117="Calidad best effort",C116,B117) -> Asimétrico | C118: =+IF(D118=2,D117,C117) -> Calidad Best Effort | D118: 80 | E118: Cálculo | H118: MXN/linea/mes | J118: =INDEX(factor.vel.SAIB,MATCH(D118,vel.SAIB,0)) -> 2.5467871 | K118: =INDEX(factor.calidad.SAIB,MATCH(C118,calidad.SAIB,0)) -> 1 | L118: =INDEX(factor.simetria.SAIB,MATCH(B118,simetria.SAIB,0)) -> 1 | M118: =J118*K118*L118 -> 2.5467871 | O118: 147.56178 | P118: 151.83863 | Q118: 155.45504 | R118: 158.99196 | S118: 161.61714
A119: Nacional | B119: =+IF(D118="Calidad best effort",C117,B118) -> Asimétrico | C119: =+IF(D119=2,D118,C118) -> Calidad Best Effort | D119: 100 | E119: Cálculo | H119: MXN/linea/mes | J119: =INDEX(factor.vel.SAIB,MATCH(D119,vel.SAIB,0)) -> 2.8386398 | K119: =INDEX(factor.calidad.SAIB,MATCH(C119,calidad.SAIB,0)) -> 1 | L119: =INDEX(factor.simetria.SAIB,MATCH(B119,simetria.SAIB,0)) -> 1 | M119: =J119*K119*L119 -> 2.8386398 | O119: 164.47184 | P119: 169.23879 | Q119: 173.26963 | R119: 177.21187 | S119: 180.13789
... A129: Nacional | B129: =+IF(D128="Calidad best effort",C127,B128) -> Asimétrico | C129: =+IF(D129=2,D128,C128) -> Calidad Best Effort | D129: 1000 | E129: Cálculo | H129: MXN/linea/mes | J129: =INDEX(factor.vel.SAIB,MATCH(D129,vel.SAIB,0)) -> 8.6958149 | K129: =INDEX(factor.calidad.SAIB,MATCH(C129,calidad.SAIB,0)) -> 1 | L129: =INDEX(factor.simetria.SAIB,MATCH(B129,simetria.SAIB,0)) -> 1 | M129: =J129*K129*L129 -> 8.6958149 | O129: 503.83872 | P129: 518.44169 | Q129: 530.78967 | R129: 542.8662 | S129: 551.82971
A130: Nacional | B130: =+IF(D128="Calidad best effort",C127,B128) -> Asimétrico | C130: =+IF(D130=2,D128,C128) -> Calidad Best Effort | D130: Calidad Datos Generales
A131: Nacional | B131: =+IF(D130="Calidad best effort",C128,B130) -> Asimétrico | C131: =+IF(D131=2,D130,C130) -> Calidad Datos Generales | D131: {=vel.SAIB} -> 2 | J131: =INDEX(factor.vel.SAIB,MATCH(D131,vel.SAIB,0)) -> 0.4237123 | K131: =INDEX(factor.calidad.SAIB,MATCH(C131,calidad.SAIB,0)) -> 1.11015 | L131: =INDEX(factor.simetria.SAIB,MATCH(B131,simetria.SAIB,0)) -> 1 | M131: =J131*K131*L131 -> 0.47038422 | O131: {=INDEX(costo.unitario,MATCH($A131:$A153,niveles.desagregacion,0),indice.tiempo)*M131:M153} -> 27.254235 | P131: 28.044156 | Q131: 28.712097 | R131: 29.365356 | S131: 29.85022
A132: Nacional | B132: =+IF(D131="Calidad best effort",C130,B131) -> Asimétrico | C132: =+IF(D132=2,D131,C131) -> Calidad Datos Generales | D132: 3 | E132: Cálculo | H132: MXN/linea/mes | J132: =INDEX(factor.vel.SAIB,MATCH(D132,vel.SAIB,0)) -> 0.51604389 | K132: =INDEX(factor.calidad.SAIB,MATCH(C132,calidad.SAIB,0)) -> 1.11015 | L132: =INDEX(factor.simetria.SAIB,MATCH(B132,simetria.SAIB,0)) -> 1 | M132: =J132*K132*L132 -> 0.57288614 | O132: 33.193234 | P132: 34.155288 | Q132: 34.968781 | R132: 35.764391 | S132: 36.354913
A133: Nacional | B133: =+IF(D132="Calidad best effort",C131,B132) -> Asimétrico | C133: =+IF(D133=2,D132,C132) -> Calidad Datos Generales | D133: 5 | E133: Cálculo | H133: MXN/linea/mes | J133: =INDEX(factor.vel.SAIB,MATCH(D133,vel.SAIB,0)) -> 0.66152994 | K133: =INDEX(factor.calidad.SAIB,MATCH(C133,calidad.SAIB,0)) -> 1.11015 | L133: =INDEX(factor.simetria.SAIB,MATCH(B133,simetria.SAIB,0)) -> 1 | M133: =J133*K133*L133 -> 0.73439748 | O133: 42.551261 | P133: 43.784542 | Q133: 44.827379 | R133: 45.847293 | S133: 46.604298
A134: Nacional | B134: =+IF(D133="Calidad best effort",C132,B133) -> Asimétrico | C134: =+IF(D134=2,D133,C133) -> Calidad Datos Generales | D134: 10 | E134: Cálculo | H134: MXN/linea/mes | J134: =INDEX(factor.vel.SAIB,MATCH(D134,vel.SAIB,0)) -> 0.92663839 | K134: =INDEX(factor.calidad.SAIB,MATCH(C134,calidad.SAIB,0)) -> 1.11015 | L134: =INDEX(factor.simetria.SAIB,MATCH(B134,simetria.SAIB,0)) -> 1 | M134: =J134*K134*L134 -> 1.0287076 | O134: 59.603699 | P134: 61.331218 | Q134: 62.791974 | R134: 64.220618 | S134: 65.280993
A135: Nacional | B135: =+IF(D134="Calidad best effort",C133,B134) -> Asimétrico | C135: =+IF(D135=2,D134,C134) -> Calidad Datos Generales | D135: 15 | E135: Cálculo | H135: MXN/linea/mes | J135: =INDEX(factor.vel.SAIB,MATCH(D135,vel.SAIB,0)) -> 1.1285631 | K135: =INDEX(factor.calidad.SAIB,MATCH(C135,calidad.SAIB,0)) -> 1.11015 | L135: =INDEX(factor.simetria.SAIB,MATCH(B135,simetria.SAIB,0)) -> 1 | M135: =J135*K135*L135 -> 1.2528744 | O135: 72.592004 | P135: 74.695968 | Q135: 76.475039 | R135: 78.215 | S135: 79.506443
A136: Nacional | B136: =+IF(D135="Calidad best effort",C134,B135) -> Asimétrico | C136: =+IF(D136=2,D135,C135) -> Calidad Datos Generales | D136: 20 | E136: Cálculo | H136: MXN/linea/mes | J136: =INDEX(factor.vel.SAIB,MATCH(D136,vel.SAIB,0)) -> 1.2979892 | K136: =INDEX(factor.calidad.SAIB,MATCH(C136,calidad.SAIB,0)) -> 1.11015 | L136: =INDEX(factor.simetria.SAIB,MATCH(B136,simetria.SAIB,0)) -> 1 | M136: =J136*K136*L136 -> 1.4409627 | O136: 83.489911 | P136: 85.909734 | Q136: 87.955888 | R136: 89.957062 | S136: 91.442383
A137: Nacional | B137: =+IF(D136="Calidad best effort",C135,B136) -> Asimétrico | C137: =+IF(D137=2,D136,C136) -> Calidad Datos Generales | D137: 30 | E137: Cálculo | H137: MXN/linea/mes | J137: =INDEX(factor.vel.SAIB,MATCH(D137,vel.SAIB,0)) -> 1.5808354 | K137: =INDEX(factor.calidad.SAIB,MATCH(C137,calidad.SAIB,0)) -> 1.11015 | L137: =INDEX(factor.simetria.SAIB,MATCH(B137,simetria.SAIB,0)) -> 1 | M137: =J137*K137*L137 -> 1.7549644 | O137: 101.68329 | P137: 104.63041 | Q137: 107.12245 | R137: 109.5597 | S137: 111.36869
A138: Nacional | B138: =+IF(D137="Calidad best effort",C136,B137) -> Asimétrico | C138: =+IF(D138=2,D137,C137) -> Calidad Datos Generales | D138: 40 | E138: Cálculo | H138: MXN/linea/mes | J138: =INDEX(factor.vel.SAIB,MATCH(D138,vel.SAIB,0)) -> 1.818159 | K138: =INDEX(factor.calidad.SAIB,MATCH(C138,calidad.SAIB,0)) -> 1.11015 | L138: =INDEX(factor.simetria.SAIB,MATCH(B138,simetria.SAIB,0)) -> 1 | M138: =J138*K138*L138 -> 2.0184292 | O138: 116.94853 | P138: 120.3381 | Q138: 123.20425 | R138: 126.0074 | S138: 128.08796
A139: Nacional | B139: =+IF(D138="Calidad best effort",C137,B138) -> Asimétrico | C139: =+IF(D139=2,D138,C138) -> Calidad Datos Generales | D139: 50 | E139: Cálculo | H139: MXN/linea/mes | J139: =INDEX(factor.vel.SAIB,MATCH(D139,vel.SAIB,0)) -> 2.0265135 | K139: =INDEX(factor.calidad.SAIB,MATCH(C139,calidad.SAIB,0)) -> 1.11015 | L139: =INDEX(factor.simetria.SAIB,MATCH(B139,simetria.SAIB,0)) -> 1 | M139: =J139*K139*L139 -> 2.249734 | O139: 130.35042 | P139: 134.12842 | Q139: 137.32302 | R139: 140.4474 | S139: 142.76639
A140: Nacional | B140: =+IF(D139="Calidad best effort",C138,B139) -> Asimétrico | C140: =+IF(D140=2,D139,C139) -> Calidad Datos Generales | D140: 60 | E140: Cálculo | H140: MXN/linea/mes | J140: =INDEX(factor.vel.SAIB,MATCH(D140,vel.SAIB,0)) -> 2.2143559 | K140: =INDEX(factor.calidad.SAIB,MATCH(C140,calidad.SAIB,0)) -> 1.11015 | L140: =INDEX(factor.simetria.SAIB,MATCH(B140,simetria.SAIB,0)) -> 1 | M140: =J140*K140*L140 -> 2.4582673 | O140: 142.43291 | P140: 146.5611 | Q140: 150.05182 | R140: 153.4658 | S140: 155.99975
A141: Nacional | B141: =+IF(D140="Calidad best effort",C139,B140) -> Asimétrico | C141: =+IF(D141=2,D140,C140) -> Calidad Datos Generales | D141: 70 | E141: Cálculo | H141: MXN/linea/mes | J141: =INDEX(factor.vel.SAIB,MATCH(D141,vel.SAIB,0)) -> 2.3866952 | K141: =INDEX(factor.calidad.SAIB,MATCH(C141,calidad.SAIB,0)) -> 1.11015 | L141: =INDEX(factor.simetria.SAIB,MATCH(B141,simetria.SAIB,0)) -> 1 | M141: =J141*K141*L141 -> 2.6495897 | O141: 153.5182 | P141: 157.96769 | Q141: 161.73008 | R141: 165.40977 | S141: 168.14092
A142: Nacional | B142: =+IF(D141="Calidad best effort",C140,B141) -> Asimétrico | C142: =+IF(D142=2,D141,C141) -> Calidad Datos Generales | D142: 80 | E142: Cálculo | H142: MXN/linea/mes | J142: =INDEX(factor.vel.SAIB,MATCH(D142,vel.SAIB,0)) -> 2.5467871 | K142: =INDEX(factor.calidad.SAIB,MATCH(C142,calidad.SAIB,0)) -> 1.11015 | L142: =INDEX(factor.simetria.SAIB,MATCH(B142,simetria.SAIB,0)) -> 1 | M142: =J142*K142*L142 -> 2.8273158 | O142: 163.81572 | P142: 168.56366 | Q142: 172.57842 | R142: 176.50493 | S142: 179.41928
A143: Nacional | B143: =+IF(D142="Calidad best effort",C141,B142) -> Asimétrico | C143: =+IF(D143=2,D142,C142) -> Calidad Datos Generales | D143: 100 | E143: Cálculo | H143: MXN/linea/mes | J143: =INDEX(factor.vel.SAIB,MATCH(D143,vel.SAIB,0)) -> 2.8386398 | K143: =INDEX(factor.calidad.SAIB,MATCH(C143,calidad.SAIB,0)) -> 1.11015 | L143: =INDEX(factor.simetria.SAIB,MATCH(B143,simetria.SAIB,0)) -> 1 | M143: =J143*K143*L143 -> 3.1513161 | O143: 182.58841 | P143: 187.88045 | Q143: 192.35529 | R143: 196.73176 | S143: 199.98009
... A153: Nacional | B153: =+IF(D152="Calidad best effort",C151,B152) -> Asimétrico | C153: =+IF(D153=2,D152,C152) -> Calidad Datos Generales | D153: 1000 | E153: Cálculo | H153: MXN/linea/mes | J153: =INDEX(factor.vel.SAIB,MATCH(D153,vel.SAIB,0)) -> 8.6958149 | K153: =INDEX(factor.calidad.SAIB,MATCH(C153,calidad.SAIB,0)) -> 1.11015 | L153: =INDEX(factor.simetria.SAIB,MATCH(B153,simetria.SAIB,0)) -> 1 | M153: =J153*K153*L153 -> 9.6536592 | O153: 559.33657 | P153: 575.54806 | Q153: 589.25617 | R153: 602.66293 | S153: 612.61377
A154: Nacional | B154: =+IF(D152="Calidad best effort",C151,B152) -> Asimétrico | C154: =+IF(D154=2,D152,C152) -> Calidad Datos Generales | D154: Calidad Doble
A155: Nacional | B155: =+IF(D154="Calidad best effort",C152,B154) -> Asimétrico | C155: =+IF(D155=2,D154,C154) -> Calidad Doble | D155: {=vel.SAIB} -> 2 | J155: =INDEX(factor.vel.SAIB,MATCH(D155,vel.SAIB,0)) -> 0.4237123 | K155: =INDEX(factor.calidad.SAIB,MATCH(C155,calidad.SAIB,0)) -> 1.2727637 | L155: =INDEX(factor.simetria.SAIB,MATCH(B155,simetria.SAIB,0)) -> 1 | M155: =J155*K155*L155 -> 0.53928563 | O155: {=INDEX(costo.unitario,MATCH($A155:$A177,niveles.desagregacion,0),indice.tiempo)*M155:M177} -> 31.246408 | P155: 32.152036 | Q155: 32.917816 | R155: 33.666763 | S155: 34.22265
A156: Nacional | B156: =+IF(D155="Calidad best effort",C154,B155) -> Asimétrico | C156: =+IF(D156=2,D155,C155) -> Calidad Doble | D156: 3 | E156: Cálculo | H156: MXN/linea/mes | J156: =INDEX(factor.vel.SAIB,MATCH(D156,vel.SAIB,0)) -> 0.51604389 | K156: =INDEX(factor.calidad.SAIB,MATCH(C156,calidad.SAIB,0)) -> 1.2727637 | L156: =INDEX(factor.simetria.SAIB,MATCH(B156,simetria.SAIB,0)) -> 1 | M156: =J156*K156*L156 -> 0.65680192 | O156: 38.055345 | P156: 39.158319 | Q156: 40.090972 | R156: 41.003123 | S156: 41.680143
...

Sheet Resultados Caso I
D1: Resultados Caso I
C4: Año seleccionado | D4: 2026
C6: Incluir costos de acceso? | D6: Sí
F7: =+$F$8&" - "&$F$9&" - "&F10 -> Asimétrico - Local - Calidad Best Effort | G7: =+$F$8&" - "&$F$9&" - "&G10 -> Asimétrico - Local - Calidad Datos Generales | H7: =+$F$8&" - "&$F$9&" - "&H10 -> Asimétrico - Local - Calidad Doble | I7: =+$F$8&" - "&$F$9&" - "&I10 -> Asimétrico - Local - Calidad Triple | K7: =+$F$8&" - "&$K$9&" - "&K10 -> Asimétrico - Regional - Calidad Best Effort | L7: =+$F$8&" - "&$K$9&" - "&L10 -> Asimétrico - Regional - Calidad Datos Generales | M7: =+$F$8&" - "&$K$9&" - "&M10 -> Asimétrico - Regional - Calidad Doble | N7: =+$F$8&" - "&$K$9&" - "&N10 -> Asimétrico - Regional - Calidad Triple | P7: =+$F$8&" - "&$P$9&" - "&P10 -> Asimétrico - Nacional - Calidad Best Effort | Q7: =+$F$8&" - "&$P$9&" - "&Q10 -> Asimétrico - Nacional - Calidad Datos Generales | R7: =+$F$8&" - "&$P$9&" - "&R10 -> Asimétrico - Nacional - Calidad Doble | S7: =+$F$8&" - "&$P$9&" - "&S10 -> Asimétrico - Nacional - Calidad Triple
D8: Simetría | F8: Asimétrico | K8: Asimétrico | P8: Asimétrico
D9: Agregación | F9: Local | K9: Regional | P9: Nacional
D10: Calidad | F10: Calidad Best Effort | G10: Calidad Datos Generales | H10: Calidad Doble | I10: Calidad Triple | K10: Calidad Best Effort | L10: Calidad Datos Generales | M10: Calidad Doble | N10: Calidad Triple | P10: Calidad Best Effort | Q10: Calidad Datos Generales | R10: Calidad Doble | S10: Calidad Triple
D11: Agregación | F11: Local | G11: Local | H11: Local | I11: Local | K11: Regional | L11: Regional | M11: Regional | N11: Regional | P11: Nacional | Q11: Nacional | R11: Nacional | S11: Nacional
D12: Simetría | F12: Asimétrico | G12: Asimétrico | H12: Asimétrico | I12: Asimétrico | K12: Asimétrico | L12: Asimétrico | M12: Asimétrico | N12: Asimétrico | P12: Asimétrico | Q12: Asimétrico | R12: Asimétrico | S12: Asimétrico
D13: Calidad | F13: Calidad Best Effort | G13: Calidad Datos Generales | H13: Calidad Doble | I13: Calidad Triple | K13: Calidad Best Effort | L13: Calidad Datos Generales | M13: Calidad Doble | N13: Calidad Triple | P13: Calidad Best Effort | Q13: Calidad Datos Generales | R13: Calidad Doble | S13: Calidad Triple
C15: 2 Mbps | D15: {=vel.SAIB} -> 2 | F15: {=INDEX('Costo SCyD'!$O$9:$S$597,MATCH(F$11&F$12&F$13&$D15,'Costo SCyD'!$A$9:$A$597&'Costo SCyD'!$B$9:$B$597&'Costo SCyD'!$C$9:$C$597&'Costo SCyD'!$D$9:$D$597,0),MATCH('Resultados Caso I'!$D$4,'Costo SCyD'!$O$2:$S$2,0))+IF($D$6="Sí",INDEX(costos.acceso,MATCH($D15,vel.SAIB,0),MATCH($D$4,years,0)),0)} -> 113.71679 | G15: {=INDEX('Costo SCyD'!$O$9:$S$597,MATCH(G$11&G$12&G$13&$D15,'Costo SCyD'!$A$9:$A$597&'Costo SCyD'!$B$9:$B$597&'Costo SCyD'!$C$9:$C$597&'Costo SCyD'!$D$9:$D$597,0),MATCH('Resultados Caso I'!$D$4,'Costo SCyD'!$O$2:$S$2,0))+IF($D$6="Sí",INDEX(costos.acceso,MATCH($D15,vel.SAIB,0),MATCH($D$4,years,0)),0)} -> 115.2946 | H15: {=INDEX('Costo SCyD'!$O$9:$S$597,MATCH(H$11&H$12&H$13&$D15,'Costo SCyD'!$A$9:$A$597&'Costo SCyD'!$B$9:$B$597&'Costo SCyD'!$C$9:$C$597&'Costo SCyD'!$D$9:$D$597,0),MATCH('Resultados Caso I'!$D$4,'Costo SCyD'!$O$2:$S$2,0))+IF($D$6="Sí",INDEX(costos.acceso,MATCH($D15,vel.SAIB,0),MATCH($D$4,years,0)),0)} -> 117.6239 | I15: {=INDEX('Costo SCyD'!$O$9:$S$597,MATCH(I$11&I$12&I$13&$D15,'Costo SCyD'!$A$9:$A$597&'Costo SCyD'!$B$9:$B$597&'Costo SCyD'!$C$9:$C$597&'Costo SCyD'!$D$9:$D$597,0),MATCH('Resultados Caso I'!$D$4,'Costo SCyD'!$O$2:$S$2,0))+IF($D$6="Sí",INDEX(costos.acceso,MATCH($D15,vel.SAIB,0),MATCH($D$4,years,0)),0)} -> 119.73293 | K15: {=INDEX('Costo SCyD'!$O$9:$S$597,MATCH(K$11&K$12&K$13&$D15,'Costo SCyD'!$A$9:$A$597&'Costo SCyD'!$B$9:$B$597&'Costo SCyD'!$C$9:$C$597&'Costo SCyD'!$D$9:$D$597,0),MATCH('Resultados Caso I'!$D$4,'Costo SCyD'!$O$2:$S$2,0))+IF($D$6="Sí",INDEX(costos.acceso,MATCH($D15,vel.SAIB,0),MATCH($D$4,years,0)),0)} -> 119.5155 | L15: {=INDEX('Costo SCyD'!$O$9:$S$597,MATCH(L$11&L$12&L$13&$D15,'Costo SCyD'!$A$9:$A$597&'Costo SCyD'!$B$9:$B$597&'Costo SCyD'!$C$9:$C$597&'Costo SCyD'!$D$9:$D$597,0),MATCH('Resultados Caso I'!$D$4,'Costo SCyD'!$O$2:$S$2,0))+IF($D$6="Sí",INDEX(costos.acceso,MATCH($D15,vel.SAIB,0),MATCH($D$4,years,0)),0)} -> 121.73204 | M15: {=INDEX('Costo SCyD'!$O$9:$S$597,MATCH(M$11&M$12&M$13&$D15,'Costo SCyD'!$A$9:$A$597&'Costo SCyD'!$B$9:$B$597&'Costo SCyD'!$C$9:$C$597&'Costo SCyD'!$D$9:$D$597,0),MATCH('Resultados Caso I'!$D$4,'Costo SCyD'!$O$2:$S$2,0))+IF($D$6="Sí",INDEX(costos.acceso,MATCH($D15,vel.SAIB,0),MATCH($D$4,years,0)),0)} -> 125.00429 | N15: {=INDEX('Costo SCyD'!$O$9:$S$597,MATCH(N$11&N$12&N$13&$D15,'Costo SCyD'!$A$9:$A$597&'Costo SCyD'!$B$9:$B$597&'Costo SCyD'!$C$9:$C$597&'Costo SCyD'!$D$9:$D$597,0),MATCH('Resultados Caso I'!$D$4,'Costo SCyD'!$O$2:$S$2,0))+IF($D$6="Sí",INDEX(costos.acceso,MATCH($D15,vel.SAIB,0),MATCH($D$4,years,0)),0)} -> 127.9671 | P15: {=INDEX('Costo SCyD'!$O$9:$S$597,MATCH(P$11&P$12&P$13&$D15,'Costo SCyD'!$A$9:$A$597&'Costo SCyD'!$B$9:$B$597&'Costo SCyD'!$C$9:$C$597&'Costo SCyD'!$D$9:$D$597,0),MATCH('Resultados Caso I'!$D$4,'Costo SCyD'!$O$2:$S$2,0))+IF($D$6="Sí",INDEX(costos.acceso,MATCH($D15,vel.SAIB,0),MATCH($D$4,years,0)),0)} -> 126.28111 | Q15: {=INDEX('Costo SCyD'!$O$9:$S$597,MATCH(Q$11&Q$12&Q$13&$D15,'Costo SCyD'!$A$9:$A$597&'Costo SCyD'!$B$9:$B$597&'Costo SCyD'!$C$9:$C$597&'Costo SCyD'!$D$9:$D$597,0),MATCH('Resultados Caso I'!$D$4,'Costo SCyD'!$O$2:$S$2,0))+IF($D$6="Sí",INDEX(costos.acceso,MATCH($D15,vel.SAIB,0),MATCH($D$4,years,0)),0)} -> 129.24287 | R15: {=INDEX('Costo SCyD'!$O$9:$S$597,MATCH(R$11&R$12&R$13&$D15,'Costo SCyD'!$A$9:$A$597&'Costo SCyD'!$B$9:$B$597&'Costo SCyD'!$C$9:$C$597&'Costo SCyD'!$D$9:$D$597,0),MATCH('Resultados Caso I'!$D$4,'Costo SCyD'!$O$2:$S$2,0))+IF($D$6="Sí",INDEX(costos.acceso,MATCH($D15,vel.SAIB,0),MATCH($D$4,years,0)),0)} -> 133.6153 | S15: {=INDEX('Costo SCyD'!$O$9:$S$597,MATCH(S$11&S$12&S$13&$D15,'Costo SCyD'!$A$9:$A$597&'Costo SCyD'!$B$9:$B$597&'Costo SCyD'!$C$9:$C$597&'Costo SCyD'!$D$9:$D$597,0),MATCH('Resultados Caso I'!$D$4,'Costo SCyD'!$O$2:$S$2,0))+IF($D$6="Sí",INDEX(costos.acceso,MATCH($D15,vel.SAIB,0),MATCH($D$4,years,0)),0)} -> 137.57426
C16: 3 Mbps | D16: 3 | F16: {=INDEX('Costo SCyD'!$O$9:$S$597,MATCH(F$11&F$12&F$13&$D16,'Costo SCyD'!$A$9:$A$597&'Costo SCyD'!$B$9:$B$597&'Costo SCyD'!$C$9:$C$597&'Costo SCyD'!$D$9:$D$597,0),MATCH('Resultados Caso I'!$D$4,'Costo SCyD'!$O$2:$S$2,0))+IF($D$6="Sí",INDEX(costos.acceso,MATCH($D16,vel.SAIB,0),MATCH($D$4,years,0)),0)} -> 116.83818 | G16: {=INDEX('Costo SCyD'!$O$9:$S$597,MATCH(G$11&G$12&G$13&$D16,'Costo SCyD'!$A$9:$A$597&'Costo SCyD'!$B$9:$B$597&'Costo SCyD'!$C$9:$C$597&'Costo SCyD'!$D$9:$D$597,0),MATCH('Resultados Caso I'!$D$4,'Costo SCyD'!$O$2:$S$2,0))+IF($D$6="Sí",INDEX(costos.acceso,MATCH($D16,vel.SAIB,0),MATCH($D$4,years,0)),0)} -> 118.75981 | H16: {=INDEX('Costo SCyD'!$O$9:$S$597,MATCH(H$11&H$12&H$13&$D16,'Costo SCyD'!$A$9:$A$597&'Costo SCyD'!$B$9:$B$597&'Costo SCyD'!$C$9:$C$597&'Costo SCyD'!$D$9:$D$597,0),MATCH('Resultados Caso I'!$D$4,'Costo SCyD'!$O$2:$S$2,0))+IF($D$6="Sí",INDEX(costos.acceso,MATCH($D16,vel.SAIB,0),MATCH($D$4,years,0)),0)} -> 121.59669 | I16: {=INDEX('Costo SCyD'!$O$9:$S$597,MATCH(I$11&I$12&I$13&$D16,'Costo SCyD'!$A$9:$A$597&'Costo SCyD'!$B$9:$B$597&'Costo SCyD'!$C$9:$C$597&'Costo SCyD'!$D$9:$D$597,0),MATCH('Resultados Caso I'!$D$4,'Costo SCyD'!$O$2:$S$2,0))+IF($D$6="Sí",INDEX(costos.acceso,MATCH($D16,vel.SAIB,0),MATCH($D$4,years,0)),0)} -> 124.16531 | K16: {=INDEX('Costo SCyD'!$O$9:$S$597,MATCH(K$11&K$12&K$13&$D16,'Costo SCyD'!$A$9:$A$597&'Costo SCyD'!$B$9:$B$597&'Costo SCyD'!$C$9:$C$597&'Costo SCyD'!$D$9:$D$597,0),MATCH('Resultados Caso I'!$D$4,'Costo SCyD'!$O$2:$S$2,0))+IF($D$6="Sí",INDEX(costos.acceso,MATCH($D16,vel.SAIB,0),MATCH($D$4,years,0)),0)} -> 123.90049 | L16: {=INDEX('Costo SCyD'!$O$9:$S$597,MATCH(L$11&L$12&L$13&$D16,'Costo SCyD'!$A$9:$A$597&'Costo SCyD'!$B$9:$B$597&'Costo SCyD'!$C$9:$C$597&'Costo SCyD'!$D$9:$D$597,0),MATCH('Resultados Caso I'!$D$4,'Costo SCyD'!$O$2:$S$2,0))+IF($D$6="Sí",INDEX(costos.acceso,MATCH($D16,vel.SAIB,0),MATCH($D$4,years,0)),0)} -> 126.60003 | M16: {=INDEX('Costo SCyD'!$O$9:$S$597,MATCH(M$11&M$12&M$13&$D16,'Costo SCyD'!$A$9:$A$597&'Costo SCyD'!$B$9:$B$597&'Costo SCyD'!$C$9:$C$597&'Costo SCyD'!$D$9:$D$597,0),MATCH('Resultados Caso I'!$D$4,'Costo SCyD'!$O$2:$S$2,0))+IF($D$6="Sí",INDEX(costos.acceso,MATCH($D16,vel.SAIB,0),MATCH($D$4,years,0)),0)} -> 130.58534 | N16: {=INDEX('Costo SCyD'!$O$9:$S$597,MATCH(N$11&N$12&N$13&$D16,'Costo SCyD'!$A$9:$A$597&'Costo SCyD'!$B$9:$B$597&'Costo SCyD'!$C$9:$C$597&'Costo SCyD'!$D$9:$D$597,0),MATCH('Resultados Caso I'!$D$4,'Costo SCyD'!$O$2:$S$2,0))+IF($D$6="Sí",INDEX(costos.acceso,MATCH($D16,vel.SAIB,0),MATCH($D$4,years,0)),0)} -> 134.19379 | P16: {=INDEX('Costo SCyD'!$O$9:$S$597,MATCH(P$11&P$12&P$13&$D16,'Costo SCyD'!$A$9:$A$597&'Costo SCyD'!$B$9:$B$597&'Costo SCyD'!$C$9:$C$597&'Costo SCyD'!$D$9:$D$597,0),MATCH('Resultados Caso I'!$D$4,'Costo SCyD'!$O$2:$S$2,0))+IF($D$6="Sí",INDEX(costos.acceso,MATCH($D16,vel.SAIB,0),MATCH($D$4,years,0)),0)} -> 132.1404 | Q16: {=INDEX('Costo SCyD'!$O$9:$S$597,MATCH(Q$11&Q$12&Q$13&$D16,'Costo SCyD'!$A$9:$A$597&'Costo SCyD'!$B$9:$B$597&'Costo SCyD'!$C$9:$C$597&'Costo SCyD'!$D$9:$D$597,0),MATCH('Resultados Caso I'!$D$4,'Costo SCyD'!$O$2:$S$2,0))+IF($D$6="Sí",INDEX(costos.acceso,MATCH($D16,vel.SAIB,0),MATCH($D$4,years,0)),0)} -> 135.74756 | R16: {=INDEX('Costo SCyD'!$O$9:$S$597,MATCH(R$11&R$12&R$13&$D16,'Costo SCyD'!$A$9:$A$597&'Costo SCyD'!$B$9:$B$597&'Costo SCyD'!$C$9:$C$597&'Costo SCyD'!$D$9:$D$597,0),MATCH('Resultados Caso I'!$D$4,'Costo SCyD'!$O$2:$S$2,0))+IF($D$6="Sí",INDEX(costos.acceso,MATCH($D16,vel.SAIB,0),MATCH($D$4,years,0)),0)} -> 141.0728 | S16: {=INDEX('Costo SCyD'!$O$9:$S$597,MATCH(S$11&S$12&S$13&$D16,'Costo SCyD'!$A$9:$A$597&'Costo SCyD'!$B$9:$B$597&'Costo SCyD'!$C$9:$C$597&'Costo SCyD'!$D$9:$D$597,0),MATCH('Resultados Caso I'!$D$4,'Costo SCyD'!$O$2:$S$2,0))+IF($D$6="Sí",INDEX(costos.acceso,MATCH($D16,vel.SAIB,0),MATCH($D$4,years,0)),0)} -> 145.89445
C17: =+D17&" Mbps" -> 5 Mbps | D17: 5 | F17: {=INDEX('Costo SCyD'!$O$9:$S$597,MATCH(F$11&F$12&F$13&$D17,'Costo SCyD'!$A$9:$A$597&'Costo SCyD'!$B$9:$B$597&'Costo SCyD'!$C$9:$C$597&'Costo SCyD'!$D$9:$D$597,0),MATCH('Resultados Caso I'!$D$4,'Costo SCyD'!$O$2:$S$2,0))+IF($D$6="Sí",INDEX(costos.acceso,MATCH($D17,vel.SAIB,0),MATCH($D$4,years,0)),0)} -> 121.75653 | G17: {=INDEX('Costo SCyD'!$O$9:$S$597,MATCH(G$11&G$12&G$13&$D17,'Costo SCyD'!$A$9:$A$597&'Costo SCyD'!$B$9:$B$597&'Costo SCyD'!$C$9:$C$597&'Costo SCyD'!$D$9:$D$597,0),MATCH('Resultados Caso I'!$D$4,'Costo SCyD'!$O$2:$S$2,0))+IF($D$6="Sí",INDEX(costos.acceso,MATCH($D17,vel.SAIB,0),MATCH($D$4,years,0)),0)} -> 124.21991 | H17: {=INDEX('Costo SCyD'!$O$9:$S$597,MATCH(H$11&H$12&H$13&$D17,'Costo SCyD'!$A$9:$A$597&'Costo SCyD'!$B$9:$B$597&'Costo SCyD'!$C$9:$C$597&'Costo SCyD'!$D$9:$D$597,0),MATCH('Resultados Caso I'!$D$4,'Costo SCyD'!$O$2:$S$2,0))+IF($D$6="Sí",INDEX(costos.acceso,MATCH($D17,vel.SAIB,0),MATCH($D$4,years,0)),0)} -> 127.85658 | I17: {=INDEX('Costo SCyD'!$O$9:$S$597,MATCH(I$11&I$12&I$13&$D17,'Costo SCyD'!$A$9:$A$597&'Costo SCyD'!$B$9:$B$597&'Costo SCyD'!$C$9:$C$597&'Costo SCyD'!$D$9:$D$597,0),MATCH('Resultados Caso I'!$D$4,'Costo SCyD'!$O$2:$S$2,0))+IF($D$6="Sí",INDEX(costos.acceso,MATCH($D17,vel.SAIB,0),MATCH($D$4,years,0)),0)} -> 131.14935 | K17: {=INDEX('Costo SCyD'!$O$9:$S$597,MATCH(K$11&K$12&K$13&$D17,'Costo SCyD'!$A$9:$A$597&'Costo SCyD'!$B$9:$B$597&'Costo SCyD'!$C$9:$C$597&'Costo SCyD'!$D$9:$D$597,0),MATCH('Resultados Caso I'!$D$4,'Costo SCyD'!$O$2:$S$2,0))+IF($D$6="Sí",INDEX(costos.acceso,MATCH($D17,vel.SAIB,0),MATCH($D$4,years,0)),0)} -> 130.80989 | L17: {=INDEX('Costo SCyD'!$O$9:$S$597,MATCH(L$11&L$12&L$13&$D17,'Costo SCyD'!$A$9:$A$597&'Costo SCyD'!$B$9:$B$597&'Costo SCyD'!$C$9:$C$597&'Costo SCyD'!$D$9:$D$597,0),MATCH('Resultados Caso I'!$D$4,'Costo SCyD'!$O$2:$S$2,0))+IF($D$6="Sí",INDEX(costos.acceso,MATCH($D17,vel.SAIB,0),MATCH($D$4,years,0)),0)} -> 134.27049 | M17: {=INDEX('Costo SCyD'!$O$9:$S$597,MATCH(M$11&M$12&M$13&$D17,'Costo SCyD'!$A$9:$A$597&'Costo SCyD'!$B$9:$B$597&'Costo SCyD'!$C$9:$C$597&'Costo SCyD'!$D$9:$D$597,0),MATCH('Resultados Caso I'!$D$4,'Costo SCyD'!$O$2:$S$2,0))+IF($D$6="Sí",INDEX(costos.acceso,MATCH($D17,vel.SAIB,0),MATCH($D$4,years,0)),0)} -> 139.37937 | N17: {=INDEX('Costo SCyD'!$O$9:$S$597,MATCH(N$11&N$12&N$13&$D17,'Costo SCyD'!$A$9:$A$597&'Costo SCyD'!$B$9:$B$597&'Costo SCyD'!$C$9:$C$597&'Costo SCyD'!$D$9:$D$597,0),MATCH('Resultados Caso I'!$D$4,'Costo SCyD'!$O$2:$S$2,0))+IF($D$6="Sí",INDEX(costos.acceso,MATCH($D17,vel.SAIB,0),MATCH($D$4,years,0)),0)} -> 144.00512 | P17: {=INDEX('Costo SCyD'!$O$9:$S$597,MATCH(P$11&P$12&P$13&$D17,'Costo SCyD'!$A$9:$A$597&'Costo SCyD'!$B$9:$B$597&'Costo SCyD'!$C$9:$C$597&'Costo SCyD'!$D$9:$D$597,0),MATCH('Resultados Caso I'!$D$4,'Costo SCyD'!$O$2:$S$2,0))+IF($D$6="Sí",INDEX(costos.acceso,MATCH($D17,vel.SAIB,0),MATCH($D$4,years,0)),0)} -> 141.37283 | Q17: {=INDEX('Costo SCyD'!$O$9:$S$597,MATCH(Q$11&Q$12&Q$13&$D17,'Costo SCyD'!$A$9:$A$597&'Costo SCyD'!$B$9:$B$597&'Costo SCyD'!$C$9:$C$597&'Costo SCyD'!$D$9:$D$597,0),MATCH('Resultados Caso I'!$D$4,'Costo SCyD'!$O$2:$S$2,0))+IF($D$6="Sí",INDEX(costos.acceso,MATCH($D17,vel.SAIB,0),MATCH($D$4,years,0)),0)} -> 145.99695 | R17: {=INDEX('Costo SCyD'!$O$9:$S$597,MATCH(R$11&R$12&R$13&$D17,'Costo SCyD'!$A$9:$A$597&'Costo SCyD'!$B$9:$B$597&'Costo SCyD'!$C$9:$C$597&'Costo SCyD'!$D$9:$D$597,0),MATCH('Resultados Caso I'!$D$4,'Costo SCyD'!$O$2:$S$2,0))+IF($D$6="Sí",INDEX(costos.acceso,MATCH($D17,vel.SAIB,0),MATCH($D$4,years,0)),0)} -> 152.8235 | S17: {=INDEX('Costo SCyD'!$O$9:$S$597,MATCH(S$11&S$12&S$13&$D17,'Costo SCyD'!$A$9:$A$597&'Costo SCyD'!$B$9:$B$597&'Costo SCyD'!$C$9:$C$597&'Costo SCyD'!$D$9:$D$597,0),MATCH('Resultados Caso I'!$D$4,'Costo SCyD'!$O$2:$S$2,0))+IF($D$6="Sí",INDEX(costos.acceso,MATCH($D17,vel.SAIB,0),MATCH($D$4,years,0)),0)} -> 159.00451
C18: =+D18&" Mbps" -> 10 Mbps | D18: 10 | F18: {=INDEX('Costo SCyD'!$O$9:$S$597,MATCH(F$11&F$12&F$13&$D18,'Costo SCyD'!$A$9:$A$597&'Costo SCyD'!$B$9:$B$597&'Costo SCyD'!$C$9:$C$597&'Costo SCyD'!$D$9:$D$597,0),MATCH('Resultados Caso I'!$D$4,'Costo SCyD'!$O$2:$S$2,0))+IF($D$6="Sí",INDEX(costos.acceso,MATCH($D18,vel.SAIB,0),MATCH($D$4,years,0)),0)} -> 133.48385 | G18: {=INDEX('Costo SCyD'!$O$9:$S$597,MATCH(G$11&G$12&G$13&$D18,'Costo SCyD'!$A$9:$A$597&'Costo SCyD'!$B$9:$B$597&'Costo SCyD'!$C$9:$C$597&'Costo SCyD'!$D$9:$D$597,0),MATCH('Resultados Caso I'!$D$4,'Costo SCyD'!$O$2:$S$2,0))+IF($D$6="Sí",INDEX(costos.acceso,MATCH($D18,vel.SAIB,0),MATCH($D$4,years,0)),0)} -> 136.93443 | H18: {=INDEX('Costo SCyD'!$O$9:$S$597,MATCH(H$11&H$12&H$13&$D18,'Costo SCyD'!$A$9:$A$597&'Costo SCyD'!$B$9:$B$597&'Costo SCyD'!$C$9:$C$597&'Costo SCyD'!$D$9:$D$597,0),MATCH('Resultados Caso I'!$D$4,'Costo SCyD'!$O$2:$S$2,0))+IF($D$6="Sí",INDEX(costos.acceso,MATCH($D18,vel.SAIB,0),MATCH($D$4,years,0)),0)} -> 142.0285 | I18: {=INDEX('Costo SCyD'!$O$9:$S$597,MATCH(I$11&I$12&I$13&$D18,'Costo SCyD'!$A$9:$A$597&'Costo SCyD'!$B$9:$B$597&'Costo SCyD'!$C$9:$C$597&'Costo SCyD'!$D$9:$D$597,0),MATCH('Resultados Caso I'!$D$4,'Costo SCyD'!$O$2:$S$2,0))+IF($D$6="Sí",INDEX(costos.acceso,MATCH($D18,vel.SAIB,0),MATCH($D$4,years,0)),0)} -> 146.64086 | K18: {=INDEX('Costo SCyD'!$O$9:$S$597,MATCH(K$11&K$12&K$13&$D18,'Costo SCyD'!$A$9:$A$597&'Costo SCyD'!$B$9:$B$597&'Costo SCyD'!$C$9:$C$597&'Costo SCyD'!$D$9:$D$597,0),MATCH('Resultados Caso I'!$D$4,'Costo SCyD'!$O$2:$S$2,0))+IF($D$6="Sí",INDEX(costos.acceso,MATCH($D18,vel.SAIB,0),MATCH($D$4,years,0)),0)} -> 146.16534 | L18: {=INDEX('Costo SCyD'!$O$9:$S$597,MATCH(L$11&L$12&L$13&$D18,'Costo SCyD'!$A$9:$A$597&'Costo SCyD'!$B$9:$B$597&'Costo SCyD'!$C$9:$C$597&'Costo SCyD'!$D$9:$D$597,0),MATCH('Resultados Caso I'!$D$4,'Costo SCyD'!$O$2:$S$2,0))+IF($D$6="Sí",INDEX(costos.acceso,MATCH($D18,vel.SAIB,0),MATCH($D$4,years,0)),0)} -> 151.01279 | M18: {=INDEX('Costo SCyD'!$O$9:$S$597,MATCH(M$11&M$12&M$13&$D18,'Costo SCyD'!$A$9:$A$597&'Costo SCyD'!$B$9:$B$597&'Costo SCyD'!$C$9:$C$597&'Costo SCyD'!$D$9:$D$597,0),MATCH('Resultados Caso I'!$D$4,'Costo SCyD'!$O$2:$S$2,0))+IF($D$6="Sí",INDEX(costos.acceso,MATCH($D18,vel.SAIB,0),MATCH($D$4,years,0)),0)} -> 158.16905 | N18: {=INDEX('Costo SCyD'!$O$9:$S$597,MATCH(N$11&N$12&N$13&$D18,'Costo SCyD'!$A$9:$A$597&'Costo SCyD'!$B$9:$B$597&'Costo SCyD'!$C$9:$C$597&'Costo SCyD'!$D$9:$D$597,0),MATCH('Resultados Caso I'!$D$4,'Costo SCyD'!$O$2:$S$2,0))+IF($D$6="Sí",INDEX(costos.acceso,MATCH($D18,vel.SAIB,0),MATCH($D$4,years,0)),0)} -> 164.64858 | P18: {=INDEX('Costo SCyD'!$O$9:$S$597,MATCH(P$11&P$12&P$13&$D18,'Costo SCyD'!$A$9:$A$597&'Costo SCyD'!$B$9:$B$597&'Costo SCyD'!$C$9:$C$597&'Costo SCyD'!$D$9:$D$597,0),MATCH('Resultados Caso I'!$D$4,'Costo SCyD'!$O$2:$S$2,0))+IF($D$6="Sí",INDEX(costos.acceso,MATCH($D18,vel.SAIB,0),MATCH($D$4,years,0)),0)} -> 160.9614 | Q18: {=INDEX('Costo SCyD'!$O$9:$S$597,MATCH(Q$11&Q$12&Q$13&$D18,'Costo SCyD'!$A$9:$A$597&'Costo SCyD'!$B$9:$B$597&'Costo SCyD'!$C$9:$C$597&'Costo SCyD'!$D$9:$D$597,0),MATCH('Resultados Caso I'!$D$4,'Costo SCyD'!$O$2:$S$2,0))+IF($D$6="Sí",INDEX(costos.acceso,MATCH($D18,vel.SAIB,0),MATCH($D$4,years,0)),0)} -> 167.43863 | R18: {=INDEX('Costo SCyD'!$O$9:$S$597,MATCH(R$11&R$12&R$13&$D18,'Costo SCyD'!$A$9:$A$597&'Costo SCyD'!$B$9:$B$597&'Costo SCyD'!$C$9:$C$597&'Costo SCyD'!$D$9:$D$597,0),MATCH('Resultados Caso I'!$D$4,'Costo SCyD'!$O$2:$S$2,0))+IF($D$6="Sí",INDEX(costos.acceso,MATCH($D18,vel.SAIB,0),MATCH($D$4,years,0)),0)} -> 177.00093 | S18: {=INDEX('Costo SCyD'!$O$9:$S$597,MATCH(S$11&S$12&S$13&$D18,'Costo SCyD'!$A$9:$A$597&'Costo SCyD'!$B$9:$B$597&'Costo SCyD'!$C$9:$C$597&'Costo SCyD'!$D$9:$D$597,0),MATCH('Resultados Caso I'!$D$4,'Costo SCyD'!$O$2:$S$2,0))+IF($D$6="Sí",INDEX(costos.acceso,MATCH($D18,vel.SAIB,0),MATCH($D$4,years,0)),0)} -> 185.65898
C19: =+D19&" Mbps" -> 15 Mbps | D19: 15 | F19: {=INDEX('Costo SCyD'!$O$9:$S$597,MATCH(F$11&F$12&F$13&$D19,'Costo SCyD'!$A$9:$A$597&'Costo SCyD'!$B$9:$B$597&'Costo SCyD'!$C$9:$C$597&'Costo SCyD'!$D$9:$D$597,0),MATCH('Resultados Caso I'!$D$4,'Costo SCyD'!$O$2:$S$2,0))+IF($D$6="Sí",INDEX(costos.acceso,MATCH($D19,vel.SAIB,0),MATCH($D$4,years,0)),0)} -> 140.31017 | G19: {=INDEX('Costo SCyD'!$O$9:$S$597,MATCH(G$11&G$12&G$13&$D19,'Costo SCyD'!$A$9:$A$597&'Costo SCyD'!$B$9:$B$597&'Costo SCyD'!$C$9:$C$597&'Costo SCyD'!$D$9:$D$597,0),MATCH('Resultados Caso I'!$D$4,'Costo SCyD'!$O$2:$S$2,0))+IF($D$6="Sí",INDEX(costos.acceso,MATCH($D19,vel.SAIB,0),MATCH($D$4,years,0)),0)} -> 144.51268 | H19: {=INDEX('Costo SCyD'!$O$9:$S$597,MATCH(H$11&H$12&H$13&$D19,'Costo SCyD'!$A$9:$A$597&'Costo SCyD'!$B$9:$B$597&'Costo SCyD'!$C$9:$C$597&'Costo SCyD'!$D$9:$D$597,0),MATCH('Resultados Caso I'!$D$4,'Costo SCyD'!$O$2:$S$2,0))+IF($D$6="Sí",INDEX(costos.acceso,MATCH($D19,vel.SAIB,0),MATCH($D$4,years,0)),0)} -> 150.7168 | I19: {=INDEX('Costo SCyD'!$O$9:$S$597,MATCH(I$11&I$12&I$13&$D19,'Costo SCyD'!$A$9:$A$597&'Costo SCyD'!$B$9:$B$597&'Costo SCyD'!$C$9:$C$597&'Costo SCyD'!$D$9:$D$597,0),MATCH('Resultados Caso I'!$D$4,'Costo SCyD'!$O$2:$S$2,0))+IF($D$6="Sí",INDEX(costos.acceso,MATCH($D19,vel.SAIB,0),MATCH($D$4,years,0)),0)} -> 156.33424 | K19: {=INDEX('Costo SCyD'!$O$9:$S$597,MATCH(K$11&K$12&K$13&$D19,'Costo SCyD'!$A$9:$A$597&'Costo SCyD'!$B$9:$B$597&'Costo SCyD'!$C$9:$C$597&'Costo SCyD'!$D$9:$D$597,0),MATCH('Resultados Caso I'!$D$4,'Costo SCyD'!$O$2:$S$2,0))+IF($D$6="Sí",INDEX(costos.acceso,MATCH($D19,vel.SAIB,0),MATCH($D$4,years,0)),0)} -> 155.75511 | L19: {=INDEX('Costo SCyD'!$O$9:$S$597,MATCH(L$11&L$12&L$13&$D19,'Costo SCyD'!$A$9:$A$597&'Costo SCyD'!$B$9:$B$597&'Costo SCyD'!$C$9:$C$597&'Costo SCyD'!$D$9:$D$597,0),MATCH('Resultados Caso I'!$D$4,'Costo SCyD'!$O$2:$S$2,0))+IF($D$6="Sí",INDEX(costos.acceso,MATCH($D19,vel.SAIB,0),MATCH($D$4,years,0)),0)} -> 161.65887 | M19: {=INDEX('Costo SCyD'!$O$9:$S$597,MATCH(M$11&M$12&M$13&$D19,'Costo SCyD'!$A$9:$A$597&'Costo SCyD'!$B$9:$B$597&'Costo SCyD'!$C$9:$C$597&'Costo SCyD'!$D$9:$D$597,0),MATCH('Resultados Caso I'!$D$4,'Costo SCyD'!$O$2:$S$2,0))+IF($D$6="Sí",INDEX(costos.acceso,MATCH($D19,vel.SAIB,0),MATCH($D$4,years,0)),0)} -> 170.37455 | N19: {=INDEX('Costo SCyD'!$O$9:$S$597,MATCH(N$11&N$12&N$13&$D19,'Costo SCyD'!$A$9:$A$597&'Costo SCyD'!$B$9:$B$597&'Costo SCyD'!$C$9:$C$597&'Costo SCyD'!$D$9:$D$597,0),MATCH('Resultados Caso I'!$D$4,'Costo SCyD'!$O$2:$S$2,0))+IF($D$6="Sí",INDEX(costos.acceso,MATCH($D19,vel.SAIB,0),MATCH($D$4,years,0)),0)} -> 178.26605 | P19: {=INDEX('Costo SCyD'!$O$9:$S$597,MATCH(P$11&P$12&P$13&$D19,'Costo SCyD'!$A$9:$A$597&'Costo SCyD'!$B$9:$B$597&'Costo SCyD'!$C$9:$C$597&'Costo SCyD'!$D$9:$D$597,0),MATCH('Resultados Caso I'!$D$4,'Costo SCyD'!$O$2:$S$2,0))+IF($D$6="Sí",INDEX(costos.acceso,MATCH($D19,vel.SAIB,0),MATCH($D$4,years,0)),0)} -> 173.77539 | Q19: {=INDEX('Costo SCyD'!$O$9:$S$597,MATCH(Q$11&Q$12&Q$13&$D19,'Costo SCyD'!$A$9:$A$597&'Costo SCyD'!$B$9:$B$597&'Costo SCyD'!$C$9:$C$597&'Costo SCyD'!$D$9:$D$597,0),MATCH('Resultados Caso I'!$D$4,'Costo SCyD'!$O$2:$S$2,0))+IF($D$6="Sí",INDEX(costos.acceso,MATCH($D19,vel.SAIB,0),MATCH($D$4,years,0)),0)} -> 181.66408 | R19: {=INDEX('Costo SCyD'!$O$9:$S$597,MATCH(R$11&R$12&R$13&$D19,'Costo SCyD'!$A$9:$A$597&'Costo SCyD'!$B$9:$B$597&'Costo SCyD'!$C$9:$C$597&'Costo SCyD'!$D$9:$D$597,0),MATCH('Resultados Caso I'!$D$4,'Costo SCyD'!$O$2:$S$2,0))+IF($D$6="Sí",INDEX(costos.acceso,MATCH($D19,vel.SAIB,0),MATCH($D$4,years,0)),0)} -> 193.31011 | S19: {=INDEX('Costo SCyD'!$O$9:$S$597,MATCH(S$11&S$12&S$13&$D19,'Costo SCyD'!$A$9:$A$597&'Costo SCyD'!$B$9:$B$597&'Costo SCyD'!$C$9:$C$597&'Costo SCyD'!$D$9:$D$597,0),MATCH('Resultados Caso I'!$D$4,'Costo SCyD'!$O$2:$S$2,0))+IF($D$6="Sí",INDEX(costos.acceso,MATCH($D19,vel.SAIB,0),MATCH($D$4,years,0)),0)} -> 203.85484
C20: =+D20&" Mbps" -> 20 Mbps | D20: 20 | F20: {=INDEX('Costo SCyD'!$O$9:$S$597,MATCH(F$11&F$12&F$13&$D20,'Costo SCyD'!$A$9:$A$597&'Costo SCyD'!$B$9:$B$597&'Costo SCyD'!$C$9:$C$597&'Costo SCyD'!$D$9:$D$597,0),MATCH('Resultados Caso I'!$D$4,'Costo SCyD'!$O$2:$S$2,0))+IF($D$6="Sí",INDEX(costos.acceso,MATCH($D20,vel.SAIB,0),MATCH($D$4,years,0)),0)} -> 146.03784 | G20: {=INDEX('Costo SCyD'!$O$9:$S$597,MATCH(G$11&G$12&G$13&$D20,'Costo SCyD'!$A$9:$A$597&'Costo SCyD'!$B$9:$B$597&'Costo SCyD'!$C$9:$C$597&'Costo SCyD'!$D$9:$D$597,0),MATCH('Resultados Caso I'!$D$4,'Costo SCyD'!$O$2:$S$2,0))+IF($D$6="Sí",INDEX(costos.acceso,MATCH($D20,vel.SAIB,0),MATCH($D$4,years,0)),0)} -> 150.87125 | H20: {=INDEX('Costo SCyD'!$O$9:$S$597,MATCH(H$11&H$12&H$13&$D20,'Costo SCyD'!$A$9:$A$597&'Costo SCyD'!$B$9:$B$597&'Costo SCyD'!$C$9:$C$597&'Costo SCyD'!$D$9:$D$597,0),MATCH('Resultados Caso I'!$D$4,'Costo SCyD'!$O$2:$S$2,0))+IF($D$6="Sí",INDEX(costos.acceso,MATCH($D20,vel.SAIB,0),MATCH($D$4,years,0)),0)} -> 158.00677 | I20: {=INDEX('Costo SCyD'!$O$9:$S$597,MATCH(I$11&I$12&I$13&$D20,'Costo SCyD'!$A$9:$A$597&'Costo SCyD'!$B$9:$B$597&'Costo SCyD'!$C$9:$C$597&'Costo SCyD'!$D$9:$D$597,0),MATCH('Resultados Caso I'!$D$4,'Costo SCyD'!$O$2:$S$2,0))+IF($D$6="Sí",INDEX(costos.acceso,MATCH($D20,vel.SAIB,0),MATCH($D$4,years,0)),0)} -> 164.46753 | K20: {=INDEX('Costo SCyD'!$O$9:$S$597,MATCH(K$11&K$12&K$13&$D20,'Costo SCyD'!$A$9:$A$597&'Costo SCyD'!$B$9:$B$597&'Costo SCyD'!$C$9:$C$597&'Costo SCyD'!$D$9:$D$597,0),MATCH('Resultados Caso I'!$D$4,'Costo SCyD'!$O$2:$S$2,0))+IF($D$6="Sí",INDEX(costos.acceso,MATCH($D20,vel.SAIB,0),MATCH($D$4,years,0)),0)} -> 163.80145 | L20: {=INDEX('Costo SCyD'!$O$9:$S$597,MATCH(L$11&L$12&L$13&$D20,'Costo SCyD'!$A$9:$A$597&'Costo SCyD'!$B$9:$B$597&'Costo SCyD'!$C$9:$C$597&'Costo SCyD'!$D$9:$D$597,0),MATCH('Resultados Caso I'!$D$4,'Costo SCyD'!$O$2:$S$2,0))+IF($D$6="Sí",INDEX(costos.acceso,MATCH($D20,vel.SAIB,0),MATCH($D$4,years,0)),0)} -> 170.59152 | M20: {=INDEX('Costo SCyD'!$O$9:$S$597,MATCH(M$11&M$12&M$13&$D20,'Costo SCyD'!$A$9:$A$597&'Costo SCyD'!$B$9:$B$597&'Costo SCyD'!$C$9:$C$597&'Costo SCyD'!$D$9:$D$597,0),MATCH('Resultados Caso I'!$D$4,'Costo SCyD'!$O$2:$S$2,0))+IF($D$6="Sí",INDEX(costos.acceso,MATCH($D20,vel.SAIB,0),MATCH($D$4,years,0)),0)} -> 180.61565 | N20: {=INDEX('Costo SCyD'!$O$9:$S$597,MATCH(N$11&N$12&N$13&$D20,'Costo SCyD'!$A$9:$A$597&'Costo SCyD'!$B$9:$B$597&'Costo SCyD'!$C$9:$C$597&'Costo SCyD'!$D$9:$D$597,0),MATCH('Resultados Caso I'!$D$4,'Costo SCyD'!$O$2:$S$2,0))+IF($D$6="Sí",INDEX(costos.acceso,MATCH($D20,vel.SAIB,0),MATCH($D$4,years,0)),0)} -> 189.69186 | P20: {=INDEX('Costo SCyD'!$O$9:$S$597,MATCH(P$11&P$12&P$13&$D20,'Costo SCyD'!$A$9:$A$597&'Costo SCyD'!$B$9:$B$597&'Costo SCyD'!$C$9:$C$597&'Costo SCyD'!$D$9:$D$597,0),MATCH('Resultados Caso I'!$D$4,'Costo SCyD'!$O$2:$S$2,0))+IF($D$6="Sí",INDEX(costos.acceso,MATCH($D20,vel.SAIB,0),MATCH($D$4,years,0)),0)} -> 184.52703 | Q20: {=INDEX('Costo SCyD'!$O$9:$S$597,MATCH(Q$11&Q$12&Q$13&$D20,'Costo SCyD'!$A$9:$A$597&'Costo SCyD'!$B$9:$B$597&'Costo SCyD'!$C$9:$C$597&'Costo SCyD'!$D$9:$D$597,0),MATCH('Resultados Caso I'!$D$4,'Costo SCyD'!$O$2:$S$2,0))+IF($D$6="Sí",INDEX(costos.acceso,MATCH($D20,vel.SAIB,0),MATCH($D$4,years,0)),0)} -> 193.60002 | R20: {=INDEX('Costo SCyD'!$O$9:$S$597,MATCH(R$11&R$12&R$13&$D20,'Costo SCyD'!$A$9:$A$597&'Costo SCyD'!$B$9:$B$597&'Costo SCyD'!$C$9:$C$597&'Costo SCyD'!$D$9:$D$597,0),MATCH('Resultados Caso I'!$D$4,'Costo SCyD'!$O$2:$S$2,0))+IF($D$6="Sí",INDEX(costos.acceso,MATCH($D20,vel.SAIB,0),MATCH($D$4,years,0)),0)} -> 206.99441 | S20: {=INDEX('Costo SCyD'!$O$9:$S$597,MATCH(S$11&S$12&S$13&$D20,'Costo SCyD'!$A$9:$A$597&'Costo SCyD'!$B$9:$B$597&'Costo SCyD'!$C$9:$C$597&'Costo SCyD'!$D$9:$D$597,0),MATCH('Resultados Caso I'!$D$4,'Costo SCyD'!$O$2:$S$2,0))+IF($D$6="Sí",INDEX(costos.acceso,MATCH($D20,vel.SAIB,0),MATCH($D$4,years,0)),0)} -> 219.12218
C21: =+D21&" Mbps" -> 30 Mbps | D21: 30 | F21: {=INDEX('Costo SCyD'!$O$9:$S$597,MATCH(F$11&F$12&F$13&$D21,'Costo SCyD'!$A$9:$A$597&'Costo SCyD'!$B$9:$B$597&'Costo SCyD'!$C$9:$C$597&'Costo SCyD'!$D$9:$D$597,0),MATCH('Resultados Caso I'!$D$4,'Costo SCyD'!$O$2:$S$2,0))+IF($D$6="Sí",INDEX(costos.acceso,MATCH($D21,vel.SAIB,0),MATCH($D$4,years,0)),0)} -> 155.59982 | G21: {=INDEX('Costo SCyD'!$O$9:$S$597,MATCH(G$11&G$12&G$13&$D21,'Costo SCyD'!$A$9:$A$597&'Costo SCyD'!$B$9:$B$597&'Costo SCyD'!$C$9:$C$597&'Costo SCyD'!$D$9:$D$597,0),MATCH('Resultados Caso I'!$D$4,'Costo SCyD'!$O$2:$S$2,0))+IF($D$6="Sí",INDEX(costos.acceso,MATCH($D21,vel.SAIB,0),MATCH($D$4,years,0)),0)} -> 161.48648 | H21: {=INDEX('Costo SCyD'!$O$9:$S$597,MATCH(H$11&H$12&H$13&$D21,'Costo SCyD'!$A$9:$A$597&'Costo SCyD'!$B$9:$B$597&'Costo SCyD'!$C$9:$C$597&'Costo SCyD'!$D$9:$D$597,0),MATCH('Resultados Caso I'!$D$4,'Costo SCyD'!$O$2:$S$2,0))+IF($D$6="Sí",INDEX(costos.acceso,MATCH($D21,vel.SAIB,0),MATCH($D$4,years,0)),0)} -> 170.17691 | I21: {=INDEX('Costo SCyD'!$O$9:$S$597,MATCH(I$11&I$12&I$13&$D21,'Costo SCyD'!$A$9:$A$597&'Costo SCyD'!$B$9:$B$597&'Costo SCyD'!$C$9:$C$597&'Costo SCyD'!$D$9:$D$597,0),MATCH('Resultados Caso I'!$D$4,'Costo SCyD'!$O$2:$S$2,0))+IF($D$6="Sí",INDEX(costos.acceso,MATCH($D21,vel.SAIB,0),MATCH($D$4,years,0)),0)} -> 178.04554 | K21: {=INDEX('Costo SCyD'!$O$9:$S$597,MATCH(K$11&K$12&K$13&$D21,'Costo SCyD'!$A$9:$A$597&'Costo SCyD'!$B$9:$B$597&'Costo SCyD'!$C$9:$C$597&'Costo SCyD'!$D$9:$D$597,0),MATCH('Resultados Caso I'!$D$4,'Costo SCyD'!$O$2:$S$2,0))+IF($D$6="Sí",INDEX(costos.acceso,MATCH($D21,vel.SAIB,0),MATCH($D$4,years,0)),0)} -> 177.23432 | L21: {=INDEX('Costo SCyD'!$O$9:$S$597,MATCH(L$11&L$12&L$13&$D21,'Costo SCyD'!$A$9:$A$597&'Costo SCyD'!$B$9:$B$597&'Costo SCyD'!$C$9:$C$597&'Costo SCyD'!$D$9:$D$597,0),MATCH('Resultados Caso I'!$D$4,'Costo SCyD'!$O$2:$S$2,0))+IF($D$6="Sí",INDEX(costos.acceso,MATCH($D21,vel.SAIB,0),MATCH($D$4,years,0)),0)} -> 185.50402 | M21: {=INDEX('Costo SCyD'!$O$9:$S$597,MATCH(M$11&M$12&M$13&$D21,'Costo SCyD'!$A$9:$A$597&'Costo SCyD'!$B$9:$B$597&'Costo SCyD'!$C$9:$C$597&'Costo SCyD'!$D$9:$D$597,0),MATCH('Resultados Caso I'!$D$4,'Costo SCyD'!$O$2:$S$2,0))+IF($D$6="Sí",INDEX(costos.acceso,MATCH($D21,vel.SAIB,0),MATCH($D$4,years,0)),0)} -> 197.71251 | N21: {=INDEX('Costo SCyD'!$O$9:$S$597,MATCH(N$11&N$12&N$13&$D21,'Costo SCyD'!$A$9:$A$597&'Costo SCyD'!$B$9:$B$597&'Costo SCyD'!$C$9:$C$597&'Costo SCyD'!$D$9:$D$597,0),MATCH('Resultados Caso I'!$D$4,'Costo SCyD'!$O$2:$S$2,0))+IF($D$6="Sí",INDEX(costos.acceso,MATCH($D21,vel.SAIB,0),MATCH($D$4,years,0)),0)} -> 208.76653 | P21: {=INDEX('Costo SCyD'!$O$9:$S$597,MATCH(P$11&P$12&P$13&$D21,'Costo SCyD'!$A$9:$A$597&'Costo SCyD'!$B$9:$B$597&'Costo SCyD'!$C$9:$C$597&'Costo SCyD'!$D$9:$D$597,0),MATCH('Resultados Caso I'!$D$4,'Costo SCyD'!$O$2:$S$2,0))+IF($D$6="Sí",INDEX(costos.acceso,MATCH($D21,vel.SAIB,0),MATCH($D$4,years,0)),0)} -> 202.47623 | Q21: {=INDEX('Costo SCyD'!$O$9:$S$597,MATCH(Q$11&Q$12&Q$13&$D21,'Costo SCyD'!$A$9:$A$597&'Costo SCyD'!$B$9:$B$597&'Costo SCyD'!$C$9:$C$597&'Costo SCyD'!$D$9:$D$597,0),MATCH('Resultados Caso I'!$D$4,'Costo SCyD'!$O$2:$S$2,0))+IF($D$6="Sí",INDEX(costos.acceso,MATCH($D21,vel.SAIB,0),MATCH($D$4,years,0)),0)} -> 213.52633 | R21: {=INDEX('Costo SCyD'!$O$9:$S$597,MATCH(R$11&R$12&R$13&$D21,'Costo SCyD'!$A$9:$A$597&'Costo SCyD'!$B$9:$B$597&'Costo SCyD'!$C$9:$C$597&'Costo SCyD'!$D$9:$D$597,0),MATCH('Resultados Caso I'!$D$4,'Costo SCyD'!$O$2:$S$2,0))+IF($D$6="Sí",INDEX(costos.acceso,MATCH($D21,vel.SAIB,0),MATCH($D$4,years,0)),0)} -> 229.8395 | S21: {=INDEX('Costo SCyD'!$O$9:$S$597,MATCH(S$11&S$12&S$13&$D21,'Costo SCyD'!$A$9:$A$597&'Costo SCyD'!$B$9:$B$597&'Costo SCyD'!$C$9:$C$597&'Costo SCyD'!$D$9:$D$597,0),MATCH('Resultados Caso I'!$D$4,'Costo SCyD'!$O$2:$S$2,0))+IF($D$6="Sí",INDEX(costos.acceso,MATCH($D21,vel.SAIB,0),MATCH($D$4,years,0)),0)} -> 244.61004
C22: =+D22&" Mbps" -> 40 Mbps | D22: 40 | F22: {=INDEX('Costo SCyD'!$O$9:$S$597,MATCH(F$11&F$12&F$13&$D22,'Costo SCyD'!$A$9:$A$597&'Costo SCyD'!$B$9:$B$597&'Costo SCyD'!$C$9:$C$597&'Costo SCyD'!$D$9:$D$597,0),MATCH('Resultados Caso I'!$D$4,'Costo SCyD'!$O$2:$S$2,0))+IF($D$6="Sí",INDEX(costos.acceso,MATCH($D22,vel.SAIB,0),MATCH($D$4,years,0)),0)} -> 163.62285 | G22: {=INDEX('Costo SCyD'!$O$9:$S$597,MATCH(G$11&G$12&G$13&$D22,'Costo SCyD'!$A$9:$A$597&'Costo SCyD'!$B$9:$B$597&'Costo SCyD'!$C$9:$C$597&'Costo SCyD'!$D$9:$D$597,0),MATCH('Resultados Caso I'!$D$4,'Costo SCyD'!$O$2:$S$2,0))+IF($D$6="Sí",INDEX(costos.acceso,MATCH($D22,vel.SAIB,0),MATCH($D$4,years,0)),0)} -> 170.39325 | H22: {=INDEX('Costo SCyD'!$O$9:$S$597,MATCH(H$11&H$12&H$13&$D22,'Costo SCyD'!$A$9:$A$597&'Costo SCyD'!$B$9:$B$597&'Costo SCyD'!$C$9:$C$597&'Costo SCyD'!$D$9:$D$597,0),MATCH('Resultados Caso I'!$D$4,'Costo SCyD'!$O$2:$S$2,0))+IF($D$6="Sí",INDEX(costos.acceso,MATCH($D22,vel.SAIB,0),MATCH($D$4,years,0)),0)} -> 180.38833 | I22: {=INDEX('Costo SCyD'!$O$9:$S$597,MATCH(I$11&I$12&I$13&$D22,'Costo SCyD'!$A$9:$A$597&'Costo SCyD'!$B$9:$B$597&'Costo SCyD'!$C$9:$C$597&'Costo SCyD'!$D$9:$D$597,0),MATCH('Resultados Caso I'!$D$4,'Costo SCyD'!$O$2:$S$2,0))+IF($D$6="Sí",INDEX(costos.acceso,MATCH($D22,vel.SAIB,0),MATCH($D$4,years,0)),0)} -> 189.43824 | K22: {=INDEX('Costo SCyD'!$O$9:$S$597,MATCH(K$11&K$12&K$13&$D22,'Costo SCyD'!$A$9:$A$597&'Costo SCyD'!$B$9:$B$597&'Costo SCyD'!$C$9:$C$597&'Costo SCyD'!$D$9:$D$597,0),MATCH('Resultados Caso I'!$D$4,'Costo SCyD'!$O$2:$S$2,0))+IF($D$6="Sí",INDEX(costos.acceso,MATCH($D22,vel.SAIB,0),MATCH($D$4,years,0)),0)} -> 188.50524 | L22: {=INDEX('Costo SCyD'!$O$9:$S$597,MATCH(L$11&L$12&L$13&$D22,'Costo SCyD'!$A$9:$A$597&'Costo SCyD'!$B$9:$B$597&'Costo SCyD'!$C$9:$C$597&'Costo SCyD'!$D$9:$D$597,0),MATCH('Resultados Caso I'!$D$4,'Costo SCyD'!$O$2:$S$2,0))+IF($D$6="Sí",INDEX(costos.acceso,MATCH($D22,vel.SAIB,0),MATCH($D$4,years,0)),0)} -> 198.01643 | M22: {=INDEX('Costo SCyD'!$O$9:$S$597,MATCH(M$11&M$12&M$13&$D22,'Costo SCyD'!$A$9:$A$597&'Costo SCyD'!$B$9:$B$597&'Costo SCyD'!$C$9:$C$597&'Costo SCyD'!$D$9:$D$597,0),MATCH('Resultados Caso I'!$D$4,'Costo SCyD'!$O$2:$S$2,0))+IF($D$6="Sí",INDEX(costos.acceso,MATCH($D22,vel.SAIB,0),MATCH($D$4,years,0)),0)} -> 212.05773 | N22: {=INDEX('Costo SCyD'!$O$9:$S$597,MATCH(N$11&N$12&N$13&$D22,'Costo SCyD'!$A$9:$A$597&'Costo SCyD'!$B$9:$B$597&'Costo SCyD'!$C$9:$C$597&'Costo SCyD'!$D$9:$D$597,0),MATCH('Resultados Caso I'!$D$4,'Costo SCyD'!$O$2:$S$2,0))+IF($D$6="Sí",INDEX(costos.acceso,MATCH($D22,vel.SAIB,0),MATCH($D$4,years,0)),0)} -> 224.77124 | P22: {=INDEX('Costo SCyD'!$O$9:$S$597,MATCH(P$11&P$12&P$13&$D22,'Costo SCyD'!$A$9:$A$597&'Costo SCyD'!$B$9:$B$597&'Costo SCyD'!$C$9:$C$597&'Costo SCyD'!$D$9:$D$597,0),MATCH('Resultados Caso I'!$D$4,'Costo SCyD'!$O$2:$S$2,0))+IF($D$6="Sí",INDEX(costos.acceso,MATCH($D22,vel.SAIB,0),MATCH($D$4,years,0)),0)} -> 217.53661 | Q22: {=INDEX('Costo SCyD'!$O$9:$S$597,MATCH(Q$11&Q$12&Q$13&$D22,'Costo SCyD'!$A$9:$A$597&'Costo SCyD'!$B$9:$B$597&'Costo SCyD'!$C$9:$C$597&'Costo SCyD'!$D$9:$D$597,0),MATCH('Resultados Caso I'!$D$4,'Costo SCyD'!$O$2:$S$2,0))+IF($D$6="Sí",INDEX(costos.acceso,MATCH($D22,vel.SAIB,0),MATCH($D$4,years,0)),0)} -> 230.2456 | R22: {=INDEX('Costo SCyD'!$O$9:$S$597,MATCH(R$11&R$12&R$13&$D22,'Costo SCyD'!$A$9:$A$597&'Costo SCyD'!$B$9:$B$597&'Costo SCyD'!$C$9:$C$597&'Costo SCyD'!$D$9:$D$597,0),MATCH('Resultados Caso I'!$D$4,'Costo SCyD'!$O$2:$S$2,0))+IF($D$6="Sí",INDEX(costos.acceso,MATCH($D22,vel.SAIB,0),MATCH($D$4,years,0)),0)} -> 249.0078 | S22: {=INDEX('Costo SCyD'!$O$9:$S$597,MATCH(S$11&S$12&S$13&$D22,'Costo SCyD'!$A$9:$A$597&'Costo SCyD'!$B$9:$B$597&'Costo SCyD'!$C$9:$C$597&'Costo SCyD'!$D$9:$D$597,0),MATCH('Resultados Caso I'!$D$4,'Costo SCyD'!$O$2:$S$2,0))+IF($D$6="Sí",INDEX(costos.acceso,MATCH($D22,vel.SAIB,0),MATCH($D$4,years,0)),0)} -> 265.99577
C23: =+D23&" Mbps" -> 50 Mbps | D23: 50 | F23: {=INDEX('Costo SCyD'!$O$9:$S$597,MATCH(F$11&F$12&F$13&$D23,'Costo SCyD'!$A$9:$A$597&'Costo SCyD'!$B$9:$B$597&'Costo SCyD'!$C$9:$C$597&'Costo SCyD'!$D$9:$D$597,0),MATCH('Resultados Caso I'!$D$4,'Costo SCyD'!$O$2:$S$2,0))+IF($D$6="Sí",INDEX(costos.acceso,MATCH($D23,vel.SAIB,0),MATCH($D$4,years,0)),0)} -> 170.66655 | G23: {=INDEX('Costo SCyD'!$O$9:$S$597,MATCH(G$11&G$12&G$13&$D23,'Costo SCyD'!$A$9:$A$597&'Costo SCyD'!$B$9:$B$597&'Costo SCyD'!$C$9:$C$597&'Costo SCyD'!$D$9:$D$597,0),MATCH('Resultados Caso I'!$D$4,'Costo SCyD'!$O$2:$S$2,0))+IF($D$6="Sí",INDEX(costos.acceso,MATCH($D23,vel.SAIB,0),MATCH($D$4,years,0)),0)} -> 178.21281 | H23: {=INDEX('Costo SCyD'!$O$9:$S$597,MATCH(H$11&H$12&H$13&$D23,'Costo SCyD'!$A$9:$A$597&'Costo SCyD'!$B$9:$B$597&'Costo SCyD'!$C$9:$C$597&'Costo SCyD'!$D$9:$D$597,0),MATCH('Resultados Caso I'!$D$4,'Costo SCyD'!$O$2:$S$2,0))+IF($D$6="Sí",INDEX(costos.acceso,MATCH($D23,vel.SAIB,0),MATCH($D$4,years,0)),0)} -> 189.35329 | I23: {=INDEX('Costo SCyD'!$O$9:$S$597,MATCH(I$11&I$12&I$13&$D23,'Costo SCyD'!$A$9:$A$597&'Costo SCyD'!$B$9:$B$597&'Costo SCyD'!$C$9:$C$597&'Costo SCyD'!$D$9:$D$597,0),MATCH('Resultados Caso I'!$D$4,'Costo SCyD'!$O$2:$S$2,0))+IF($D$6="Sí",INDEX(costos.acceso,MATCH($D23,vel.SAIB,0),MATCH($D$4,years,0)),0)} -> 199.44029 | K23: {=INDEX('Costo SCyD'!$O$9:$S$597,MATCH(K$11&K$12&K$13&$D23,'Costo SCyD'!$A$9:$A$597&'Costo SCyD'!$B$9:$B$597&'Costo SCyD'!$C$9:$C$597&'Costo SCyD'!$D$9:$D$597,0),MATCH('Resultados Caso I'!$D$4,'Costo SCyD'!$O$2:$S$2,0))+IF($D$6="Sí",INDEX(costos.acceso,MATCH($D23,vel.SAIB,0),MATCH($D$4,years,0)),0)} -> 198.40037 | L23: {=INDEX('Costo SCyD'!$O$9:$S$597,MATCH(L$11&L$12&L$13&$D23,'Costo SCyD'!$A$9:$A$597&'Costo SCyD'!$B$9:$B$597&'Costo SCyD'!$C$9:$C$597&'Costo SCyD'!$D$9:$D$597,0),MATCH('Resultados Caso I'!$D$4,'Costo SCyD'!$O$2:$S$2,0))+IF($D$6="Sí",INDEX(costos.acceso,MATCH($D23,vel.SAIB,0),MATCH($D$4,years,0)),0)} -> 209.00151 | M23: {=INDEX('Costo SCyD'!$O$9:$S$597,MATCH(M$11&M$12&M$13&$D23,'Costo SCyD'!$A$9:$A$597&'Costo SCyD'!$B$9:$B$597&'Costo SCyD'!$C$9:$C$597&'Costo SCyD'!$D$9:$D$597,0),MATCH('Resultados Caso I'!$D$4,'Costo SCyD'!$O$2:$S$2,0))+IF($D$6="Sí",INDEX(costos.acceso,MATCH($D23,vel.SAIB,0),MATCH($D$4,years,0)),0)} -> 224.65189 | N23: {=INDEX('Costo SCyD'!$O$9:$S$597,MATCH(N$11&N$12&N$13&$D23,'Costo SCyD'!$A$9:$A$597&'Costo SCyD'!$B$9:$B$597&'Costo SCyD'!$C$9:$C$597&'Costo SCyD'!$D$9:$D$597,0),MATCH('Resultados Caso I'!$D$4,'Costo SCyD'!$O$2:$S$2,0))+IF($D$6="Sí",INDEX(costos.acceso,MATCH($D23,vel.SAIB,0),MATCH($D$4,years,0)),0)} -> 238.82232 | P23: {=INDEX('Costo SCyD'!$O$9:$S$597,MATCH(P$11&P$12&P$13&$D23,'Costo SCyD'!$A$9:$A$597&'Costo SCyD'!$B$9:$B$597&'Costo SCyD'!$C$9:$C$597&'Costo SCyD'!$D$9:$D$597,0),MATCH('Resultados Caso I'!$D$4,'Costo SCyD'!$O$2:$S$2,0))+IF($D$6="Sí",INDEX(costos.acceso,MATCH($D23,vel.SAIB,0),MATCH($D$4,years,0)),0)} -> 230.75862 | Q23: {=INDEX('Costo SCyD'!$O$9:$S$597,MATCH(Q$11&Q$12&Q$13&$D23,'Costo SCyD'!$A$9:$A$597&'Costo SCyD'!$B$9:$B$597&'Costo SCyD'!$C$9:$C$597&'Costo SCyD'!$D$9:$D$597,0),MATCH('Resultados Caso I'!$D$4,'Costo SCyD'!$O$2:$S$2,0))+IF($D$6="Sí",INDEX(costos.acceso,MATCH($D23,vel.SAIB,0),MATCH($D$4,years,0)),0)} -> 244.92403 | R23: {=INDEX('Costo SCyD'!$O$9:$S$597,MATCH(R$11&R$12&R$13&$D23,'Costo SCyD'!$A$9:$A$597&'Costo SCyD'!$B$9:$B$597&'Costo SCyD'!$C$9:$C$597&'Costo SCyD'!$D$9:$D$597,0),MATCH('Resultados Caso I'!$D$4,'Costo SCyD'!$O$2:$S$2,0))+IF($D$6="Sí",INDEX(costos.acceso,MATCH($D23,vel.SAIB,0),MATCH($D$4,years,0)),0)} -> 265.8363 | S23: {=INDEX('Costo SCyD'!$O$9:$S$597,MATCH(S$11&S$12&S$13&$D23,'Costo SCyD'!$A$9:$A$597&'Costo SCyD'!$B$9:$B$597&'Costo SCyD'!$C$9:$C$597&'Costo SCyD'!$D$9:$D$597,0),MATCH('Resultados Caso I'!$D$4,'Costo SCyD'!$O$2:$S$2,0))+IF($D$6="Sí",INDEX(costos.acceso,MATCH($D23,vel.SAIB,0),MATCH($D$4,years,0)),0)} -> 284.77104
C24: =+D24&" Mbps" -> 60 Mbps | D24: 60 | F24: {=INDEX('Costo SCyD'!$O$9:$S$597,MATCH(F$11&F$12&F$13&$D24,'Costo SCyD'!$A$9:$A$597&'Costo SCyD'!$B$9:$B$597&'Costo SCyD'!$C$9:$C$597&'Costo SCyD'!$D$9:$D$597,0),MATCH('Resultados Caso I'!$D$4,'Costo SCyD'!$O$2:$S$2,0))+IF($D$6="Sí",INDEX(costos.acceso,MATCH($D24,vel.SAIB,0),MATCH($D$4,years,0)),0)} -> 177.0168 | G24: {=INDEX('Costo SCyD'!$O$9:$S$597,MATCH(G$11&G$12&G$13&$D24,'Costo SCyD'!$A$9:$A$597&'Costo SCyD'!$B$9:$B$597&'Costo SCyD'!$C$9:$C$597&'Costo SCyD'!$D$9:$D$597,0),MATCH('Resultados Caso I'!$D$4,'Costo SCyD'!$O$2:$S$2,0))+IF($D$6="Sí",INDEX(costos.acceso,MATCH($D24,vel.SAIB,0),MATCH($D$4,years,0)),0)} -> 185.26254 | H24: {=INDEX('Costo SCyD'!$O$9:$S$597,MATCH(H$11&H$12&H$13&$D24,'Costo SCyD'!$A$9:$A$597&'Costo SCyD'!$B$9:$B$597&'Costo SCyD'!$C$9:$C$597&'Costo SCyD'!$D$9:$D$597,0),MATCH('Resultados Caso I'!$D$4,'Costo SCyD'!$O$2:$S$2,0))+IF($D$6="Sí",INDEX(costos.acceso,MATCH($D24,vel.SAIB,0),MATCH($D$4,years,0)),0)} -> 197.43566 | I24: {=INDEX('Costo SCyD'!$O$9:$S$597,MATCH(I$11&I$12&I$13&$D24,'Costo SCyD'!$A$9:$A$597&'Costo SCyD'!$B$9:$B$597&'Costo SCyD'!$C$9:$C$597&'Costo SCyD'!$D$9:$D$597,0),MATCH('Resultados Caso I'!$D$4,'Costo SCyD'!$O$2:$S$2,0))+IF($D$6="Sí",INDEX(costos.acceso,MATCH($D24,vel.SAIB,0),MATCH($D$4,years,0)),0)} -> 208.45765 | K24: {=INDEX('Costo SCyD'!$O$9:$S$597,MATCH(K$11&K$12&K$13&$D24,'Costo SCyD'!$A$9:$A$597&'Costo SCyD'!$B$9:$B$597&'Costo SCyD'!$C$9:$C$597&'Costo SCyD'!$D$9:$D$597,0),MATCH('Resultados Caso I'!$D$4,'Costo SCyD'!$O$2:$S$2,0))+IF($D$6="Sí",INDEX(costos.acceso,MATCH($D24,vel.SAIB,0),MATCH($D$4,years,0)),0)} -> 207.32134 | L24: {=INDEX('Costo SCyD'!$O$9:$S$597,MATCH(L$11&L$12&L$13&$D24,'Costo SCyD'!$A$9:$A$597&'Costo SCyD'!$B$9:$B$597&'Costo SCyD'!$C$9:$C$597&'Costo SCyD'!$D$9:$D$597,0),MATCH('Resultados Caso I'!$D$4,'Costo SCyD'!$O$2:$S$2,0))+IF($D$6="Sí",INDEX(costos.acceso,MATCH($D24,vel.SAIB,0),MATCH($D$4,years,0)),0)} -> 218.90512 | M24: {=INDEX('Costo SCyD'!$O$9:$S$597,MATCH(M$11&M$12&M$13&$D24,'Costo SCyD'!$A$9:$A$597&'Costo SCyD'!$B$9:$B$597&'Costo SCyD'!$C$9:$C$597&'Costo SCyD'!$D$9:$D$597,0),MATCH('Resultados Caso I'!$D$4,'Costo SCyD'!$O$2:$S$2,0))+IF($D$6="Sí",INDEX(costos.acceso,MATCH($D24,vel.SAIB,0),MATCH($D$4,years,0)),0)} -> 236.00618 | N24: {=INDEX('Costo SCyD'!$O$9:$S$597,MATCH(N$11&N$12&N$13&$D24,'Costo SCyD'!$A$9:$A$597&'Costo SCyD'!$B$9:$B$597&'Costo SCyD'!$C$9:$C$597&'Costo SCyD'!$D$9:$D$597,0),MATCH('Resultados Caso I'!$D$4,'Costo SCyD'!$O$2:$S$2,0))+IF($D$6="Sí",INDEX(costos.acceso,MATCH($D24,vel.SAIB,0),MATCH($D$4,years,0)),0)} -> 251.49009 | P24: {=INDEX('Costo SCyD'!$O$9:$S$597,MATCH(P$11&P$12&P$13&$D24,'Costo SCyD'!$A$9:$A$597&'Costo SCyD'!$B$9:$B$597&'Costo SCyD'!$C$9:$C$597&'Costo SCyD'!$D$9:$D$597,0),MATCH('Resultados Caso I'!$D$4,'Costo SCyD'!$O$2:$S$2,0))+IF($D$6="Sí",INDEX(costos.acceso,MATCH($D24,vel.SAIB,0),MATCH($D$4,years,0)),0)} -> 242.67896 | Q24: {=INDEX('Costo SCyD'!$O$9:$S$597,MATCH(Q$11&Q$12&Q$13&$D24,'Costo SCyD'!$A$9:$A$597&'Costo SCyD'!$B$9:$B$597&'Costo SCyD'!$C$9:$C$597&'Costo SCyD'!$D$9:$D$597,0),MATCH('Resultados Caso I'!$D$4,'Costo SCyD'!$O$2:$S$2,0))+IF($D$6="Sí",INDEX(costos.acceso,MATCH($D24,vel.SAIB,0),MATCH($D$4,years,0)),0)} -> 258.15739 | R24: {=INDEX('Costo SCyD'!$O$9:$S$597,MATCH(R$11&R$12&R$13&$D24,'Costo SCyD'!$A$9:$A$597&'Costo SCyD'!$B$9:$B$597&'Costo SCyD'!$C$9:$C$597&'Costo SCyD'!$D$9:$D$597,0),MATCH('Resultados Caso I'!$D$4,'Costo SCyD'!$O$2:$S$2,0))+IF($D$6="Sí",INDEX(costos.acceso,MATCH($D24,vel.SAIB,0),MATCH($D$4,years,0)),0)} -> 281.00807 | S24: {=INDEX('Costo SCyD'!$O$9:$S$597,MATCH(S$11&S$12&S$13&$D24,'Costo SCyD'!$A$9:$A$597&'Costo SCyD'!$B$9:$B$597&'Costo SCyD'!$C$9:$C$597&'Costo SCyD'!$D$9:$D$597,0),MATCH('Resultados Caso I'!$D$4,'Costo SCyD'!$O$2:$S$2,0))+IF($D$6="Sí",INDEX(costos.acceso,MATCH($D24,vel.SAIB,0),MATCH($D$4,years,0)),0)} -> 301.69791
C25: =+D25&" Mbps" -> 70 Mbps | D25: 70 | F25: {=INDEX('Costo SCyD'!$O$9:$S$597,MATCH(F$11&F$12&F$13&$D25,'Costo SCyD'!$A$9:$A$597&'Costo SCyD'!$B$9:$B$597&'Costo SCyD'!$C$9:$C$597&'Costo SCyD'!$D$9:$D$597,0),MATCH('Resultados Caso I'!$D$4,'Costo SCyD'!$O$2:$S$2,0))+IF($D$6="Sí",INDEX(costos.acceso,MATCH($D25,vel.SAIB,0),MATCH($D$4,years,0)),0)} -> 182.84295 | G25: {=INDEX('Costo SCyD'!$O$9:$S$597,MATCH(G$11&G$12&G$13&$D25,'Costo SCyD'!$A$9:$A$597&'Costo SCyD'!$B$9:$B$597&'Costo SCyD'!$C$9:$C$597&'Costo SCyD'!$D$9:$D$597,0),MATCH('Resultados Caso I'!$D$4,'Costo SCyD'!$O$2:$S$2,0))+IF($D$6="Sí",INDEX(costos.acceso,MATCH($D25,vel.SAIB,0),MATCH($D$4,years,0)),0)} -> 191.73044 | H25: {=INDEX('Costo SCyD'!$O$9:$S$597,MATCH(H$11&H$12&H$13&$D25,'Costo SCyD'!$A$9:$A$597&'Costo SCyD'!$B$9:$B$597&'Costo SCyD'!$C$9:$C$597&'Costo SCyD'!$D$9:$D$597,0),MATCH('Resultados Caso I'!$D$4,'Costo SCyD'!$O$2:$S$2,0))+IF($D$6="Sí",INDEX(costos.acceso,MATCH($D25,vel.SAIB,0),MATCH($D$4,years,0)),0)} -> 204.85098 | I25: {=INDEX('Costo SCyD'!$O$9:$S$597,MATCH(I$11&I$12&I$13&$D25,'Costo SCyD'!$A$9:$A$597&'Costo SCyD'!$B$9:$B$597&'Costo SCyD'!$C$9:$C$597&'Costo SCyD'!$D$9:$D$597,0),MATCH('Resultados Caso I'!$D$4,'Costo SCyD'!$O$2:$S$2,0))+IF($D$6="Sí",INDEX(costos.acceso,MATCH($D25,vel.SAIB,0),MATCH($D$4,years,0)),0)} -> 216.73079 | K25: {=INDEX('Costo SCyD'!$O$9:$S$597,MATCH(K$11&K$12&K$13&$D25,'Costo SCyD'!$A$9:$A$597&'Costo SCyD'!$B$9:$B$597&'Costo SCyD'!$C$9:$C$597&'Costo SCyD'!$D$9:$D$597,0),MATCH('Resultados Caso I'!$D$4,'Costo SCyD'!$O$2:$S$2,0))+IF($D$6="Sí",INDEX(costos.acceso,MATCH($D25,vel.SAIB,0),MATCH($D$4,years,0)),0)} -> 215.50604 | L25: {=INDEX('Costo SCyD'!$O$9:$S$597,MATCH(L$11&L$12&L$13&$D25,'Costo SCyD'!$A$9:$A$597&'Costo SCyD'!$B$9:$B$597&'Costo SCyD'!$C$9:$C$597&'Costo SCyD'!$D$9:$D$597,0),MATCH('Resultados Caso I'!$D$4,'Costo SCyD'!$O$2:$S$2,0))+IF($D$6="Sí",INDEX(costos.acceso,MATCH($D25,vel.SAIB,0),MATCH($D$4,years,0)),0)} -> 227.99137 | M25: {=INDEX('Costo SCyD'!$O$9:$S$597,MATCH(M$11&M$12&M$13&$D25,'Costo SCyD'!$A$9:$A$597&'Costo SCyD'!$B$9:$B$597&'Costo SCyD'!$C$9:$C$597&'Costo SCyD'!$D$9:$D$597,0),MATCH('Resultados Caso I'!$D$4,'Costo SCyD'!$O$2:$S$2,0))+IF($D$6="Sí",INDEX(costos.acceso,MATCH($D25,vel.SAIB,0),MATCH($D$4,years,0)),0)} -> 246.42336 | N25: {=INDEX('Costo SCyD'!$O$9:$S$597,MATCH(N$11&N$12&N$13&$D25,'Costo SCyD'!$A$9:$A$597&'Costo SCyD'!$B$9:$B$597&'Costo SCyD'!$C$9:$C$597&'Costo SCyD'!$D$9:$D$597,0),MATCH('Resultados Caso I'!$D$4,'Costo SCyD'!$O$2:$S$2,0))+IF($D$6="Sí",INDEX(costos.acceso,MATCH($D25,vel.SAIB,0),MATCH($D$4,years,0)),0)} -> 263.11236 | P25: {=INDEX('Costo SCyD'!$O$9:$S$597,MATCH(P$11&P$12&P$13&$D25,'Costo SCyD'!$A$9:$A$597&'Costo SCyD'!$B$9:$B$597&'Costo SCyD'!$C$9:$C$597&'Costo SCyD'!$D$9:$D$597,0),MATCH('Resultados Caso I'!$D$4,'Costo SCyD'!$O$2:$S$2,0))+IF($D$6="Sí",INDEX(costos.acceso,MATCH($D25,vel.SAIB,0),MATCH($D$4,years,0)),0)} -> 253.61547 | Q25: {=INDEX('Costo SCyD'!$O$9:$S$597,MATCH(Q$11&Q$12&Q$13&$D25,'Costo SCyD'!$A$9:$A$597&'Costo SCyD'!$B$9:$B$597&'Costo SCyD'!$C$9:$C$597&'Costo SCyD'!$D$9:$D$597,0),MATCH('Resultados Caso I'!$D$4,'Costo SCyD'!$O$2:$S$2,0))+IF($D$6="Sí",INDEX(costos.acceso,MATCH($D25,vel.SAIB,0),MATCH($D$4,years,0)),0)} -> 270.29856 | R25: {=INDEX('Costo SCyD'!$O$9:$S$597,MATCH(R$11&R$12&R$13&$D25,'Costo SCyD'!$A$9:$A$597&'Costo SCyD'!$B$9:$B$597&'Costo SCyD'!$C$9:$C$597&'Costo SCyD'!$D$9:$D$597,0),MATCH('Resultados Caso I'!$D$4,'Costo SCyD'!$O$2:$S$2,0))+IF($D$6="Sí",INDEX(costos.acceso,MATCH($D25,vel.SAIB,0),MATCH($D$4,years,0)),0)} -> 294.92767 | S25: {=INDEX('Costo SCyD'!$O$9:$S$597,MATCH(S$11&S$12&S$13&$D25,'Costo SCyD'!$A$9:$A$597&'Costo SCyD'!$B$9:$B$597&'Costo SCyD'!$C$9:$C$597&'Costo SCyD'!$D$9:$D$597,0),MATCH('Resultados Caso I'!$D$4,'Costo SCyD'!$O$2:$S$2,0))+IF($D$6="Sí",INDEX(costos.acceso,MATCH($D25,vel.SAIB,0),MATCH($D$4,years,0)),0)} -> 317.22777
C26: =+D26&" Mbps" -> 80 Mbps | D26: 80 | F26: {=INDEX('Costo SCyD'!$O$9:$S$597,MATCH(F$11&F$12&F$13&$D26,'Costo SCyD'!$A$9:$A$597&'Costo SCyD'!$B$9:$B$597&'Costo SCyD'!$C$9:$C$597&'Costo SCyD'!$D$9:$D$597,0),MATCH('Resultados Caso I'!$D$4,'Costo SCyD'!$O$2:$S$2,0))+IF($D$6="Sí",INDEX(costos.acceso,MATCH($D26,vel.SAIB,0),MATCH($D$4,years,0)),0)} -> 188.25507 | G26: {=INDEX('Costo SCyD'!$O$9:$S$597,MATCH(G$11&G$12&G$13&$D26,'Costo SCyD'!$A$9:$A$597&'Costo SCyD'!$B$9:$B$597&'Costo SCyD'!$C$9:$C$597&'Costo SCyD'!$D$9:$D$597,0),MATCH('Resultados Caso I'!$D$4,'Costo SCyD'!$O$2:$S$2,0))+IF($D$6="Sí",INDEX(costos.acceso,MATCH($D26,vel.SAIB,0),MATCH($D$4,years,0)),0)} -> 197.7387 | H26: {=INDEX('Costo SCyD'!$O$9:$S$597,MATCH(H$11&H$12&H$13&$D26,'Costo SCyD'!$A$9:$A$597&'Costo SCyD'!$B$9:$B$597&'Costo SCyD'!$C$9:$C$597&'Costo SCyD'!$D$9:$D$597,0),MATCH('Resultados Caso I'!$D$4,'Costo SCyD'!$O$2:$S$2,0))+IF($D$6="Sí",INDEX(costos.acceso,MATCH($D26,vel.SAIB,0),MATCH($D$4,years,0)),0)} -> 211.73932 | I26: {=INDEX('Costo SCyD'!$O$9:$S$597,MATCH(I$11&I$12&I$13&$D26,'Costo SCyD'!$A$9:$A$597&'Costo SCyD'!$B$9:$B$597&'Costo SCyD'!$C$9:$C$597&'Costo SCyD'!$D$9:$D$597,0),MATCH('Resultados Caso I'!$D$4,'Costo SCyD'!$O$2:$S$2,0))+IF($D$6="Sí",INDEX(costos.acceso,MATCH($D26,vel.SAIB,0),MATCH($D$4,years,0)),0)} -> 224.41599 | K26: {=INDEX('Costo SCyD'!$O$9:$S$597,MATCH(K$11&K$12&K$13&$D26,'Costo SCyD'!$A$9:$A$597&'Costo SCyD'!$B$9:$B$597&'Costo SCyD'!$C$9:$C$597&'Costo SCyD'!$D$9:$D$597,0),MATCH('Resultados Caso I'!$D$4,'Costo SCyD'!$O$2:$S$2,0))+IF($D$6="Sí",INDEX(costos.acceso,MATCH($D26,vel.SAIB,0),MATCH($D$4,years,0)),0)} -> 223.10909 | L26: {=INDEX('Costo SCyD'!$O$9:$S$597,MATCH(L$11&L$12&L$13&$D26,'Costo SCyD'!$A$9:$A$597&'Costo SCyD'!$B$9:$B$597&'Costo SCyD'!$C$9:$C$597&'Costo SCyD'!$D$9:$D$597,0),MATCH('Resultados Caso I'!$D$4,'Costo SCyD'!$O$2:$S$2,0))+IF($D$6="Sí",INDEX(costos.acceso,MATCH($D26,vel.SAIB,0),MATCH($D$4,years,0)),0)} -> 236.43189 | M26: {=INDEX('Costo SCyD'!$O$9:$S$597,MATCH(M$11&M$12&M$13&$D26,'Costo SCyD'!$A$9:$A$597&'Costo SCyD'!$B$9:$B$597&'Costo SCyD'!$C$9:$C$597&'Costo SCyD'!$D$9:$D$597,0),MATCH('Resultados Caso I'!$D$4,'Costo SCyD'!$O$2:$S$2,0))+IF($D$6="Sí",INDEX(costos.acceso,MATCH($D26,vel.SAIB,0),MATCH($D$4,years,0)),0)} -> 256.10025 | N26: {=INDEX('Costo SCyD'!$O$9:$S$597,MATCH(N$11&N$12&N$13&$D26,'Costo SCyD'!$A$9:$A$597&'Costo SCyD'!$B$9:$B$597&'Costo SCyD'!$C$9:$C$597&'Costo SCyD'!$D$9:$D$597,0),MATCH('Resultados Caso I'!$D$4,'Costo SCyD'!$O$2:$S$2,0))+IF($D$6="Sí",INDEX(costos.acceso,MATCH($D26,vel.SAIB,0),MATCH($D$4,years,0)),0)} -> 273.90869 | P26: {=INDEX('Costo SCyD'!$O$9:$S$597,MATCH(P$11&P$12&P$13&$D26,'Costo SCyD'!$A$9:$A$597&'Costo SCyD'!$B$9:$B$597&'Costo SCyD'!$C$9:$C$597&'Costo SCyD'!$D$9:$D$597,0),MATCH('Resultados Caso I'!$D$4,'Costo SCyD'!$O$2:$S$2,0))+IF($D$6="Sí",INDEX(costos.acceso,MATCH($D26,vel.SAIB,0),MATCH($D$4,years,0)),0)} -> 263.77478 | Q26: {=INDEX('Costo SCyD'!$O$9:$S$597,MATCH(Q$11&Q$12&Q$13&$D26,'Costo SCyD'!$A$9:$A$597&'Costo SCyD'!$B$9:$B$597&'Costo SCyD'!$C$9:$C$597&'Costo SCyD'!$D$9:$D$597,0),MATCH('Resultados Caso I'!$D$4,'Costo SCyD'!$O$2:$S$2,0))+IF($D$6="Sí",INDEX(costos.acceso,MATCH($D26,vel.SAIB,0),MATCH($D$4,years,0)),0)} -> 281.57692 | R26: {=INDEX('Costo SCyD'!$O$9:$S$597,MATCH(R$11&R$12&R$13&$D26,'Costo SCyD'!$A$9:$A$597&'Costo SCyD'!$B$9:$B$597&'Costo SCyD'!$C$9:$C$597&'Costo SCyD'!$D$9:$D$597,0),MATCH('Resultados Caso I'!$D$4,'Costo SCyD'!$O$2:$S$2,0))+IF($D$6="Sí",INDEX(costos.acceso,MATCH($D26,vel.SAIB,0),MATCH($D$4,years,0)),0)} -> 307.85807 | S26: {=INDEX('Costo SCyD'!$O$9:$S$597,MATCH(S$11&S$12&S$13&$D26,'Costo SCyD'!$A$9:$A$597&'Costo SCyD'!$B$9:$B$597&'Costo SCyD'!$C$9:$C$597&'Costo SCyD'!$D$9:$D$597,0),MATCH('Resultados Caso I'!$D$4,'Costo SCyD'!$O$2:$S$2,0))+IF($D$6="Sí",INDEX(costos.acceso,MATCH($D26,vel.SAIB,0),MATCH($D$4,years,0)),0)} -> 331.65398
C27: =+D27&" Mbps" -> 100 Mbps | D27: 100 | F27: {=INDEX('Costo SCyD'!$O$9:$S$597,MATCH(F$11&F$12&F$13&$D27,'Costo SCyD'!$A$9:$A$597&'Costo SCyD'!$B$9:$B$597&'Costo SCyD'!$C$9:$C$597&'Costo SCyD'!$D$9:$D$597,0),MATCH('Resultados Caso I'!$D$4,'Costo SCyD'!$O$2:$S$2,0))+IF($D$6="Sí",INDEX(costos.acceso,MATCH($D27,vel.SAIB,0),MATCH($D$4,years,0)),0)} -> 198.12153 | G27: {=INDEX('Costo SCyD'!$O$9:$S$597,MATCH(G$11&G$12&G$13&$D27,'Costo SCyD'!$A$9:$A$597&'Costo SCyD'!$B$9:$B$597&'Costo SCyD'!$C$9:$C$597&'Costo SCyD'!$D$9:$D$597,0),MATCH('Resultados Caso I'!$D$4,'Costo SCyD'!$O$2:$S$2,0))+IF($D$6="Sí",INDEX(costos.acceso,MATCH($D27,vel.SAIB,0),MATCH($D$4,years,0)),0)} -> 208.69195 | H27: {=INDEX('Costo SCyD'!$O$9:$S$597,MATCH(H$11&H$12&H$13&$D27,'Costo SCyD'!$A$9:$A$597&'Costo SCyD'!$B$9:$B$597&'Costo SCyD'!$C$9:$C$597&'Costo SCyD'!$D$9:$D$597,0),MATCH('Resultados Caso I'!$D$4,'Costo SCyD'!$O$2:$S$2,0))+IF($D$6="Sí",INDEX(costos.acceso,MATCH($D27,vel.SAIB,0),MATCH($D$4,years,0)),0)} -> 224.29699 | I27: {=INDEX('Costo SCyD'!$O$9:$S$597,MATCH(I$11&I$12&I$13&$D27,'Costo SCyD'!$A$9:$A$597&'Costo SCyD'!$B$9:$B$597&'Costo SCyD'!$C$9:$C$597&'Costo SCyD'!$D$9:$D$597,0),MATCH('Resultados Caso I'!$D$4,'Costo SCyD'!$O$2:$S$2,0))+IF($D$6="Sí",INDEX(costos.acceso,MATCH($D27,vel.SAIB,0),MATCH($D$4,years,0)),0)} -> 238.42636 | K27: {=INDEX('Costo SCyD'!$O$9:$S$597,MATCH(K$11&K$12&K$13&$D27,'Costo SCyD'!$A$9:$A$597&'Costo SCyD'!$B$9:$B$597&'Costo SCyD'!$C$9:$C$597&'Costo SCyD'!$D$9:$D$597,0),MATCH('Resultados Caso I'!$D$4,'Costo SCyD'!$O$2:$S$2,0))+IF($D$6="Sí",INDEX(costos.acceso,MATCH($D27,vel.SAIB,0),MATCH($D$4,years,0)),0)} -> 236.96969 | L27: {=INDEX('Costo SCyD'!$O$9:$S$597,MATCH(L$11&L$12&L$13&$D27,'Costo SCyD'!$A$9:$A$597&'Costo SCyD'!$B$9:$B$597&'Costo SCyD'!$C$9:$C$597&'Costo SCyD'!$D$9:$D$597,0),MATCH('Resultados Caso I'!$D$4,'Costo SCyD'!$O$2:$S$2,0))+IF($D$6="Sí",INDEX(costos.acceso,MATCH($D27,vel.SAIB,0),MATCH($D$4,years,0)),0)} -> 251.81924 | M27: {=INDEX('Costo SCyD'!$O$9:$S$597,MATCH(M$11&M$12&M$13&$D27,'Costo SCyD'!$A$9:$A$597&'Costo SCyD'!$B$9:$B$597&'Costo SCyD'!$C$9:$C$597&'Costo SCyD'!$D$9:$D$597,0),MATCH('Resultados Caso I'!$D$4,'Costo SCyD'!$O$2:$S$2,0))+IF($D$6="Sí",INDEX(costos.acceso,MATCH($D27,vel.SAIB,0),MATCH($D$4,years,0)),0)} -> 273.74152 | N27: {=INDEX('Costo SCyD'!$O$9:$S$597,MATCH(N$11&N$12&N$13&$D27,'Costo SCyD'!$A$9:$A$597&'Costo SCyD'!$B$9:$B$597&'Costo SCyD'!$C$9:$C$597&'Costo SCyD'!$D$9:$D$597,0),MATCH('Resultados Caso I'!$D$4,'Costo SCyD'!$O$2:$S$2,0))+IF($D$6="Sí",INDEX(costos.acceso,MATCH($D27,vel.SAIB,0),MATCH($D$4,years,0)),0)} -> 293.59075 | P27: {=INDEX('Costo SCyD'!$O$9:$S$597,MATCH(P$11&P$12&P$13&$D27,'Costo SCyD'!$A$9:$A$597&'Costo SCyD'!$B$9:$B$597&'Costo SCyD'!$C$9:$C$597&'Costo SCyD'!$D$9:$D$597,0),MATCH('Resultados Caso I'!$D$4,'Costo SCyD'!$O$2:$S$2,0))+IF($D$6="Sí",INDEX(costos.acceso,MATCH($D27,vel.SAIB,0),MATCH($D$4,years,0)),0)} -> 282.29553 | Q27: {=INDEX('Costo SCyD'!$O$9:$S$597,MATCH(Q$11&Q$12&Q$13&$D27,'Costo SCyD'!$A$9:$A$597&'Costo SCyD'!$B$9:$B$597&'Costo SCyD'!$C$9:$C$597&'Costo SCyD'!$D$9:$D$597,0),MATCH('Resultados Caso I'!$D$4,'Costo SCyD'!$O$2:$S$2,0))+IF($D$6="Sí",INDEX(costos.acceso,MATCH($D27,vel.SAIB,0),MATCH($D$4,years,0)),0)} -> 302.13773 | R27: {=INDEX('Costo SCyD'!$O$9:$S$597,MATCH(R$11&R$12&R$13&$D27,'Costo SCyD'!$A$9:$A$597&'Costo SCyD'!$B$9:$B$597&'Costo SCyD'!$C$9:$C$597&'Costo SCyD'!$D$9:$D$597,0),MATCH('Resultados Caso I'!$D$4,'Costo SCyD'!$O$2:$S$2,0))+IF($D$6="Sí",INDEX(costos.acceso,MATCH($D27,vel.SAIB,0),MATCH($D$4,years,0)),0)} -> 331.43061 | S27: {=INDEX('Costo SCyD'!$O$9:$S$597,MATCH(S$11&S$12&S$13&$D27,'Costo SCyD'!$A$9:$A$597&'Costo SCyD'!$B$9:$B$597&'Costo SCyD'!$C$9:$C$597&'Costo SCyD'!$D$9:$D$597,0),MATCH('Resultados Caso I'!$D$4,'Costo SCyD'!$O$2:$S$2,0))+IF($D$6="Sí",INDEX(costos.acceso,MATCH($D27,vel.SAIB,0),MATCH($D$4,years,0)),0)} -> 357.95345
C28: =+D28&" Mbps" -> 120 Mbps | D28: 120 | F28: {=INDEX('Costo SCyD'!$O$9:$S$597,MATCH(F$11&F$12&F$13&$D28,'Costo SCyD'!$A$9:$A$597&'Costo SCyD'!$B$9:$B$597&'Costo SCyD'!$C$9:$C$597&'Costo SCyD'!$D$9:$D$597,0),MATCH('Resultados Caso I'!$D$4,'Costo SCyD'!$O$2:$S$2,0))+IF($D$6="Sí",INDEX(costos.acceso,MATCH($D28,vel.SAIB,0),MATCH($D$4,years,0)),0)} -> 207.01665 | G28: {=INDEX('Costo SCyD'!$O$9:$S$597,MATCH(G$11&G$12&G$13&$D28,'Costo SCyD'!$A$9:$A$597&'Costo SCyD'!$B$9:$B$597&'Costo SCyD'!$C$9:$C$597&'Costo SCyD'!$D$9:$D$597,0),MATCH('Resultados Caso I'!$D$4,'Costo SCyD'!$O$2:$S$2,0))+IF($D$6="Sí",INDEX(costos.acceso,MATCH($D28,vel.SAIB,0),MATCH($D$4,years,0)),0)} -> 218.56687 | H28: {=INDEX('Costo SCyD'!$O$9:$S$597,MATCH(H$11&H$12&H$13&$D28,'Costo SCyD'!$A$9:$A$597&'Costo SCyD'!$B$9:$B$597&'Costo SCyD'!$C$9:$C$597&'Costo SCyD'!$D$9:$D$597,0),MATCH('Resultados Caso I'!$D$4,'Costo SCyD'!$O$2:$S$2,0))+IF($D$6="Sí",INDEX(costos.acceso,MATCH($D28,vel.SAIB,0),MATCH($D$4,years,0)),0)} -> 235.61838 | I28: {=INDEX('Costo SCyD'!$O$9:$S$597,MATCH(I$11&I$12&I$13&$D28,'Costo SCyD'!$A$9:$A$597&'Costo SCyD'!$B$9:$B$597&'Costo SCyD'!$C$9:$C$597&'Costo SCyD'!$D$9:$D$597,0),MATCH('Resultados Caso I'!$D$4,'Costo SCyD'!$O$2:$S$2,0))+IF($D$6="Sí",INDEX(costos.acceso,MATCH($D28,vel.SAIB,0),MATCH($D$4,years,0)),0)} -> 251.05743 | K28: {=INDEX('Costo SCyD'!$O$9:$S$597,MATCH(K$11&K$12&K$13&$D28,'Costo SCyD'!$A$9:$A$597&'Costo SCyD'!$B$9:$B$597&'Costo SCyD'!$C$9:$C$597&'Costo SCyD'!$D$9:$D$597,0),MATCH('Resultados Caso I'!$D$4,'Costo SCyD'!$O$2:$S$2,0))+IF($D$6="Sí",INDEX(costos.acceso,MATCH($D28,vel.SAIB,0),MATCH($D$4,years,0)),0)} -> 249.46574 | L28: {=INDEX('Costo SCyD'!$O$9:$S$597,MATCH(L$11&L$12&L$13&$D28,'Costo SCyD'!$A$9:$A$597&'Costo SCyD'!$B$9:$B$597&'Costo SCyD'!$C$9:$C$597&'Costo SCyD'!$D$9:$D$597,0),MATCH('Resultados Caso I'!$D$4,'Costo SCyD'!$O$2:$S$2,0))+IF($D$6="Sí",INDEX(costos.acceso,MATCH($D28,vel.SAIB,0),MATCH($D$4,years,0)),0)} -> 265.69174 | M28: {=INDEX('Costo SCyD'!$O$9:$S$597,MATCH(M$11&M$12&M$13&$D28,'Costo SCyD'!$A$9:$A$597&'Costo SCyD'!$B$9:$B$597&'Costo SCyD'!$C$9:$C$597&'Costo SCyD'!$D$9:$D$597,0),MATCH('Resultados Caso I'!$D$4,'Costo SCyD'!$O$2:$S$2,0))+IF($D$6="Sí",INDEX(costos.acceso,MATCH($D28,vel.SAIB,0),MATCH($D$4,years,0)),0)} -> 289.64604 | N28: {=INDEX('Costo SCyD'!$O$9:$S$597,MATCH(N$11&N$12&N$13&$D28,'Costo SCyD'!$A$9:$A$597&'Costo SCyD'!$B$9:$B$597&'Costo SCyD'!$C$9:$C$597&'Costo SCyD'!$D$9:$D$597,0),MATCH('Resultados Caso I'!$D$4,'Costo SCyD'!$O$2:$S$2,0))+IF($D$6="Sí",INDEX(costos.acceso,MATCH($D28,vel.SAIB,0),MATCH($D$4,years,0)),0)} -> 311.33515 | P28: {=INDEX('Costo SCyD'!$O$9:$S$597,MATCH(P$11&P$12&P$13&$D28,'Costo SCyD'!$A$9:$A$597&'Costo SCyD'!$B$9:$B$597&'Costo SCyD'!$C$9:$C$597&'Costo SCyD'!$D$9:$D$597,0),MATCH('Resultados Caso I'!$D$4,'Costo SCyD'!$O$2:$S$2,0))+IF($D$6="Sí",INDEX(costos.acceso,MATCH($D28,vel.SAIB,0),MATCH($D$4,years,0)),0)} -> 298.99295 | Q28: {=INDEX('Costo SCyD'!$O$9:$S$597,MATCH(Q$11&Q$12&Q$13&$D28,'Costo SCyD'!$A$9:$A$597&'Costo SCyD'!$B$9:$B$597&'Costo SCyD'!$C$9:$C$597&'Costo SCyD'!$D$9:$D$597,0),MATCH('Resultados Caso I'!$D$4,'Costo SCyD'!$O$2:$S$2,0))+IF($D$6="Sí",INDEX(costos.acceso,MATCH($D28,vel.SAIB,0),MATCH($D$4,years,0)),0)} -> 320.67436 | R28: {=INDEX('Costo SCyD'!$O$9:$S$597,MATCH(R$11&R$12&R$13&$D28,'Costo SCyD'!$A$9:$A$597&'Costo SCyD'!$B$9:$B$597&'Costo SCyD'!$C$9:$C$597&'Costo SCyD'!$D$9:$D$597,0),MATCH('Resultados Caso I'!$D$4,'Costo SCyD'!$O$2:$S$2,0))+IF($D$6="Sí",INDEX(costos.acceso,MATCH($D28,vel.SAIB,0),MATCH($D$4,years,0)),0)} -> 352.68247 | S28: {=INDEX('Costo SCyD'!$O$9:$S$597,MATCH(S$11&S$12&S$13&$D28,'Costo SCyD'!$A$9:$A$597&'Costo SCyD'!$B$9:$B$597&'Costo SCyD'!$C$9:$C$597&'Costo SCyD'!$D$9:$D$597,0),MATCH('Resultados Caso I'!$D$4,'Costo SCyD'!$O$2:$S$2,0))+IF($D$6="Sí",INDEX(costos.acceso,MATCH($D28,vel.SAIB,0),MATCH($D$4,years,0)),0)} -> 381.66377
... C37: =+D37&" Mbps" -> 1000 Mbps | D37: 1000 | F37: {=INDEX('Costo SCyD'!$O$9:$S$597,MATCH(F$11&F$12&F$13&$D37,'Costo SCyD'!$A$9:$A$597&'Costo SCyD'!$B$9:$B$597&'Costo SCyD'!$C$9:$C$597&'Costo SCyD'!$D$9:$D$597,0),MATCH('Resultados Caso I'!$D$4,'Costo SCyD'!$O$2:$S$2,0))+IF($D$6="Sí",INDEX(costos.acceso,MATCH($D37,vel.SAIB,0),MATCH($D$4,years,0)),0)} -> 396.1309 | G37: {=INDEX('Costo SCyD'!$O$9:$S$597,MATCH(G$11&G$12&G$13&$D37,'Costo SCyD'!$A$9:$A$597&'Costo SCyD'!$B$9:$B$597&'Costo SCyD'!$C$9:$C$597&'Costo SCyD'!$D$9:$D$597,0),MATCH('Resultados Caso I'!$D$4,'Costo SCyD'!$O$2:$S$2,0))+IF($D$6="Sí",INDEX(costos.acceso,MATCH($D37,vel.SAIB,0),MATCH($D$4,years,0)),0)} -> 428.51206 | H37: {=INDEX('Costo SCyD'!$O$9:$S$597,MATCH(H$11&H$12&H$13&$D37,'Costo SCyD'!$A$9:$A$597&'Costo SCyD'!$B$9:$B$597&'Costo SCyD'!$C$9:$C$597&'Costo SCyD'!$D$9:$D$597,0),MATCH('Resultados Caso I'!$D$4,'Costo SCyD'!$O$2:$S$2,0))+IF($D$6="Sí",INDEX(costos.acceso,MATCH($D37,vel.SAIB,0),MATCH($D$4,years,0)),0)} -> 476.31613 | I37: {=INDEX('Costo SCyD'!$O$9:$S$597,MATCH(I$11&I$12&I$13&$D37,'Costo SCyD'!$A$9:$A$597&'Costo SCyD'!$B$9:$B$597&'Costo SCyD'!$C$9:$C$597&'Costo SCyD'!$D$9:$D$597,0),MATCH('Resultados Caso I'!$D$4,'Costo SCyD'!$O$2:$S$2,0))+IF($D$6="Sí",INDEX(costos.acceso,MATCH($D37,vel.SAIB,0),MATCH($D$4,years,0)),0)} -> 519.59967 | K37: {=INDEX('Costo SCyD'!$O$9:$S$597,MATCH(K$11&K$12&K$13&$D37,'Costo SCyD'!$A$9:$A$597&'Costo SCyD'!$B$9:$B$597&'Costo SCyD'!$C$9:$C$597&'Costo SCyD'!$D$9:$D$597,0),MATCH('Resultados Caso I'!$D$4,'Costo SCyD'!$O$2:$S$2,0))+IF($D$6="Sí",INDEX(costos.acceso,MATCH($D37,vel.SAIB,0),MATCH($D$4,years,0)),0)} -> 515.13735 | L37: {=INDEX('Costo SCyD'!$O$9:$S$597,MATCH(L$11&L$12&L$13&$D37,'Costo SCyD'!$A$9:$A$597&'Costo SCyD'!$B$9:$B$597&'Costo SCyD'!$C$9:$C$597&'Costo SCyD'!$D$9:$D$597,0),MATCH('Resultados Caso I'!$D$4,'Costo SCyD'!$O$2:$S$2,0))+IF($D$6="Sí",INDEX(costos.acceso,MATCH($D37,vel.SAIB,0),MATCH($D$4,years,0)),0)} -> 560.62708 | M37: {=INDEX('Costo SCyD'!$O$9:$S$597,MATCH(M$11&M$12&M$13&$D37,'Costo SCyD'!$A$9:$A$597&'Costo SCyD'!$B$9:$B$597&'Costo SCyD'!$C$9:$C$597&'Costo SCyD'!$D$9:$D$597,0),MATCH('Resultados Caso I'!$D$4,'Costo SCyD'!$O$2:$S$2,0))+IF($D$6="Sí",INDEX(costos.acceso,MATCH($D37,vel.SAIB,0),MATCH($D$4,years,0)),0)} -> 627.78322 | N37: {=INDEX('Costo SCyD'!$O$9:$S$597,MATCH(N$11&N$12&N$13&$D37,'Costo SCyD'!$A$9:$A$597&'Costo SCyD'!$B$9:$B$597&'Costo SCyD'!$C$9:$C$597&'Costo SCyD'!$D$9:$D$597,0),MATCH('Resultados Caso I'!$D$4,'Costo SCyD'!$O$2:$S$2,0))+IF($D$6="Sí",INDEX(costos.acceso,MATCH($D37,vel.SAIB,0),MATCH($D$4,years,0)),0)} -> 688.58883 | P37: {=INDEX('Costo SCyD'!$O$9:$S$597,MATCH(P$11&P$12&P$13&$D37,'Costo SCyD'!$A$9:$A$597&'Costo SCyD'!$B$9:$B$597&'Costo SCyD'!$C$9:$C$597&'Costo SCyD'!$D$9:$D$597,0),MATCH('Resultados Caso I'!$D$4,'Costo SCyD'!$O$2:$S$2,0))+IF($D$6="Sí",INDEX(costos.acceso,MATCH($D37,vel.SAIB,0),MATCH($D$4,years,0)),0)} -> 653.98735 | Q37: {=INDEX('Costo SCyD'!$O$9:$S$597,MATCH(Q$11&Q$12&Q$13&$D37,'Costo SCyD'!$A$9:$A$597&'Costo SCyD'!$B$9:$B$597&'Costo SCyD'!$C$9:$C$597&'Costo SCyD'!$D$9:$D$597,0),MATCH('Resultados Caso I'!$D$4,'Costo SCyD'!$O$2:$S$2,0))+IF($D$6="Sí",INDEX(costos.acceso,MATCH($D37,vel.SAIB,0),MATCH($D$4,years,0)),0)} -> 714.77141 | R37: {=INDEX('Costo SCyD'!$O$9:$S$597,MATCH(R$11&R$12&R$13&$D37,'Costo SCyD'!$A$9:$A$597&'Costo SCyD'!$B$9:$B$597&'Costo SCyD'!$C$9:$C$597&'Costo SCyD'!$D$9:$D$597,0),MATCH('Resultados Caso I'!$D$4,'Costo SCyD'!$O$2:$S$2,0))+IF($D$6="Sí",INDEX(costos.acceso,MATCH($D37,vel.SAIB,0),MATCH($D$4,years,0)),0)} -> 804.50645 | S37: {=INDEX('Costo SCyD'!$O$9:$S$597,MATCH(S$11&S$12&S$13&$D37,'Costo SCyD'!$A$9:$A$597&'Costo SCyD'!$B$9:$B$597&'Costo SCyD'!$C$9:$C$597&'Costo SCyD'!$D$9:$D$597,0),MATCH('Resultados Caso I'!$D$4,'Costo SCyD'!$O$2:$S$2,0))+IF($D$6="Sí",INDEX(costos.acceso,MATCH($D37,vel.SAIB,0),MATCH($D$4,years,0)),0)} -> 885.75582
F39: =+$F$40&" - "&$F$41&"-"&F42 -> Simétrico - Local-Calidad Best Effort | G39: =+$F$40&" - "&$F$41&"-"&G42 -> Simétrico - Local-Calidad Datos Generales | H39: =+$F$40&" - "&$F$41&"-"&H42 -> Simétrico - Local-Calidad Doble | I39: =+$F$40&" - "&$F$41&"-"&I42 -> Simétrico - Local-Calidad Triple | K39: =+$F$40&" - "&$K$41&"-"&K42 -> Simétrico - Regional-Calidad Best Effort | L39: =+$F$40&" - "&$K$41&"-"&L42 -> Simétrico - Regional-Calidad Datos Generales | M39: =+$F$40&" - "&$K$41&"-"&M42 -> Simétrico - Regional-Calidad Doble | N39: =+$F$40&" - "&$K$41&"-"&N42 -> Simétrico - Regional-Calidad Triple | P39: =+$F$40&" - "&$P$41&"-"&P42 -> Simétrico - Nacional-Calidad Best Effort | Q39: =+$F$40&" - "&$P$41&"-"&Q42 -> Simétrico - Nacional-Calidad Datos Generales | R39: =+$F$40&" - "&$P$41&"-"&R42 -> Simétrico - Nacional-Calidad Doble | S39: =+$F$40&" - "&$P$41&"-"&S42 -> Simétrico - Nacional-Calidad Triple
D40: Simetría | F40: Simétrico | K40: Simétrico | P40: Simétrico
D41: Agregación | F41: Local | K41: Regional | P41: Nacional
D42: Calidad | F42: Calidad Best Effort | G42: Calidad Datos Generales | H42: Calidad Doble | I42: Calidad Triple | K42: Calidad Best Effort | L42: Calidad Datos Generales | M42: Calidad Doble | N42: Calidad Triple | P42: Calidad Best Effort | Q42: Calidad Datos Generales | R42: Calidad Doble | S42: Calidad Triple
D43: Agregación | F43: Local | G43: Local | H43: Local | I43: Local | K43: Regional | L43: Regional | M43: Regional | N43: Regional | P43: Nacional | Q43: Nacional | R43: Nacional | S43: Nacional
D44: Simetría | F44: Simétrico | G44: Simétrico | H44: Simétrico | I44: Simétrico | K44: Simétrico | L44: Simétrico | M44: Simétrico | N44: Simétrico | P44: Simétrico | Q44: Simétrico | R44: Simétrico | S44: Simétrico
D45: Calidad | F45: Calidad Best Effort | G45: Calidad Datos Generales | H45: Calidad Doble | I45: Calidad Triple | K45: Calidad Best Effort | L45: Calidad Datos Generales | M45: Calidad Doble | N45: Calidad Triple | P45: Calidad Best Effort | Q45: Calidad Datos Generales | R45: Calidad Doble | S45: Calidad Triple
C47: 2 Mbps | D47: {=vel.SAIB} -> 2 | F47: {=INDEX('Costo SCyD'!$O$9:$S$597,MATCH(F$11&$F$44&F$13&$D47,'Costo SCyD'!$A$9:$A$597&'Costo SCyD'!$B$9:$B$597&'Costo SCyD'!$C$9:$C$597&'Costo SCyD'!$D$9:$D$597,0),MATCH('Resultados Caso I'!$D$4,'Costo SCyD'!$O$2:$S$2,0))+IF($D$6="Sí",INDEX(costos.acceso,MATCH($D47,vel.SAIB,0),MATCH($D$4,years,0)),0)} -> 124.96859 | G47: {=INDEX('Costo SCyD'!$O$9:$S$597,MATCH(G$11&$F$44&G$13&$D47,'Costo SCyD'!$A$9:$A$597&'Costo SCyD'!$B$9:$B$597&'Costo SCyD'!$C$9:$C$597&'Costo SCyD'!$D$9:$D$597,0),MATCH('Resultados Caso I'!$D$4,'Costo SCyD'!$O$2:$S$2,0))+IF($D$6="Sí",INDEX(costos.acceso,MATCH($D47,vel.SAIB,0),MATCH($D$4,years,0)),0)} -> 127.78578 | H47: {=INDEX('Costo SCyD'!$O$9:$S$597,MATCH(H$11&$F$44&H$13&$D47,'Costo SCyD'!$A$9:$A$597&'Costo SCyD'!$B$9:$B$597&'Costo SCyD'!$C$9:$C$597&'Costo SCyD'!$D$9:$D$597,0),MATCH('Resultados Caso I'!$D$4,'Costo SCyD'!$O$2:$S$2,0))+IF($D$6="Sí",INDEX(costos.acceso,MATCH($D47,vel.SAIB,0),MATCH($D$4,years,0)),0)} -> 131.94478 | I47: {=INDEX('Costo SCyD'!$O$9:$S$597,MATCH(I$11&$F$44&I$13&$D47,'Costo SCyD'!$A$9:$A$597&'Costo SCyD'!$B$9:$B$597&'Costo SCyD'!$C$9:$C$597&'Costo SCyD'!$D$9:$D$597,0),MATCH('Resultados Caso I'!$D$4,'Costo SCyD'!$O$2:$S$2,0))+IF($D$6="Sí",INDEX(costos.acceso,MATCH($D47,vel.SAIB,0),MATCH($D$4,years,0)),0)} -> 135.71048 | K47: {=INDEX('Costo SCyD'!$O$9:$S$597,MATCH(K$11&$F$44&K$13&$D47,'Costo SCyD'!$A$9:$A$597&'Costo SCyD'!$B$9:$B$597&'Costo SCyD'!$C$9:$C$597&'Costo SCyD'!$D$9:$D$597,0),MATCH('Resultados Caso I'!$D$4,'Costo SCyD'!$O$2:$S$2,0))+IF($D$6="Sí",INDEX(costos.acceso,MATCH($D47,vel.SAIB,0),MATCH($D$4,years,0)),0)} -> 135.32226 | L47: {=INDEX('Costo SCyD'!$O$9:$S$597,MATCH(L$11&$F$44&L$13&$D47,'Costo SCyD'!$A$9:$A$597&'Costo SCyD'!$B$9:$B$597&'Costo SCyD'!$C$9:$C$597&'Costo SCyD'!$D$9:$D$597,0),MATCH('Resultados Caso I'!$D$4,'Costo SCyD'!$O$2:$S$2,0))+IF($D$6="Sí",INDEX(costos.acceso,MATCH($D47,vel.SAIB,0),MATCH($D$4,years,0)),0)} -> 139.2799 | M47: {=INDEX('Costo SCyD'!$O$9:$S$597,MATCH(M$11&$F$44&M$13&$D47,'Costo SCyD'!$A$9:$A$597&'Costo SCyD'!$B$9:$B$597&'Costo SCyD'!$C$9:$C$597&'Costo SCyD'!$D$9:$D$597,0),MATCH('Resultados Caso I'!$D$4,'Costo SCyD'!$O$2:$S$2,0))+IF($D$6="Sí",INDEX(costos.acceso,MATCH($D47,vel.SAIB,0),MATCH($D$4,years,0)),0)} -> 145.12255 | N47: {=INDEX('Costo SCyD'!$O$9:$S$597,MATCH(N$11&$F$44&N$13&$D47,'Costo SCyD'!$A$9:$A$597&'Costo SCyD'!$B$9:$B$597&'Costo SCyD'!$C$9:$C$597&'Costo SCyD'!$D$9:$D$597,0),MATCH('Resultados Caso I'!$D$4,'Costo SCyD'!$O$2:$S$2,0))+IF($D$6="Sí",INDEX(costos.acceso,MATCH($D47,vel.SAIB,0),MATCH($D$4,years,0)),0)} -> 150.41269 | P47: {=INDEX('Costo SCyD'!$O$9:$S$597,MATCH(P$11&$F$44&P$13&$D47,'Costo SCyD'!$A$9:$A$597&'Costo SCyD'!$B$9:$B$597&'Costo SCyD'!$C$9:$C$597&'Costo SCyD'!$D$9:$D$597,0),MATCH('Resultados Caso I'!$D$4,'Costo SCyD'!$O$2:$S$2,0))+IF($D$6="Sí",INDEX(costos.acceso,MATCH($D47,vel.SAIB,0),MATCH($D$4,years,0)),0)} -> 147.40233 | Q47: {=INDEX('Costo SCyD'!$O$9:$S$597,MATCH(Q$11&$F$44&Q$13&$D47,'Costo SCyD'!$A$9:$A$597&'Costo SCyD'!$B$9:$B$597&'Costo SCyD'!$C$9:$C$597&'Costo SCyD'!$D$9:$D$597,0),MATCH('Resultados Caso I'!$D$4,'Costo SCyD'!$O$2:$S$2,0))+IF($D$6="Sí",INDEX(costos.acceso,MATCH($D47,vel.SAIB,0),MATCH($D$4,years,0)),0)} -> 152.6906 | R47: {=INDEX('Costo SCyD'!$O$9:$S$597,MATCH(R$11&$F$44&R$13&$D47,'Costo SCyD'!$A$9:$A$597&'Costo SCyD'!$B$9:$B$597&'Costo SCyD'!$C$9:$C$597&'Costo SCyD'!$D$9:$D$597,0),MATCH('Resultados Caso I'!$D$4,'Costo SCyD'!$O$2:$S$2,0))+IF($D$6="Sí",INDEX(costos.acceso,MATCH($D47,vel.SAIB,0),MATCH($D$4,years,0)),0)} -> 160.49763 | S47: {=INDEX('Costo SCyD'!$O$9:$S$597,MATCH(S$11&$F$44&S$13&$D47,'Costo SCyD'!$A$9:$A$597&'Costo SCyD'!$B$9:$B$597&'Costo SCyD'!$C$9:$C$597&'Costo SCyD'!$D$9:$D$597,0),MATCH('Resultados Caso I'!$D$4,'Costo SCyD'!$O$2:$S$2,0))+IF($D$6="Sí",INDEX(costos.acceso,MATCH($D47,vel.SAIB,0),MATCH($D$4,years,0)),0)} -> 167.5664
C48: 3 Mbps | D48: 3 | F48: {=INDEX('Costo SCyD'!$O$9:$S$597,MATCH(F$11&$F$44&F$13&$D48,'Costo SCyD'!$A$9:$A$597&'Costo SCyD'!$B$9:$B$597&'Costo SCyD'!$C$9:$C$597&'Costo SCyD'!$D$9:$D$597,0),MATCH('Resultados Caso I'!$D$4,'Costo SCyD'!$O$2:$S$2,0))+IF($D$6="Sí",INDEX(costos.acceso,MATCH($D48,vel.SAIB,0),MATCH($D$4,years,0)),0)} -> 130.54187 | G48: {=INDEX('Costo SCyD'!$O$9:$S$597,MATCH(G$11&$F$44&G$13&$D48,'Costo SCyD'!$A$9:$A$597&'Costo SCyD'!$B$9:$B$597&'Costo SCyD'!$C$9:$C$597&'Costo SCyD'!$D$9:$D$597,0),MATCH('Resultados Caso I'!$D$4,'Costo SCyD'!$O$2:$S$2,0))+IF($D$6="Sí",INDEX(costos.acceso,MATCH($D48,vel.SAIB,0),MATCH($D$4,years,0)),0)} -> 133.97296 | H48: {=INDEX('Costo SCyD'!$O$9:$S$597,MATCH(H$11&$F$44&H$13&$D48,'Costo SCyD'!$A$9:$A$597&'Costo SCyD'!$B$9:$B$597&'Costo SCyD'!$C$9:$C$597&'Costo SCyD'!$D$9:$D$597,0),MATCH('Resultados Caso I'!$D$4,'Costo SCyD'!$O$2:$S$2,0))+IF($D$6="Sí",INDEX(costos.acceso,MATCH($D48,vel.SAIB,0),MATCH($D$4,years,0)),0)} -> 139.03824 | I48: {=INDEX('Costo SCyD'!$O$9:$S$597,MATCH(I$11&$F$44&I$13&$D48,'Costo SCyD'!$A$9:$A$597&'Costo SCyD'!$B$9:$B$597&'Costo SCyD'!$C$9:$C$597&'Costo SCyD'!$D$9:$D$597,0),MATCH('Resultados Caso I'!$D$4,'Costo SCyD'!$O$2:$S$2,0))+IF($D$6="Sí",INDEX(costos.acceso,MATCH($D48,vel.SAIB,0),MATCH($D$4,years,0)),0)} -> 143.62454 | K48: {=INDEX('Costo SCyD'!$O$9:$S$597,MATCH(K$11&$F$44&K$13&$D48,'Costo SCyD'!$A$9:$A$597&'Costo SCyD'!$B$9:$B$597&'Costo SCyD'!$C$9:$C$597&'Costo SCyD'!$D$9:$D$597,0),MATCH('Resultados Caso I'!$D$4,'Costo SCyD'!$O$2:$S$2,0))+IF($D$6="Sí",INDEX(costos.acceso,MATCH($D48,vel.SAIB,0),MATCH($D$4,years,0)),0)} -> 143.15172 | L48: {=INDEX('Costo SCyD'!$O$9:$S$597,MATCH(L$11&$F$44&L$13&$D48,'Costo SCyD'!$A$9:$A$597&'Costo SCyD'!$B$9:$B$597&'Costo SCyD'!$C$9:$C$597&'Costo SCyD'!$D$9:$D$597,0),MATCH('Resultados Caso I'!$D$4,'Costo SCyD'!$O$2:$S$2,0))+IF($D$6="Sí",INDEX(costos.acceso,MATCH($D48,vel.SAIB,0),MATCH($D$4,years,0)),0)} -> 147.97178 | M48: {=INDEX('Costo SCyD'!$O$9:$S$597,MATCH(M$11&$F$44&M$13&$D48,'Costo SCyD'!$A$9:$A$597&'Costo SCyD'!$B$9:$B$597&'Costo SCyD'!$C$9:$C$597&'Costo SCyD'!$D$9:$D$597,0),MATCH('Resultados Caso I'!$D$4,'Costo SCyD'!$O$2:$S$2,0))+IF($D$6="Sí",INDEX(costos.acceso,MATCH($D48,vel.SAIB,0),MATCH($D$4,years,0)),0)} -> 155.0876 | N48: {=INDEX('Costo SCyD'!$O$9:$S$597,MATCH(N$11&$F$44&N$13&$D48,'Costo SCyD'!$A$9:$A$597&'Costo SCyD'!$B$9:$B$597&'Costo SCyD'!$C$9:$C$597&'Costo SCyD'!$D$9:$D$597,0),MATCH('Resultados Caso I'!$D$4,'Costo SCyD'!$O$2:$S$2,0))+IF($D$6="Sí",INDEX(costos.acceso,MATCH($D48,vel.SAIB,0),MATCH($D$4,years,0)),0)} -> 161.53052 | P48: {=INDEX('Costo SCyD'!$O$9:$S$597,MATCH(P$11&$F$44&P$13&$D48,'Costo SCyD'!$A$9:$A$597&'Costo SCyD'!$B$9:$B$597&'Costo SCyD'!$C$9:$C$597&'Costo SCyD'!$D$9:$D$597,0),MATCH('Resultados Caso I'!$D$4,'Costo SCyD'!$O$2:$S$2,0))+IF($D$6="Sí",INDEX(costos.acceso,MATCH($D48,vel.SAIB,0),MATCH($D$4,years,0)),0)} -> 157.86417 | Q48: {=INDEX('Costo SCyD'!$O$9:$S$597,MATCH(Q$11&$F$44&Q$13&$D48,'Costo SCyD'!$A$9:$A$597&'Costo SCyD'!$B$9:$B$597&'Costo SCyD'!$C$9:$C$597&'Costo SCyD'!$D$9:$D$597,0),MATCH('Resultados Caso I'!$D$4,'Costo SCyD'!$O$2:$S$2,0))+IF($D$6="Sí",INDEX(costos.acceso,MATCH($D48,vel.SAIB,0),MATCH($D$4,years,0)),0)} -> 164.30481 | R48: {=INDEX('Costo SCyD'!$O$9:$S$597,MATCH(R$11&$F$44&R$13&$D48,'Costo SCyD'!$A$9:$A$597&'Costo SCyD'!$B$9:$B$597&'Costo SCyD'!$C$9:$C$597&'Costo SCyD'!$D$9:$D$597,0),MATCH('Resultados Caso I'!$D$4,'Costo SCyD'!$O$2:$S$2,0))+IF($D$6="Sí",INDEX(costos.acceso,MATCH($D48,vel.SAIB,0),MATCH($D$4,years,0)),0)} -> 173.81308 | S48: {=INDEX('Costo SCyD'!$O$9:$S$597,MATCH(S$11&$F$44&S$13&$D48,'Costo SCyD'!$A$9:$A$597&'Costo SCyD'!$B$9:$B$597&'Costo SCyD'!$C$9:$C$597&'Costo SCyD'!$D$9:$D$597,0),MATCH('Resultados Caso I'!$D$4,'Costo SCyD'!$O$2:$S$2,0))+IF($D$6="Sí",INDEX(costos.acceso,MATCH($D48,vel.SAIB,0),MATCH($D$4,years,0)),0)} -> 182.42221
C49: =+D49&" Mbps" -> 5 Mbps | D49: 5 | F49: {=INDEX('Costo SCyD'!$O$9:$S$597,MATCH(F$11&$F$44&F$13&$D49,'Costo SCyD'!$A$9:$A$597&'Costo SCyD'!$B$9:$B$597&'Costo SCyD'!$C$9:$C$597&'Costo SCyD'!$D$9:$D$597,0),MATCH('Resultados Caso I'!$D$4,'Costo SCyD'!$O$2:$S$2,0))+IF($D$6="Sí",INDEX(costos.acceso,MATCH($D49,vel.SAIB,0),MATCH($D$4,years,0)),0)} -> 139.32363 | G49: {=INDEX('Costo SCyD'!$O$9:$S$597,MATCH(G$11&$F$44&G$13&$D49,'Costo SCyD'!$A$9:$A$597&'Costo SCyD'!$B$9:$B$597&'Costo SCyD'!$C$9:$C$597&'Costo SCyD'!$D$9:$D$597,0),MATCH('Resultados Caso I'!$D$4,'Costo SCyD'!$O$2:$S$2,0))+IF($D$6="Sí",INDEX(costos.acceso,MATCH($D49,vel.SAIB,0),MATCH($D$4,years,0)),0)} -> 143.72203 | H49: {=INDEX('Costo SCyD'!$O$9:$S$597,MATCH(H$11&$F$44&H$13&$D49,'Costo SCyD'!$A$9:$A$597&'Costo SCyD'!$B$9:$B$597&'Costo SCyD'!$C$9:$C$597&'Costo SCyD'!$D$9:$D$597,0),MATCH('Resultados Caso I'!$D$4,'Costo SCyD'!$O$2:$S$2,0))+IF($D$6="Sí",INDEX(costos.acceso,MATCH($D49,vel.SAIB,0),MATCH($D$4,years,0)),0)} -> 150.21536 | I49: {=INDEX('Costo SCyD'!$O$9:$S$597,MATCH(I$11&$F$44&I$13&$D49,'Costo SCyD'!$A$9:$A$597&'Costo SCyD'!$B$9:$B$597&'Costo SCyD'!$C$9:$C$597&'Costo SCyD'!$D$9:$D$597,0),MATCH('Resultados Caso I'!$D$4,'Costo SCyD'!$O$2:$S$2,0))+IF($D$6="Sí",INDEX(costos.acceso,MATCH($D49,vel.SAIB,0),MATCH($D$4,years,0)),0)} -> 156.09465 | K49: {=INDEX('Costo SCyD'!$O$9:$S$597,MATCH(K$11&$F$44&K$13&$D49,'Costo SCyD'!$A$9:$A$597&'Costo SCyD'!$B$9:$B$597&'Costo SCyD'!$C$9:$C$597&'Costo SCyD'!$D$9:$D$597,0),MATCH('Resultados Caso I'!$D$4,'Costo SCyD'!$O$2:$S$2,0))+IF($D$6="Sí",INDEX(costos.acceso,MATCH($D49,vel.SAIB,0),MATCH($D$4,years,0)),0)} -> 155.48852 | L49: {=INDEX('Costo SCyD'!$O$9:$S$597,MATCH(L$11&$F$44&L$13&$D49,'Costo SCyD'!$A$9:$A$597&'Costo SCyD'!$B$9:$B$597&'Costo SCyD'!$C$9:$C$597&'Costo SCyD'!$D$9:$D$597,0),MATCH('Resultados Caso I'!$D$4,'Costo SCyD'!$O$2:$S$2,0))+IF($D$6="Sí",INDEX(costos.acceso,MATCH($D49,vel.SAIB,0),MATCH($D$4,years,0)),0)} -> 161.66748 | M49: {=INDEX('Costo SCyD'!$O$9:$S$597,MATCH(M$11&$F$44&M$13&$D49,'Costo SCyD'!$A$9:$A$597&'Costo SCyD'!$B$9:$B$597&'Costo SCyD'!$C$9:$C$597&'Costo SCyD'!$D$9:$D$597,0),MATCH('Resultados Caso I'!$D$4,'Costo SCyD'!$O$2:$S$2,0))+IF($D$6="Sí",INDEX(costos.acceso,MATCH($D49,vel.SAIB,0),MATCH($D$4,years,0)),0)} -> 170.78944 | N49: {=INDEX('Costo SCyD'!$O$9:$S$597,MATCH(N$11&$F$44&N$13&$D49,'Costo SCyD'!$A$9:$A$597&'Costo SCyD'!$B$9:$B$597&'Costo SCyD'!$C$9:$C$597&'Costo SCyD'!$D$9:$D$597,0),MATCH('Resultados Caso I'!$D$4,'Costo SCyD'!$O$2:$S$2,0))+IF($D$6="Sí",INDEX(costos.acceso,MATCH($D49,vel.SAIB,0),MATCH($D$4,years,0)),0)} -> 179.04879 | P49: {=INDEX('Costo SCyD'!$O$9:$S$597,MATCH(P$11&$F$44&P$13&$D49,'Costo SCyD'!$A$9:$A$597&'Costo SCyD'!$B$9:$B$597&'Costo SCyD'!$C$9:$C$597&'Costo SCyD'!$D$9:$D$597,0),MATCH('Resultados Caso I'!$D$4,'Costo SCyD'!$O$2:$S$2,0))+IF($D$6="Sí",INDEX(costos.acceso,MATCH($D49,vel.SAIB,0),MATCH($D$4,years,0)),0)} -> 174.3488 | Q49: {=INDEX('Costo SCyD'!$O$9:$S$597,MATCH(Q$11&$F$44&Q$13&$D49,'Costo SCyD'!$A$9:$A$597&'Costo SCyD'!$B$9:$B$597&'Costo SCyD'!$C$9:$C$597&'Costo SCyD'!$D$9:$D$597,0),MATCH('Resultados Caso I'!$D$4,'Costo SCyD'!$O$2:$S$2,0))+IF($D$6="Sí",INDEX(costos.acceso,MATCH($D49,vel.SAIB,0),MATCH($D$4,years,0)),0)} -> 182.60522 | R49: {=INDEX('Costo SCyD'!$O$9:$S$597,MATCH(R$11&$F$44&R$13&$D49,'Costo SCyD'!$A$9:$A$597&'Costo SCyD'!$B$9:$B$597&'Costo SCyD'!$C$9:$C$597&'Costo SCyD'!$D$9:$D$597,0),MATCH('Resultados Caso I'!$D$4,'Costo SCyD'!$O$2:$S$2,0))+IF($D$6="Sí",INDEX(costos.acceso,MATCH($D49,vel.SAIB,0),MATCH($D$4,years,0)),0)} -> 194.79411 | S49: {=INDEX('Costo SCyD'!$O$9:$S$597,MATCH(S$11&$F$44&S$13&$D49,'Costo SCyD'!$A$9:$A$597&'Costo SCyD'!$B$9:$B$597&'Costo SCyD'!$C$9:$C$597&'Costo SCyD'!$D$9:$D$597,0),MATCH('Resultados Caso I'!$D$4,'Costo SCyD'!$O$2:$S$2,0))+IF($D$6="Sí",INDEX(costos.acceso,MATCH($D49,vel.SAIB,0),MATCH($D$4,years,0)),0)} -> 205.83038
C50: =+D50&" Mbps" -> 10 Mbps | D50: 10 | F50: {=INDEX('Costo SCyD'!$O$9:$S$597,MATCH(F$11&$F$44&F$13&$D50,'Costo SCyD'!$A$9:$A$597&'Costo SCyD'!$B$9:$B$597&'Costo SCyD'!$C$9:$C$597&'Costo SCyD'!$D$9:$D$597,0),MATCH('Resultados Caso I'!$D$4,'Costo SCyD'!$O$2:$S$2,0))+IF($D$6="Sí",INDEX(costos.acceso,MATCH($D50,vel.SAIB,0),MATCH($D$4,years,0)),0)} -> 158.09098 | G50: {=INDEX('Costo SCyD'!$O$9:$S$597,MATCH(G$11&$F$44&G$13&$D50,'Costo SCyD'!$A$9:$A$597&'Costo SCyD'!$B$9:$B$597&'Costo SCyD'!$C$9:$C$597&'Costo SCyD'!$D$9:$D$597,0),MATCH('Resultados Caso I'!$D$4,'Costo SCyD'!$O$2:$S$2,0))+IF($D$6="Sí",INDEX(costos.acceso,MATCH($D50,vel.SAIB,0),MATCH($D$4,years,0)),0)} -> 164.25204 | H50: {=INDEX('Costo SCyD'!$O$9:$S$597,MATCH(H$11&$F$44&H$13&$D50,'Costo SCyD'!$A$9:$A$597&'Costo SCyD'!$B$9:$B$597&'Costo SCyD'!$C$9:$C$597&'Costo SCyD'!$D$9:$D$597,0),MATCH('Resultados Caso I'!$D$4,'Costo SCyD'!$O$2:$S$2,0))+IF($D$6="Sí",INDEX(costos.acceso,MATCH($D50,vel.SAIB,0),MATCH($D$4,years,0)),0)} -> 173.34757 | I50: {=INDEX('Costo SCyD'!$O$9:$S$597,MATCH(I$11&$F$44&I$13&$D50,'Costo SCyD'!$A$9:$A$597&'Costo SCyD'!$B$9:$B$597&'Costo SCyD'!$C$9:$C$597&'Costo SCyD'!$D$9:$D$597,0),MATCH('Resultados Caso I'!$D$4,'Costo SCyD'!$O$2:$S$2,0))+IF($D$6="Sí",INDEX(costos.acceso,MATCH($D50,vel.SAIB,0),MATCH($D$4,years,0)),0)} -> 181.58299 | K50: {=INDEX('Costo SCyD'!$O$9:$S$597,MATCH(K$11&$F$44&K$13&$D50,'Costo SCyD'!$A$9:$A$597&'Costo SCyD'!$B$9:$B$597&'Costo SCyD'!$C$9:$C$597&'Costo SCyD'!$D$9:$D$597,0),MATCH('Resultados Caso I'!$D$4,'Costo SCyD'!$O$2:$S$2,0))+IF($D$6="Sí",INDEX(costos.acceso,MATCH($D50,vel.SAIB,0),MATCH($D$4,years,0)),0)} -> 180.73396 | L50: {=INDEX('Costo SCyD'!$O$9:$S$597,MATCH(L$11&$F$44&L$13&$D50,'Costo SCyD'!$A$9:$A$597&'Costo SCyD'!$B$9:$B$597&'Costo SCyD'!$C$9:$C$597&'Costo SCyD'!$D$9:$D$597,0),MATCH('Resultados Caso I'!$D$4,'Costo SCyD'!$O$2:$S$2,0))+IF($D$6="Sí",INDEX(costos.acceso,MATCH($D50,vel.SAIB,0),MATCH($D$4,years,0)),0)} -> 189.38914 | M50: {=INDEX('Costo SCyD'!$O$9:$S$597,MATCH(M$11&$F$44&M$13&$D50,'Costo SCyD'!$A$9:$A$597&'Costo SCyD'!$B$9:$B$597&'Costo SCyD'!$C$9:$C$597&'Costo SCyD'!$D$9:$D$597,0),MATCH('Resultados Caso I'!$D$4,'Costo SCyD'!$O$2:$S$2,0))+IF($D$6="Sí",INDEX(costos.acceso,MATCH($D50,vel.SAIB,0),MATCH($D$4,years,0)),0)} -> 202.16672 | N50: {=INDEX('Costo SCyD'!$O$9:$S$597,MATCH(N$11&$F$44&N$13&$D50,'Costo SCyD'!$A$9:$A$597&'Costo SCyD'!$B$9:$B$597&'Costo SCyD'!$C$9:$C$597&'Costo SCyD'!$D$9:$D$597,0),MATCH('Resultados Caso I'!$D$4,'Costo SCyD'!$O$2:$S$2,0))+IF($D$6="Sí",INDEX(costos.acceso,MATCH($D50,vel.SAIB,0),MATCH($D$4,years,0)),0)} -> 213.73601 | P50: {=INDEX('Costo SCyD'!$O$9:$S$597,MATCH(P$11&$F$44&P$13&$D50,'Costo SCyD'!$A$9:$A$597&'Costo SCyD'!$B$9:$B$597&'Costo SCyD'!$C$9:$C$597&'Costo SCyD'!$D$9:$D$597,0),MATCH('Resultados Caso I'!$D$4,'Costo SCyD'!$O$2:$S$2,0))+IF($D$6="Sí",INDEX(costos.acceso,MATCH($D50,vel.SAIB,0),MATCH($D$4,years,0)),0)} -> 207.1525 | Q50: {=INDEX('Costo SCyD'!$O$9:$S$597,MATCH(Q$11&$F$44&Q$13&$D50,'Costo SCyD'!$A$9:$A$597&'Costo SCyD'!$B$9:$B$597&'Costo SCyD'!$C$9:$C$597&'Costo SCyD'!$D$9:$D$597,0),MATCH('Resultados Caso I'!$D$4,'Costo SCyD'!$O$2:$S$2,0))+IF($D$6="Sí",INDEX(costos.acceso,MATCH($D50,vel.SAIB,0),MATCH($D$4,years,0)),0)} -> 218.71768 | R50: {=INDEX('Costo SCyD'!$O$9:$S$597,MATCH(R$11&$F$44&R$13&$D50,'Costo SCyD'!$A$9:$A$597&'Costo SCyD'!$B$9:$B$597&'Costo SCyD'!$C$9:$C$597&'Costo SCyD'!$D$9:$D$597,0),MATCH('Resultados Caso I'!$D$4,'Costo SCyD'!$O$2:$S$2,0))+IF($D$6="Sí",INDEX(costos.acceso,MATCH($D50,vel.SAIB,0),MATCH($D$4,years,0)),0)} -> 235.79128 | S50: {=INDEX('Costo SCyD'!$O$9:$S$597,MATCH(S$11&$F$44&S$13&$D50,'Costo SCyD'!$A$9:$A$597&'Costo SCyD'!$B$9:$B$597&'Costo SCyD'!$C$9:$C$597&'Costo SCyD'!$D$9:$D$597,0),MATCH('Resultados Caso I'!$D$4,'Costo SCyD'!$O$2:$S$2,0))+IF($D$6="Sí",INDEX(costos.acceso,MATCH($D50,vel.SAIB,0),MATCH($D$4,years,0)),0)} -> 251.25034
C51: =+D51&" Mbps" -> 15 Mbps | D51: 15 | F51: {=INDEX('Costo SCyD'!$O$9:$S$597,MATCH(F$11&$F$44&F$13&$D51,'Costo SCyD'!$A$9:$A$597&'Costo SCyD'!$B$9:$B$597&'Costo SCyD'!$C$9:$C$597&'Costo SCyD'!$D$9:$D$597,0),MATCH('Resultados Caso I'!$D$4,'Costo SCyD'!$O$2:$S$2,0))+IF($D$6="Sí",INDEX(costos.acceso,MATCH($D51,vel.SAIB,0),MATCH($D$4,years,0)),0)} -> 170.27948 | G51: {=INDEX('Costo SCyD'!$O$9:$S$597,MATCH(G$11&$F$44&G$13&$D51,'Costo SCyD'!$A$9:$A$597&'Costo SCyD'!$B$9:$B$597&'Costo SCyD'!$C$9:$C$597&'Costo SCyD'!$D$9:$D$597,0),MATCH('Resultados Caso I'!$D$4,'Costo SCyD'!$O$2:$S$2,0))+IF($D$6="Sí",INDEX(costos.acceso,MATCH($D51,vel.SAIB,0),MATCH($D$4,years,0)),0)} -> 177.7831 | H51: {=INDEX('Costo SCyD'!$O$9:$S$597,MATCH(H$11&$F$44&H$13&$D51,'Costo SCyD'!$A$9:$A$597&'Costo SCyD'!$B$9:$B$597&'Costo SCyD'!$C$9:$C$597&'Costo SCyD'!$D$9:$D$597,0),MATCH('Resultados Caso I'!$D$4,'Costo SCyD'!$O$2:$S$2,0))+IF($D$6="Sí",INDEX(costos.acceso,MATCH($D51,vel.SAIB,0),MATCH($D$4,years,0)),0)} -> 188.86064 | I51: {=INDEX('Costo SCyD'!$O$9:$S$597,MATCH(I$11&$F$44&I$13&$D51,'Costo SCyD'!$A$9:$A$597&'Costo SCyD'!$B$9:$B$597&'Costo SCyD'!$C$9:$C$597&'Costo SCyD'!$D$9:$D$597,0),MATCH('Resultados Caso I'!$D$4,'Costo SCyD'!$O$2:$S$2,0))+IF($D$6="Sí",INDEX(costos.acceso,MATCH($D51,vel.SAIB,0),MATCH($D$4,years,0)),0)} -> 198.89065 | K51: {=INDEX('Costo SCyD'!$O$9:$S$597,MATCH(K$11&$F$44&K$13&$D51,'Costo SCyD'!$A$9:$A$597&'Costo SCyD'!$B$9:$B$597&'Costo SCyD'!$C$9:$C$597&'Costo SCyD'!$D$9:$D$597,0),MATCH('Resultados Caso I'!$D$4,'Costo SCyD'!$O$2:$S$2,0))+IF($D$6="Sí",INDEX(costos.acceso,MATCH($D51,vel.SAIB,0),MATCH($D$4,years,0)),0)} -> 197.8566 | L51: {=INDEX('Costo SCyD'!$O$9:$S$597,MATCH(L$11&$F$44&L$13&$D51,'Costo SCyD'!$A$9:$A$597&'Costo SCyD'!$B$9:$B$597&'Costo SCyD'!$C$9:$C$597&'Costo SCyD'!$D$9:$D$597,0),MATCH('Resultados Caso I'!$D$4,'Costo SCyD'!$O$2:$S$2,0))+IF($D$6="Sí",INDEX(costos.acceso,MATCH($D51,vel.SAIB,0),MATCH($D$4,years,0)),0)} -> 208.39785 | M51: {=INDEX('Costo SCyD'!$O$9:$S$597,MATCH(M$11&$F$44&M$13&$D51,'Costo SCyD'!$A$9:$A$597&'Costo SCyD'!$B$9:$B$597&'Costo SCyD'!$C$9:$C$597&'Costo SCyD'!$D$9:$D$597,0),MATCH('Resultados Caso I'!$D$4,'Costo SCyD'!$O$2:$S$2,0))+IF($D$6="Sí",INDEX(costos.acceso,MATCH($D51,vel.SAIB,0),MATCH($D$4,years,0)),0)} -> 223.9598 | N51: {=INDEX('Costo SCyD'!$O$9:$S$597,MATCH(N$11&$F$44&N$13&$D51,'Costo SCyD'!$A$9:$A$597&'Costo SCyD'!$B$9:$B$597&'Costo SCyD'!$C$9:$C$597&'Costo SCyD'!$D$9:$D$597,0),MATCH('Resultados Caso I'!$D$4,'Costo SCyD'!$O$2:$S$2,0))+IF($D$6="Sí",INDEX(costos.acceso,MATCH($D51,vel.SAIB,0),MATCH($D$4,years,0)),0)} -> 238.05017 | P51: {=INDEX('Costo SCyD'!$O$9:$S$597,MATCH(P$11&$F$44&P$13&$D51,'Costo SCyD'!$A$9:$A$597&'Costo SCyD'!$B$9:$B$597&'Costo SCyD'!$C$9:$C$597&'Costo SCyD'!$D$9:$D$597,0),MATCH('Resultados Caso I'!$D$4,'Costo SCyD'!$O$2:$S$2,0))+IF($D$6="Sí",INDEX(costos.acceso,MATCH($D51,vel.SAIB,0),MATCH($D$4,years,0)),0)} -> 230.03204 | Q51: {=INDEX('Costo SCyD'!$O$9:$S$597,MATCH(Q$11&$F$44&Q$13&$D51,'Costo SCyD'!$A$9:$A$597&'Costo SCyD'!$B$9:$B$597&'Costo SCyD'!$C$9:$C$597&'Costo SCyD'!$D$9:$D$597,0),MATCH('Resultados Caso I'!$D$4,'Costo SCyD'!$O$2:$S$2,0))+IF($D$6="Sí",INDEX(costos.acceso,MATCH($D51,vel.SAIB,0),MATCH($D$4,years,0)),0)} -> 244.1174 | R51: {=INDEX('Costo SCyD'!$O$9:$S$597,MATCH(R$11&$F$44&R$13&$D51,'Costo SCyD'!$A$9:$A$597&'Costo SCyD'!$B$9:$B$597&'Costo SCyD'!$C$9:$C$597&'Costo SCyD'!$D$9:$D$597,0),MATCH('Resultados Caso I'!$D$4,'Costo SCyD'!$O$2:$S$2,0))+IF($D$6="Sí",INDEX(costos.acceso,MATCH($D51,vel.SAIB,0),MATCH($D$4,years,0)),0)} -> 264.91153 | S51: {=INDEX('Costo SCyD'!$O$9:$S$597,MATCH(S$11&$F$44&S$13&$D51,'Costo SCyD'!$A$9:$A$597&'Costo SCyD'!$B$9:$B$597&'Costo SCyD'!$C$9:$C$597&'Costo SCyD'!$D$9:$D$597,0),MATCH('Resultados Caso I'!$D$4,'Costo SCyD'!$O$2:$S$2,0))+IF($D$6="Sí",INDEX(costos.acceso,MATCH($D51,vel.SAIB,0),MATCH($D$4,years,0)),0)} -> 283.73928
C52: =+D52&" Mbps" -> 20 Mbps | D52: 20 | F52: {=INDEX('Costo SCyD'!$O$9:$S$597,MATCH(F$11&$F$44&F$13&$D52,'Costo SCyD'!$A$9:$A$597&'Costo SCyD'!$B$9:$B$597&'Costo SCyD'!$C$9:$C$597&'Costo SCyD'!$D$9:$D$597,0),MATCH('Resultados Caso I'!$D$4,'Costo SCyD'!$O$2:$S$2,0))+IF($D$6="Sí",INDEX(costos.acceso,MATCH($D52,vel.SAIB,0),MATCH($D$4,years,0)),0)} -> 180.5063 | G52: {=INDEX('Costo SCyD'!$O$9:$S$597,MATCH(G$11&$F$44&G$13&$D52,'Costo SCyD'!$A$9:$A$597&'Costo SCyD'!$B$9:$B$597&'Costo SCyD'!$C$9:$C$597&'Costo SCyD'!$D$9:$D$597,0),MATCH('Resultados Caso I'!$D$4,'Costo SCyD'!$O$2:$S$2,0))+IF($D$6="Sí",INDEX(costos.acceso,MATCH($D52,vel.SAIB,0),MATCH($D$4,years,0)),0)} -> 189.1364 | H52: {=INDEX('Costo SCyD'!$O$9:$S$597,MATCH(H$11&$F$44&H$13&$D52,'Costo SCyD'!$A$9:$A$597&'Costo SCyD'!$B$9:$B$597&'Costo SCyD'!$C$9:$C$597&'Costo SCyD'!$D$9:$D$597,0),MATCH('Resultados Caso I'!$D$4,'Costo SCyD'!$O$2:$S$2,0))+IF($D$6="Sí",INDEX(costos.acceso,MATCH($D52,vel.SAIB,0),MATCH($D$4,years,0)),0)} -> 201.87697 | I52: {=INDEX('Costo SCyD'!$O$9:$S$597,MATCH(I$11&$F$44&I$13&$D52,'Costo SCyD'!$A$9:$A$597&'Costo SCyD'!$B$9:$B$597&'Costo SCyD'!$C$9:$C$597&'Costo SCyD'!$D$9:$D$597,0),MATCH('Resultados Caso I'!$D$4,'Costo SCyD'!$O$2:$S$2,0))+IF($D$6="Sí",INDEX(costos.acceso,MATCH($D52,vel.SAIB,0),MATCH($D$4,years,0)),0)} -> 213.41273 | K52: {=INDEX('Costo SCyD'!$O$9:$S$597,MATCH(K$11&$F$44&K$13&$D52,'Costo SCyD'!$A$9:$A$597&'Costo SCyD'!$B$9:$B$597&'Costo SCyD'!$C$9:$C$597&'Costo SCyD'!$D$9:$D$597,0),MATCH('Resultados Caso I'!$D$4,'Costo SCyD'!$O$2:$S$2,0))+IF($D$6="Sí",INDEX(costos.acceso,MATCH($D52,vel.SAIB,0),MATCH($D$4,years,0)),0)} -> 212.22345 | L52: {=INDEX('Costo SCyD'!$O$9:$S$597,MATCH(L$11&$F$44&L$13&$D52,'Costo SCyD'!$A$9:$A$597&'Costo SCyD'!$B$9:$B$597&'Costo SCyD'!$C$9:$C$597&'Costo SCyD'!$D$9:$D$597,0),MATCH('Resultados Caso I'!$D$4,'Costo SCyD'!$O$2:$S$2,0))+IF($D$6="Sí",INDEX(costos.acceso,MATCH($D52,vel.SAIB,0),MATCH($D$4,years,0)),0)} -> 224.34721 | M52: {=INDEX('Costo SCyD'!$O$9:$S$597,MATCH(M$11&$F$44&M$13&$D52,'Costo SCyD'!$A$9:$A$597&'Costo SCyD'!$B$9:$B$597&'Costo SCyD'!$C$9:$C$597&'Costo SCyD'!$D$9:$D$597,0),MATCH('Resultados Caso I'!$D$4,'Costo SCyD'!$O$2:$S$2,0))+IF($D$6="Sí",INDEX(costos.acceso,MATCH($D52,vel.SAIB,0),MATCH($D$4,years,0)),0)} -> 242.24541 | N52: {=INDEX('Costo SCyD'!$O$9:$S$597,MATCH(N$11&$F$44&N$13&$D52,'Costo SCyD'!$A$9:$A$597&'Costo SCyD'!$B$9:$B$597&'Costo SCyD'!$C$9:$C$597&'Costo SCyD'!$D$9:$D$597,0),MATCH('Resultados Caso I'!$D$4,'Costo SCyD'!$O$2:$S$2,0))+IF($D$6="Sí",INDEX(costos.acceso,MATCH($D52,vel.SAIB,0),MATCH($D$4,years,0)),0)} -> 258.4511 | P52: {=INDEX('Costo SCyD'!$O$9:$S$597,MATCH(P$11&$F$44&P$13&$D52,'Costo SCyD'!$A$9:$A$597&'Costo SCyD'!$B$9:$B$597&'Costo SCyD'!$C$9:$C$597&'Costo SCyD'!$D$9:$D$597,0),MATCH('Resultados Caso I'!$D$4,'Costo SCyD'!$O$2:$S$2,0))+IF($D$6="Sí",INDEX(costos.acceso,MATCH($D52,vel.SAIB,0),MATCH($D$4,years,0)),0)} -> 249.22924 | Q52: {=INDEX('Costo SCyD'!$O$9:$S$597,MATCH(Q$11&$F$44&Q$13&$D52,'Costo SCyD'!$A$9:$A$597&'Costo SCyD'!$B$9:$B$597&'Costo SCyD'!$C$9:$C$597&'Costo SCyD'!$D$9:$D$597,0),MATCH('Resultados Caso I'!$D$4,'Costo SCyD'!$O$2:$S$2,0))+IF($D$6="Sí",INDEX(costos.acceso,MATCH($D52,vel.SAIB,0),MATCH($D$4,years,0)),0)} -> 265.42918 | R52: {=INDEX('Costo SCyD'!$O$9:$S$597,MATCH(R$11&$F$44&R$13&$D52,'Costo SCyD'!$A$9:$A$597&'Costo SCyD'!$B$9:$B$597&'Costo SCyD'!$C$9:$C$597&'Costo SCyD'!$D$9:$D$597,0),MATCH('Resultados Caso I'!$D$4,'Costo SCyD'!$O$2:$S$2,0))+IF($D$6="Sí",INDEX(costos.acceso,MATCH($D52,vel.SAIB,0),MATCH($D$4,years,0)),0)} -> 289.34503 | S52: {=INDEX('Costo SCyD'!$O$9:$S$597,MATCH(S$11&$F$44&S$13&$D52,'Costo SCyD'!$A$9:$A$597&'Costo SCyD'!$B$9:$B$597&'Costo SCyD'!$C$9:$C$597&'Costo SCyD'!$D$9:$D$597,0),MATCH('Resultados Caso I'!$D$4,'Costo SCyD'!$O$2:$S$2,0))+IF($D$6="Sí",INDEX(costos.acceso,MATCH($D52,vel.SAIB,0),MATCH($D$4,years,0)),0)} -> 310.99931
C53: =+D53&" Mbps" -> 30 Mbps | D53: 30 | F53: {=INDEX('Costo SCyD'!$O$9:$S$597,MATCH(F$11&$F$44&F$13&$D53,'Costo SCyD'!$A$9:$A$597&'Costo SCyD'!$B$9:$B$597&'Costo SCyD'!$C$9:$C$597&'Costo SCyD'!$D$9:$D$597,0),MATCH('Resultados Caso I'!$D$4,'Costo SCyD'!$O$2:$S$2,0))+IF($D$6="Sí",INDEX(costos.acceso,MATCH($D53,vel.SAIB,0),MATCH($D$4,years,0)),0)} -> 197.57934 | G53: {=INDEX('Costo SCyD'!$O$9:$S$597,MATCH(G$11&$F$44&G$13&$D53,'Costo SCyD'!$A$9:$A$597&'Costo SCyD'!$B$9:$B$597&'Costo SCyD'!$C$9:$C$597&'Costo SCyD'!$D$9:$D$597,0),MATCH('Resultados Caso I'!$D$4,'Costo SCyD'!$O$2:$S$2,0))+IF($D$6="Sí",INDEX(costos.acceso,MATCH($D53,vel.SAIB,0),MATCH($D$4,years,0)),0)} -> 208.09004 | H53: {=INDEX('Costo SCyD'!$O$9:$S$597,MATCH(H$11&$F$44&H$13&$D53,'Costo SCyD'!$A$9:$A$597&'Costo SCyD'!$B$9:$B$597&'Costo SCyD'!$C$9:$C$597&'Costo SCyD'!$D$9:$D$597,0),MATCH('Resultados Caso I'!$D$4,'Costo SCyD'!$O$2:$S$2,0))+IF($D$6="Sí",INDEX(costos.acceso,MATCH($D53,vel.SAIB,0),MATCH($D$4,years,0)),0)} -> 223.60691 | I53: {=INDEX('Costo SCyD'!$O$9:$S$597,MATCH(I$11&$F$44&I$13&$D53,'Costo SCyD'!$A$9:$A$597&'Costo SCyD'!$B$9:$B$597&'Costo SCyD'!$C$9:$C$597&'Costo SCyD'!$D$9:$D$597,0),MATCH('Resultados Caso I'!$D$4,'Costo SCyD'!$O$2:$S$2,0))+IF($D$6="Sí",INDEX(costos.acceso,MATCH($D53,vel.SAIB,0),MATCH($D$4,years,0)),0)} -> 237.65645 | K53: {=INDEX('Costo SCyD'!$O$9:$S$597,MATCH(K$11&$F$44&K$13&$D53,'Costo SCyD'!$A$9:$A$597&'Costo SCyD'!$B$9:$B$597&'Costo SCyD'!$C$9:$C$597&'Costo SCyD'!$D$9:$D$597,0),MATCH('Resultados Caso I'!$D$4,'Costo SCyD'!$O$2:$S$2,0))+IF($D$6="Sí",INDEX(costos.acceso,MATCH($D53,vel.SAIB,0),MATCH($D$4,years,0)),0)} -> 236.20801 | L53: {=INDEX('Costo SCyD'!$O$9:$S$597,MATCH(L$11&$F$44&L$13&$D53,'Costo SCyD'!$A$9:$A$597&'Costo SCyD'!$B$9:$B$597&'Costo SCyD'!$C$9:$C$597&'Costo SCyD'!$D$9:$D$597,0),MATCH('Resultados Caso I'!$D$4,'Costo SCyD'!$O$2:$S$2,0))+IF($D$6="Sí",INDEX(costos.acceso,MATCH($D53,vel.SAIB,0),MATCH($D$4,years,0)),0)} -> 250.97366 | M53: {=INDEX('Costo SCyD'!$O$9:$S$597,MATCH(M$11&$F$44&M$13&$D53,'Costo SCyD'!$A$9:$A$597&'Costo SCyD'!$B$9:$B$597&'Costo SCyD'!$C$9:$C$597&'Costo SCyD'!$D$9:$D$597,0),MATCH('Resultados Caso I'!$D$4,'Costo SCyD'!$O$2:$S$2,0))+IF($D$6="Sí",INDEX(costos.acceso,MATCH($D53,vel.SAIB,0),MATCH($D$4,years,0)),0)} -> 272.77208 | N53: {=INDEX('Costo SCyD'!$O$9:$S$597,MATCH(N$11&$F$44&N$13&$D53,'Costo SCyD'!$A$9:$A$597&'Costo SCyD'!$B$9:$B$597&'Costo SCyD'!$C$9:$C$597&'Costo SCyD'!$D$9:$D$597,0),MATCH('Resultados Caso I'!$D$4,'Costo SCyD'!$O$2:$S$2,0))+IF($D$6="Sí",INDEX(costos.acceso,MATCH($D53,vel.SAIB,0),MATCH($D$4,years,0)),0)} -> 292.50917 | P53: {=INDEX('Costo SCyD'!$O$9:$S$597,MATCH(P$11&$F$44&P$13&$D53,'Costo SCyD'!$A$9:$A$597&'Costo SCyD'!$B$9:$B$597&'Costo SCyD'!$C$9:$C$597&'Costo SCyD'!$D$9:$D$597,0),MATCH('Resultados Caso I'!$D$4,'Costo SCyD'!$O$2:$S$2,0))+IF($D$6="Sí",INDEX(costos.acceso,MATCH($D53,vel.SAIB,0),MATCH($D$4,years,0)),0)} -> 281.27776 | Q53: {=INDEX('Costo SCyD'!$O$9:$S$597,MATCH(Q$11&$F$44&Q$13&$D53,'Costo SCyD'!$A$9:$A$597&'Costo SCyD'!$B$9:$B$597&'Costo SCyD'!$C$9:$C$597&'Costo SCyD'!$D$9:$D$597,0),MATCH('Resultados Caso I'!$D$4,'Costo SCyD'!$O$2:$S$2,0))+IF($D$6="Sí",INDEX(costos.acceso,MATCH($D53,vel.SAIB,0),MATCH($D$4,years,0)),0)} -> 301.00785 | R53: {=INDEX('Costo SCyD'!$O$9:$S$597,MATCH(R$11&$F$44&R$13&$D53,'Costo SCyD'!$A$9:$A$597&'Costo SCyD'!$B$9:$B$597&'Costo SCyD'!$C$9:$C$597&'Costo SCyD'!$D$9:$D$597,0),MATCH('Resultados Caso I'!$D$4,'Costo SCyD'!$O$2:$S$2,0))+IF($D$6="Sí",INDEX(costos.acceso,MATCH($D53,vel.SAIB,0),MATCH($D$4,years,0)),0)} -> 330.13523 | S53: {=INDEX('Costo SCyD'!$O$9:$S$597,MATCH(S$11&$F$44&S$13&$D53,'Costo SCyD'!$A$9:$A$597&'Costo SCyD'!$B$9:$B$597&'Costo SCyD'!$C$9:$C$597&'Costo SCyD'!$D$9:$D$597,0),MATCH('Resultados Caso I'!$D$4,'Costo SCyD'!$O$2:$S$2,0))+IF($D$6="Sí",INDEX(costos.acceso,MATCH($D53,vel.SAIB,0),MATCH($D$4,years,0)),0)} -> 356.50821
C54: =+D54&" Mbps" -> 40 Mbps | D54: 40 | F54: {=INDEX('Costo SCyD'!$O$9:$S$597,MATCH(F$11&$F$44&F$13&$D54,'Costo SCyD'!$A$9:$A$597&'Costo SCyD'!$B$9:$B$597&'Costo SCyD'!$C$9:$C$597&'Costo SCyD'!$D$9:$D$597,0),MATCH('Resultados Caso I'!$D$4,'Costo SCyD'!$O$2:$S$2,0))+IF($D$6="Sí",INDEX(costos.acceso,MATCH($D54,vel.SAIB,0),MATCH($D$4,years,0)),0)} -> 211.90456 | G54: {=INDEX('Costo SCyD'!$O$9:$S$597,MATCH(G$11&$F$44&G$13&$D54,'Costo SCyD'!$A$9:$A$597&'Costo SCyD'!$B$9:$B$597&'Costo SCyD'!$C$9:$C$597&'Costo SCyD'!$D$9:$D$597,0),MATCH('Resultados Caso I'!$D$4,'Costo SCyD'!$O$2:$S$2,0))+IF($D$6="Sí",INDEX(costos.acceso,MATCH($D54,vel.SAIB,0),MATCH($D$4,years,0)),0)} -> 223.99319 | H54: {=INDEX('Costo SCyD'!$O$9:$S$597,MATCH(H$11&$F$44&H$13&$D54,'Costo SCyD'!$A$9:$A$597&'Costo SCyD'!$B$9:$B$597&'Costo SCyD'!$C$9:$C$597&'Costo SCyD'!$D$9:$D$597,0),MATCH('Resultados Caso I'!$D$4,'Costo SCyD'!$O$2:$S$2,0))+IF($D$6="Sí",INDEX(costos.acceso,MATCH($D54,vel.SAIB,0),MATCH($D$4,years,0)),0)} -> 241.83953 | I54: {=INDEX('Costo SCyD'!$O$9:$S$597,MATCH(I$11&$F$44&I$13&$D54,'Costo SCyD'!$A$9:$A$597&'Costo SCyD'!$B$9:$B$597&'Costo SCyD'!$C$9:$C$597&'Costo SCyD'!$D$9:$D$597,0),MATCH('Resultados Caso I'!$D$4,'Costo SCyD'!$O$2:$S$2,0))+IF($D$6="Sí",INDEX(costos.acceso,MATCH($D54,vel.SAIB,0),MATCH($D$4,years,0)),0)} -> 257.99827 | K54: {=INDEX('Costo SCyD'!$O$9:$S$597,MATCH(K$11&$F$44&K$13&$D54,'Costo SCyD'!$A$9:$A$597&'Costo SCyD'!$B$9:$B$597&'Costo SCyD'!$C$9:$C$597&'Costo SCyD'!$D$9:$D$597,0),MATCH('Resultados Caso I'!$D$4,'Costo SCyD'!$O$2:$S$2,0))+IF($D$6="Sí",INDEX(costos.acceso,MATCH($D54,vel.SAIB,0),MATCH($D$4,years,0)),0)} -> 256.33238 | L54: {=INDEX('Costo SCyD'!$O$9:$S$597,MATCH(L$11&$F$44&L$13&$D54,'Costo SCyD'!$A$9:$A$597&'Costo SCyD'!$B$9:$B$597&'Costo SCyD'!$C$9:$C$597&'Costo SCyD'!$D$9:$D$597,0),MATCH('Resultados Caso I'!$D$4,'Costo SCyD'!$O$2:$S$2,0))+IF($D$6="Sí",INDEX(costos.acceso,MATCH($D54,vel.SAIB,0),MATCH($D$4,years,0)),0)} -> 273.31474 | M54: {=INDEX('Costo SCyD'!$O$9:$S$597,MATCH(M$11&$F$44&M$13&$D54,'Costo SCyD'!$A$9:$A$597&'Costo SCyD'!$B$9:$B$597&'Costo SCyD'!$C$9:$C$597&'Costo SCyD'!$D$9:$D$597,0),MATCH('Resultados Caso I'!$D$4,'Costo SCyD'!$O$2:$S$2,0))+IF($D$6="Sí",INDEX(costos.acceso,MATCH($D54,vel.SAIB,0),MATCH($D$4,years,0)),0)} -> 298.38565 | N54: {=INDEX('Costo SCyD'!$O$9:$S$597,MATCH(N$11&$F$44&N$13&$D54,'Costo SCyD'!$A$9:$A$597&'Costo SCyD'!$B$9:$B$597&'Costo SCyD'!$C$9:$C$597&'Costo SCyD'!$D$9:$D$597,0),MATCH('Resultados Caso I'!$D$4,'Costo SCyD'!$O$2:$S$2,0))+IF($D$6="Sí",INDEX(costos.acceso,MATCH($D54,vel.SAIB,0),MATCH($D$4,years,0)),0)} -> 321.08577 | P54: {=INDEX('Costo SCyD'!$O$9:$S$597,MATCH(P$11&$F$44&P$13&$D54,'Costo SCyD'!$A$9:$A$597&'Costo SCyD'!$B$9:$B$597&'Costo SCyD'!$C$9:$C$597&'Costo SCyD'!$D$9:$D$597,0),MATCH('Resultados Caso I'!$D$4,'Costo SCyD'!$O$2:$S$2,0))+IF($D$6="Sí",INDEX(costos.acceso,MATCH($D54,vel.SAIB,0),MATCH($D$4,years,0)),0)} -> 308.16825 | Q54: {=INDEX('Costo SCyD'!$O$9:$S$597,MATCH(Q$11&$F$44&Q$13&$D54,'Costo SCyD'!$A$9:$A$597&'Costo SCyD'!$B$9:$B$597&'Costo SCyD'!$C$9:$C$597&'Costo SCyD'!$D$9:$D$597,0),MATCH('Resultados Caso I'!$D$4,'Costo SCyD'!$O$2:$S$2,0))+IF($D$6="Sí",INDEX(costos.acceso,MATCH($D54,vel.SAIB,0),MATCH($D$4,years,0)),0)} -> 330.86033 | R54: {=INDEX('Costo SCyD'!$O$9:$S$597,MATCH(R$11&$F$44&R$13&$D54,'Costo SCyD'!$A$9:$A$597&'Costo SCyD'!$B$9:$B$597&'Costo SCyD'!$C$9:$C$597&'Costo SCyD'!$D$9:$D$597,0),MATCH('Resultados Caso I'!$D$4,'Costo SCyD'!$O$2:$S$2,0))+IF($D$6="Sí",INDEX(costos.acceso,MATCH($D54,vel.SAIB,0),MATCH($D$4,years,0)),0)} -> 364.36046 | S54: {=INDEX('Costo SCyD'!$O$9:$S$597,MATCH(S$11&$F$44&S$13&$D54,'Costo SCyD'!$A$9:$A$597&'Costo SCyD'!$B$9:$B$597&'Costo SCyD'!$C$9:$C$597&'Costo SCyD'!$D$9:$D$597,0),MATCH('Resultados Caso I'!$D$4,'Costo SCyD'!$O$2:$S$2,0))+IF($D$6="Sí",INDEX(costos.acceso,MATCH($D54,vel.SAIB,0),MATCH($D$4,years,0)),0)} -> 394.69271
C55: =+D55&" Mbps" -> 50 Mbps | D55: 50 | F55: {=INDEX('Costo SCyD'!$O$9:$S$597,MATCH(F$11&$F$44&F$13&$D55,'Costo SCyD'!$A$9:$A$597&'Costo SCyD'!$B$9:$B$597&'Costo SCyD'!$C$9:$C$597&'Costo SCyD'!$D$9:$D$597,0),MATCH('Resultados Caso I'!$D$4,'Costo SCyD'!$O$2:$S$2,0))+IF($D$6="Sí",INDEX(costos.acceso,MATCH($D55,vel.SAIB,0),MATCH($D$4,years,0)),0)} -> 224.48117 | G55: {=INDEX('Costo SCyD'!$O$9:$S$597,MATCH(G$11&$F$44&G$13&$D55,'Costo SCyD'!$A$9:$A$597&'Costo SCyD'!$B$9:$B$597&'Costo SCyD'!$C$9:$C$597&'Costo SCyD'!$D$9:$D$597,0),MATCH('Resultados Caso I'!$D$4,'Costo SCyD'!$O$2:$S$2,0))+IF($D$6="Sí",INDEX(costos.acceso,MATCH($D55,vel.SAIB,0),MATCH($D$4,years,0)),0)} -> 237.95511 | H55: {=INDEX('Costo SCyD'!$O$9:$S$597,MATCH(H$11&$F$44&H$13&$D55,'Costo SCyD'!$A$9:$A$597&'Costo SCyD'!$B$9:$B$597&'Costo SCyD'!$C$9:$C$597&'Costo SCyD'!$D$9:$D$597,0),MATCH('Resultados Caso I'!$D$4,'Costo SCyD'!$O$2:$S$2,0))+IF($D$6="Sí",INDEX(costos.acceso,MATCH($D55,vel.SAIB,0),MATCH($D$4,years,0)),0)} -> 257.84658 | I55: {=INDEX('Costo SCyD'!$O$9:$S$597,MATCH(I$11&$F$44&I$13&$D55,'Costo SCyD'!$A$9:$A$597&'Costo SCyD'!$B$9:$B$597&'Costo SCyD'!$C$9:$C$597&'Costo SCyD'!$D$9:$D$597,0),MATCH('Resultados Caso I'!$D$4,'Costo SCyD'!$O$2:$S$2,0))+IF($D$6="Sí",INDEX(costos.acceso,MATCH($D55,vel.SAIB,0),MATCH($D$4,years,0)),0)} -> 275.85705 | K55: {=INDEX('Costo SCyD'!$O$9:$S$597,MATCH(K$11&$F$44&K$13&$D55,'Costo SCyD'!$A$9:$A$597&'Costo SCyD'!$B$9:$B$597&'Costo SCyD'!$C$9:$C$597&'Costo SCyD'!$D$9:$D$597,0),MATCH('Resultados Caso I'!$D$4,'Costo SCyD'!$O$2:$S$2,0))+IF($D$6="Sí",INDEX(costos.acceso,MATCH($D55,vel.SAIB,0),MATCH($D$4,years,0)),0)} -> 274.00026 | L55: {=INDEX('Costo SCyD'!$O$9:$S$597,MATCH(L$11&$F$44&L$13&$D55,'Costo SCyD'!$A$9:$A$597&'Costo SCyD'!$B$9:$B$597&'Costo SCyD'!$C$9:$C$597&'Costo SCyD'!$D$9:$D$597,0),MATCH('Resultados Caso I'!$D$4,'Costo SCyD'!$O$2:$S$2,0))+IF($D$6="Sí",INDEX(costos.acceso,MATCH($D55,vel.SAIB,0),MATCH($D$4,years,0)),0)} -> 292.92873 | M55: {=INDEX('Costo SCyD'!$O$9:$S$597,MATCH(M$11&$F$44&M$13&$D55,'Costo SCyD'!$A$9:$A$597&'Costo SCyD'!$B$9:$B$597&'Costo SCyD'!$C$9:$C$597&'Costo SCyD'!$D$9:$D$597,0),MATCH('Resultados Caso I'!$D$4,'Costo SCyD'!$O$2:$S$2,0))+IF($D$6="Sí",INDEX(costos.acceso,MATCH($D55,vel.SAIB,0),MATCH($D$4,years,0)),0)} -> 320.87268 | N55: {=INDEX('Costo SCyD'!$O$9:$S$597,MATCH(N$11&$F$44&N$13&$D55,'Costo SCyD'!$A$9:$A$597&'Costo SCyD'!$B$9:$B$597&'Costo SCyD'!$C$9:$C$597&'Costo SCyD'!$D$9:$D$597,0),MATCH('Resultados Caso I'!$D$4,'Costo SCyD'!$O$2:$S$2,0))+IF($D$6="Sí",INDEX(costos.acceso,MATCH($D55,vel.SAIB,0),MATCH($D$4,years,0)),0)} -> 346.17416 | P55: {=INDEX('Costo SCyD'!$O$9:$S$597,MATCH(P$11&$F$44&P$13&$D55,'Costo SCyD'!$A$9:$A$597&'Costo SCyD'!$B$9:$B$597&'Costo SCyD'!$C$9:$C$597&'Costo SCyD'!$D$9:$D$597,0),MATCH('Resultados Caso I'!$D$4,'Costo SCyD'!$O$2:$S$2,0))+IF($D$6="Sí",INDEX(costos.acceso,MATCH($D55,vel.SAIB,0),MATCH($D$4,years,0)),0)} -> 331.77633 | Q55: {=INDEX('Costo SCyD'!$O$9:$S$597,MATCH(Q$11&$F$44&Q$13&$D55,'Costo SCyD'!$A$9:$A$597&'Costo SCyD'!$B$9:$B$597&'Costo SCyD'!$C$9:$C$597&'Costo SCyD'!$D$9:$D$597,0),MATCH('Resultados Caso I'!$D$4,'Costo SCyD'!$O$2:$S$2,0))+IF($D$6="Sí",INDEX(costos.acceso,MATCH($D55,vel.SAIB,0),MATCH($D$4,years,0)),0)} -> 357.06884 | R55: {=INDEX('Costo SCyD'!$O$9:$S$597,MATCH(R$11&$F$44&R$13&$D55,'Costo SCyD'!$A$9:$A$597&'Costo SCyD'!$B$9:$B$597&'Costo SCyD'!$C$9:$C$597&'Costo SCyD'!$D$9:$D$597,0),MATCH('Resultados Caso I'!$D$4,'Costo SCyD'!$O$2:$S$2,0))+IF($D$6="Sí",INDEX(costos.acceso,MATCH($D55,vel.SAIB,0),MATCH($D$4,years,0)),0)} -> 394.40797 | S55: {=INDEX('Costo SCyD'!$O$9:$S$597,MATCH(S$11&$F$44&S$13&$D55,'Costo SCyD'!$A$9:$A$597&'Costo SCyD'!$B$9:$B$597&'Costo SCyD'!$C$9:$C$597&'Costo SCyD'!$D$9:$D$597,0),MATCH('Resultados Caso I'!$D$4,'Costo SCyD'!$O$2:$S$2,0))+IF($D$6="Sí",INDEX(costos.acceso,MATCH($D55,vel.SAIB,0),MATCH($D$4,years,0)),0)} -> 428.21618
C56: =+D56&" Mbps" -> 60 Mbps | D56: 60 | F56: {=INDEX('Costo SCyD'!$O$9:$S$597,MATCH(F$11&$F$44&F$13&$D56,'Costo SCyD'!$A$9:$A$597&'Costo SCyD'!$B$9:$B$597&'Costo SCyD'!$C$9:$C$597&'Costo SCyD'!$D$9:$D$597,0),MATCH('Resultados Caso I'!$D$4,'Costo SCyD'!$O$2:$S$2,0))+IF($D$6="Sí",INDEX(costos.acceso,MATCH($D56,vel.SAIB,0),MATCH($D$4,years,0)),0)} -> 235.81963 | G56: {=INDEX('Costo SCyD'!$O$9:$S$597,MATCH(G$11&$F$44&G$13&$D56,'Costo SCyD'!$A$9:$A$597&'Costo SCyD'!$B$9:$B$597&'Costo SCyD'!$C$9:$C$597&'Costo SCyD'!$D$9:$D$597,0),MATCH('Resultados Caso I'!$D$4,'Costo SCyD'!$O$2:$S$2,0))+IF($D$6="Sí",INDEX(costos.acceso,MATCH($D56,vel.SAIB,0),MATCH($D$4,years,0)),0)} -> 250.5425 | H56: {=INDEX('Costo SCyD'!$O$9:$S$597,MATCH(H$11&$F$44&H$13&$D56,'Costo SCyD'!$A$9:$A$597&'Costo SCyD'!$B$9:$B$597&'Costo SCyD'!$C$9:$C$597&'Costo SCyD'!$D$9:$D$597,0),MATCH('Resultados Caso I'!$D$4,'Costo SCyD'!$O$2:$S$2,0))+IF($D$6="Sí",INDEX(costos.acceso,MATCH($D56,vel.SAIB,0),MATCH($D$4,years,0)),0)} -> 272.27776 | I56: {=INDEX('Costo SCyD'!$O$9:$S$597,MATCH(I$11&$F$44&I$13&$D56,'Costo SCyD'!$A$9:$A$597&'Costo SCyD'!$B$9:$B$597&'Costo SCyD'!$C$9:$C$597&'Costo SCyD'!$D$9:$D$597,0),MATCH('Resultados Caso I'!$D$4,'Costo SCyD'!$O$2:$S$2,0))+IF($D$6="Sí",INDEX(costos.acceso,MATCH($D56,vel.SAIB,0),MATCH($D$4,years,0)),0)} -> 291.95766 | K56: {=INDEX('Costo SCyD'!$O$9:$S$597,MATCH(K$11&$F$44&K$13&$D56,'Costo SCyD'!$A$9:$A$597&'Costo SCyD'!$B$9:$B$597&'Costo SCyD'!$C$9:$C$597&'Costo SCyD'!$D$9:$D$597,0),MATCH('Resultados Caso I'!$D$4,'Costo SCyD'!$O$2:$S$2,0))+IF($D$6="Sí",INDEX(costos.acceso,MATCH($D56,vel.SAIB,0),MATCH($D$4,years,0)),0)} -> 289.92876 | L56: {=INDEX('Costo SCyD'!$O$9:$S$597,MATCH(L$11&$F$44&L$13&$D56,'Costo SCyD'!$A$9:$A$597&'Costo SCyD'!$B$9:$B$597&'Costo SCyD'!$C$9:$C$597&'Costo SCyD'!$D$9:$D$597,0),MATCH('Resultados Caso I'!$D$4,'Costo SCyD'!$O$2:$S$2,0))+IF($D$6="Sí",INDEX(costos.acceso,MATCH($D56,vel.SAIB,0),MATCH($D$4,years,0)),0)} -> 310.61176 | M56: {=INDEX('Costo SCyD'!$O$9:$S$597,MATCH(M$11&$F$44&M$13&$D56,'Costo SCyD'!$A$9:$A$597&'Costo SCyD'!$B$9:$B$597&'Costo SCyD'!$C$9:$C$597&'Costo SCyD'!$D$9:$D$597,0),MATCH('Resultados Caso I'!$D$4,'Costo SCyD'!$O$2:$S$2,0))+IF($D$6="Sí",INDEX(costos.acceso,MATCH($D56,vel.SAIB,0),MATCH($D$4,years,0)),0)} -> 341.1459 | N56: {=INDEX('Costo SCyD'!$O$9:$S$597,MATCH(N$11&$F$44&N$13&$D56,'Costo SCyD'!$A$9:$A$597&'Costo SCyD'!$B$9:$B$597&'Costo SCyD'!$C$9:$C$597&'Costo SCyD'!$D$9:$D$597,0),MATCH('Resultados Caso I'!$D$4,'Costo SCyD'!$O$2:$S$2,0))+IF($D$6="Sí",INDEX(costos.acceso,MATCH($D56,vel.SAIB,0),MATCH($D$4,years,0)),0)} -> 368.79263 | P56: {=INDEX('Costo SCyD'!$O$9:$S$597,MATCH(P$11&$F$44&P$13&$D56,'Costo SCyD'!$A$9:$A$597&'Costo SCyD'!$B$9:$B$597&'Costo SCyD'!$C$9:$C$597&'Costo SCyD'!$D$9:$D$597,0),MATCH('Resultados Caso I'!$D$4,'Costo SCyD'!$O$2:$S$2,0))+IF($D$6="Sí",INDEX(costos.acceso,MATCH($D56,vel.SAIB,0),MATCH($D$4,years,0)),0)} -> 353.06024 | Q56: {=INDEX('Costo SCyD'!$O$9:$S$597,MATCH(Q$11&$F$44&Q$13&$D56,'Costo SCyD'!$A$9:$A$597&'Costo SCyD'!$B$9:$B$597&'Costo SCyD'!$C$9:$C$597&'Costo SCyD'!$D$9:$D$597,0),MATCH('Resultados Caso I'!$D$4,'Costo SCyD'!$O$2:$S$2,0))+IF($D$6="Sí",INDEX(costos.acceso,MATCH($D56,vel.SAIB,0),MATCH($D$4,years,0)),0)} -> 380.69717 | R56: {=INDEX('Costo SCyD'!$O$9:$S$597,MATCH(R$11&$F$44&R$13&$D56,'Costo SCyD'!$A$9:$A$597&'Costo SCyD'!$B$9:$B$597&'Costo SCyD'!$C$9:$C$597&'Costo SCyD'!$D$9:$D$597,0),MATCH('Resultados Caso I'!$D$4,'Costo SCyD'!$O$2:$S$2,0))+IF($D$6="Sí",INDEX(costos.acceso,MATCH($D56,vel.SAIB,0),MATCH($D$4,years,0)),0)} -> 421.49736 | S56: {=INDEX('Costo SCyD'!$O$9:$S$597,MATCH(S$11&$F$44&S$13&$D56,'Costo SCyD'!$A$9:$A$597&'Costo SCyD'!$B$9:$B$597&'Costo SCyD'!$C$9:$C$597&'Costo SCyD'!$D$9:$D$597,0),MATCH('Resultados Caso I'!$D$4,'Costo SCyD'!$O$2:$S$2,0))+IF($D$6="Sí",INDEX(costos.acceso,MATCH($D56,vel.SAIB,0),MATCH($D$4,years,0)),0)} -> 458.43933
C57: =+D57&" Mbps" -> 70 Mbps | D57: 70 | F57: {=INDEX('Costo SCyD'!$O$9:$S$597,MATCH(F$11&$F$44&F$13&$D57,'Costo SCyD'!$A$9:$A$597&'Costo SCyD'!$B$9:$B$597&'Costo SCyD'!$C$9:$C$597&'Costo SCyD'!$D$9:$D$597,0),MATCH('Resultados Caso I'!$D$4,'Costo SCyD'!$O$2:$S$2,0))+IF($D$6="Sí",INDEX(costos.acceso,MATCH($D57,vel.SAIB,0),MATCH($D$4,years,0)),0)} -> 246.22229 | G57: {=INDEX('Costo SCyD'!$O$9:$S$597,MATCH(G$11&$F$44&G$13&$D57,'Costo SCyD'!$A$9:$A$597&'Costo SCyD'!$B$9:$B$597&'Costo SCyD'!$C$9:$C$597&'Costo SCyD'!$D$9:$D$597,0),MATCH('Resultados Caso I'!$D$4,'Costo SCyD'!$O$2:$S$2,0))+IF($D$6="Sí",INDEX(costos.acceso,MATCH($D57,vel.SAIB,0),MATCH($D$4,years,0)),0)} -> 262.09102 | H57: {=INDEX('Costo SCyD'!$O$9:$S$597,MATCH(H$11&$F$44&H$13&$D57,'Costo SCyD'!$A$9:$A$597&'Costo SCyD'!$B$9:$B$597&'Costo SCyD'!$C$9:$C$597&'Costo SCyD'!$D$9:$D$597,0),MATCH('Resultados Caso I'!$D$4,'Costo SCyD'!$O$2:$S$2,0))+IF($D$6="Sí",INDEX(costos.acceso,MATCH($D57,vel.SAIB,0),MATCH($D$4,years,0)),0)} -> 285.5179 | I57: {=INDEX('Costo SCyD'!$O$9:$S$597,MATCH(I$11&$F$44&I$13&$D57,'Costo SCyD'!$A$9:$A$597&'Costo SCyD'!$B$9:$B$597&'Costo SCyD'!$C$9:$C$597&'Costo SCyD'!$D$9:$D$597,0),MATCH('Resultados Caso I'!$D$4,'Costo SCyD'!$O$2:$S$2,0))+IF($D$6="Sí",INDEX(costos.acceso,MATCH($D57,vel.SAIB,0),MATCH($D$4,years,0)),0)} -> 306.72945 | K57: {=INDEX('Costo SCyD'!$O$9:$S$597,MATCH(K$11&$F$44&K$13&$D57,'Costo SCyD'!$A$9:$A$597&'Costo SCyD'!$B$9:$B$597&'Costo SCyD'!$C$9:$C$597&'Costo SCyD'!$D$9:$D$597,0),MATCH('Resultados Caso I'!$D$4,'Costo SCyD'!$O$2:$S$2,0))+IF($D$6="Sí",INDEX(costos.acceso,MATCH($D57,vel.SAIB,0),MATCH($D$4,years,0)),0)} -> 304.54264 | L57: {=INDEX('Costo SCyD'!$O$9:$S$597,MATCH(L$11&$F$44&L$13&$D57,'Costo SCyD'!$A$9:$A$597&'Costo SCyD'!$B$9:$B$597&'Costo SCyD'!$C$9:$C$597&'Costo SCyD'!$D$9:$D$597,0),MATCH('Resultados Caso I'!$D$4,'Costo SCyD'!$O$2:$S$2,0))+IF($D$6="Sí",INDEX(costos.acceso,MATCH($D57,vel.SAIB,0),MATCH($D$4,years,0)),0)} -> 326.83536 | M57: {=INDEX('Costo SCyD'!$O$9:$S$597,MATCH(M$11&$F$44&M$13&$D57,'Costo SCyD'!$A$9:$A$597&'Costo SCyD'!$B$9:$B$597&'Costo SCyD'!$C$9:$C$597&'Costo SCyD'!$D$9:$D$597,0),MATCH('Resultados Caso I'!$D$4,'Costo SCyD'!$O$2:$S$2,0))+IF($D$6="Sí",INDEX(costos.acceso,MATCH($D57,vel.SAIB,0),MATCH($D$4,years,0)),0)} -> 359.74592 | N57: {=INDEX('Costo SCyD'!$O$9:$S$597,MATCH(N$11&$F$44&N$13&$D57,'Costo SCyD'!$A$9:$A$597&'Costo SCyD'!$B$9:$B$597&'Costo SCyD'!$C$9:$C$597&'Costo SCyD'!$D$9:$D$597,0),MATCH('Resultados Caso I'!$D$4,'Costo SCyD'!$O$2:$S$2,0))+IF($D$6="Sí",INDEX(costos.acceso,MATCH($D57,vel.SAIB,0),MATCH($D$4,years,0)),0)} -> 389.54435 | P57: {=INDEX('Costo SCyD'!$O$9:$S$597,MATCH(P$11&$F$44&P$13&$D57,'Costo SCyD'!$A$9:$A$597&'Costo SCyD'!$B$9:$B$597&'Costo SCyD'!$C$9:$C$597&'Costo SCyD'!$D$9:$D$597,0),MATCH('Resultados Caso I'!$D$4,'Costo SCyD'!$O$2:$S$2,0))+IF($D$6="Sí",INDEX(costos.acceso,MATCH($D57,vel.SAIB,0),MATCH($D$4,years,0)),0)} -> 372.58753 | Q57: {=INDEX('Costo SCyD'!$O$9:$S$597,MATCH(Q$11&$F$44&Q$13&$D57,'Costo SCyD'!$A$9:$A$597&'Costo SCyD'!$B$9:$B$597&'Costo SCyD'!$C$9:$C$597&'Costo SCyD'!$D$9:$D$597,0),MATCH('Resultados Caso I'!$D$4,'Costo SCyD'!$O$2:$S$2,0))+IF($D$6="Sí",INDEX(costos.acceso,MATCH($D57,vel.SAIB,0),MATCH($D$4,years,0)),0)} -> 402.37539 | R57: {=INDEX('Costo SCyD'!$O$9:$S$597,MATCH(R$11&$F$44&R$13&$D57,'Costo SCyD'!$A$9:$A$597&'Costo SCyD'!$B$9:$B$597&'Costo SCyD'!$C$9:$C$597&'Costo SCyD'!$D$9:$D$597,0),MATCH('Resultados Caso I'!$D$4,'Costo SCyD'!$O$2:$S$2,0))+IF($D$6="Sí",INDEX(costos.acceso,MATCH($D57,vel.SAIB,0),MATCH($D$4,years,0)),0)} -> 446.35098 | S57: {=INDEX('Costo SCyD'!$O$9:$S$597,MATCH(S$11&$F$44&S$13&$D57,'Costo SCyD'!$A$9:$A$597&'Costo SCyD'!$B$9:$B$597&'Costo SCyD'!$C$9:$C$597&'Costo SCyD'!$D$9:$D$597,0),MATCH('Resultados Caso I'!$D$4,'Costo SCyD'!$O$2:$S$2,0))+IF($D$6="Sí",INDEX(costos.acceso,MATCH($D57,vel.SAIB,0),MATCH($D$4,years,0)),0)} -> 486.16808
C58: =+D58&" Mbps" -> 80 Mbps | D58: 80 | F58: {=INDEX('Costo SCyD'!$O$9:$S$597,MATCH(F$11&$F$44&F$13&$D58,'Costo SCyD'!$A$9:$A$597&'Costo SCyD'!$B$9:$B$597&'Costo SCyD'!$C$9:$C$597&'Costo SCyD'!$D$9:$D$597,0),MATCH('Resultados Caso I'!$D$4,'Costo SCyD'!$O$2:$S$2,0))+IF($D$6="Sí",INDEX(costos.acceso,MATCH($D58,vel.SAIB,0),MATCH($D$4,years,0)),0)} -> 255.88569 | G58: {=INDEX('Costo SCyD'!$O$9:$S$597,MATCH(G$11&$F$44&G$13&$D58,'Costo SCyD'!$A$9:$A$597&'Costo SCyD'!$B$9:$B$597&'Costo SCyD'!$C$9:$C$597&'Costo SCyD'!$D$9:$D$597,0),MATCH('Resultados Caso I'!$D$4,'Costo SCyD'!$O$2:$S$2,0))+IF($D$6="Sí",INDEX(costos.acceso,MATCH($D58,vel.SAIB,0),MATCH($D$4,years,0)),0)} -> 272.81884 | H58: {=INDEX('Costo SCyD'!$O$9:$S$597,MATCH(H$11&$F$44&H$13&$D58,'Costo SCyD'!$A$9:$A$597&'Costo SCyD'!$B$9:$B$597&'Costo SCyD'!$C$9:$C$597&'Costo SCyD'!$D$9:$D$597,0),MATCH('Resultados Caso I'!$D$4,'Costo SCyD'!$O$2:$S$2,0))+IF($D$6="Sí",INDEX(costos.acceso,MATCH($D58,vel.SAIB,0),MATCH($D$4,years,0)),0)} -> 297.81712 | I58: {=INDEX('Costo SCyD'!$O$9:$S$597,MATCH(I$11&$F$44&I$13&$D58,'Costo SCyD'!$A$9:$A$597&'Costo SCyD'!$B$9:$B$597&'Costo SCyD'!$C$9:$C$597&'Costo SCyD'!$D$9:$D$597,0),MATCH('Resultados Caso I'!$D$4,'Costo SCyD'!$O$2:$S$2,0))+IF($D$6="Sí",INDEX(costos.acceso,MATCH($D58,vel.SAIB,0),MATCH($D$4,years,0)),0)} -> 320.45147 | K58: {=INDEX('Costo SCyD'!$O$9:$S$597,MATCH(K$11&$F$44&K$13&$D58,'Costo SCyD'!$A$9:$A$597&'Costo SCyD'!$B$9:$B$597&'Costo SCyD'!$C$9:$C$597&'Costo SCyD'!$D$9:$D$597,0),MATCH('Resultados Caso I'!$D$4,'Costo SCyD'!$O$2:$S$2,0))+IF($D$6="Sí",INDEX(costos.acceso,MATCH($D58,vel.SAIB,0),MATCH($D$4,years,0)),0)} -> 318.11799 | L58: {=INDEX('Costo SCyD'!$O$9:$S$597,MATCH(L$11&$F$44&L$13&$D58,'Costo SCyD'!$A$9:$A$597&'Costo SCyD'!$B$9:$B$597&'Costo SCyD'!$C$9:$C$597&'Costo SCyD'!$D$9:$D$597,0),MATCH('Resultados Caso I'!$D$4,'Costo SCyD'!$O$2:$S$2,0))+IF($D$6="Sí",INDEX(costos.acceso,MATCH($D58,vel.SAIB,0),MATCH($D$4,years,0)),0)} -> 341.90603 | M58: {=INDEX('Costo SCyD'!$O$9:$S$597,MATCH(M$11&$F$44&M$13&$D58,'Costo SCyD'!$A$9:$A$597&'Costo SCyD'!$B$9:$B$597&'Costo SCyD'!$C$9:$C$597&'Costo SCyD'!$D$9:$D$597,0),MATCH('Resultados Caso I'!$D$4,'Costo SCyD'!$O$2:$S$2,0))+IF($D$6="Sí",INDEX(costos.acceso,MATCH($D58,vel.SAIB,0),MATCH($D$4,years,0)),0)} -> 377.02413 | N58: {=INDEX('Costo SCyD'!$O$9:$S$597,MATCH(N$11&$F$44&N$13&$D58,'Costo SCyD'!$A$9:$A$597&'Costo SCyD'!$B$9:$B$597&'Costo SCyD'!$C$9:$C$597&'Costo SCyD'!$D$9:$D$597,0),MATCH('Resultados Caso I'!$D$4,'Costo SCyD'!$O$2:$S$2,0))+IF($D$6="Sí",INDEX(costos.acceso,MATCH($D58,vel.SAIB,0),MATCH($D$4,years,0)),0)} -> 408.82133 | P58: {=INDEX('Costo SCyD'!$O$9:$S$597,MATCH(P$11&$F$44&P$13&$D58,'Costo SCyD'!$A$9:$A$597&'Costo SCyD'!$B$9:$B$597&'Costo SCyD'!$C$9:$C$597&'Costo SCyD'!$D$9:$D$597,0),MATCH('Resultados Caso I'!$D$4,'Costo SCyD'!$O$2:$S$2,0))+IF($D$6="Sí",INDEX(costos.acceso,MATCH($D58,vel.SAIB,0),MATCH($D$4,years,0)),0)} -> 390.72711 | Q58: {=INDEX('Costo SCyD'!$O$9:$S$597,MATCH(Q$11&$F$44&Q$13&$D58,'Costo SCyD'!$A$9:$A$597&'Costo SCyD'!$B$9:$B$597&'Costo SCyD'!$C$9:$C$597&'Costo SCyD'!$D$9:$D$597,0),MATCH('Resultados Caso I'!$D$4,'Costo SCyD'!$O$2:$S$2,0))+IF($D$6="Sí",INDEX(costos.acceso,MATCH($D58,vel.SAIB,0),MATCH($D$4,years,0)),0)} -> 422.51304 | R58: {=INDEX('Costo SCyD'!$O$9:$S$597,MATCH(R$11&$F$44&R$13&$D58,'Costo SCyD'!$A$9:$A$597&'Costo SCyD'!$B$9:$B$597&'Costo SCyD'!$C$9:$C$597&'Costo SCyD'!$D$9:$D$597,0),MATCH('Resultados Caso I'!$D$4,'Costo SCyD'!$O$2:$S$2,0))+IF($D$6="Sí",INDEX(costos.acceso,MATCH($D58,vel.SAIB,0),MATCH($D$4,years,0)),0)} -> 469.43838 | S58: {=INDEX('Costo SCyD'!$O$9:$S$597,MATCH(S$11&$F$44&S$13&$D58,'Costo SCyD'!$A$9:$A$597&'Costo SCyD'!$B$9:$B$597&'Costo SCyD'!$C$9:$C$597&'Costo SCyD'!$D$9:$D$597,0),MATCH('Resultados Caso I'!$D$4,'Costo SCyD'!$O$2:$S$2,0))+IF($D$6="Sí",INDEX(costos.acceso,MATCH($D58,vel.SAIB,0),MATCH($D$4,years,0)),0)} -> 511.92628
C59: =+D59&" Mbps" -> 100 Mbps | D59: 100 | F59: {=INDEX('Costo SCyD'!$O$9:$S$597,MATCH(F$11&$F$44&F$13&$D59,'Costo SCyD'!$A$9:$A$597&'Costo SCyD'!$B$9:$B$597&'Costo SCyD'!$C$9:$C$597&'Costo SCyD'!$D$9:$D$597,0),MATCH('Resultados Caso I'!$D$4,'Costo SCyD'!$O$2:$S$2,0))+IF($D$6="Sí",INDEX(costos.acceso,MATCH($D59,vel.SAIB,0),MATCH($D$4,years,0)),0)} -> 273.50238 | G59: {=INDEX('Costo SCyD'!$O$9:$S$597,MATCH(G$11&$F$44&G$13&$D59,'Costo SCyD'!$A$9:$A$597&'Costo SCyD'!$B$9:$B$597&'Costo SCyD'!$C$9:$C$597&'Costo SCyD'!$D$9:$D$597,0),MATCH('Resultados Caso I'!$D$4,'Costo SCyD'!$O$2:$S$2,0))+IF($D$6="Sí",INDEX(costos.acceso,MATCH($D59,vel.SAIB,0),MATCH($D$4,years,0)),0)} -> 292.37601 | H59: {=INDEX('Costo SCyD'!$O$9:$S$597,MATCH(H$11&$F$44&H$13&$D59,'Costo SCyD'!$A$9:$A$597&'Costo SCyD'!$B$9:$B$597&'Costo SCyD'!$C$9:$C$597&'Costo SCyD'!$D$9:$D$597,0),MATCH('Resultados Caso I'!$D$4,'Costo SCyD'!$O$2:$S$2,0))+IF($D$6="Sí",INDEX(costos.acceso,MATCH($D59,vel.SAIB,0),MATCH($D$4,years,0)),0)} -> 320.239 | I59: {=INDEX('Costo SCyD'!$O$9:$S$597,MATCH(I$11&$F$44&I$13&$D59,'Costo SCyD'!$A$9:$A$597&'Costo SCyD'!$B$9:$B$597&'Costo SCyD'!$C$9:$C$597&'Costo SCyD'!$D$9:$D$597,0),MATCH('Resultados Caso I'!$D$4,'Costo SCyD'!$O$2:$S$2,0))+IF($D$6="Sí",INDEX(costos.acceso,MATCH($D59,vel.SAIB,0),MATCH($D$4,years,0)),0)} -> 345.46717 | K59: {=INDEX('Costo SCyD'!$O$9:$S$597,MATCH(K$11&$F$44&K$13&$D59,'Costo SCyD'!$A$9:$A$597&'Costo SCyD'!$B$9:$B$597&'Costo SCyD'!$C$9:$C$597&'Costo SCyD'!$D$9:$D$597,0),MATCH('Resultados Caso I'!$D$4,'Costo SCyD'!$O$2:$S$2,0))+IF($D$6="Sí",INDEX(costos.acceso,MATCH($D59,vel.SAIB,0),MATCH($D$4,years,0)),0)} -> 342.86627 | L59: {=INDEX('Costo SCyD'!$O$9:$S$597,MATCH(L$11&$F$44&L$13&$D59,'Costo SCyD'!$A$9:$A$597&'Costo SCyD'!$B$9:$B$597&'Costo SCyD'!$C$9:$C$597&'Costo SCyD'!$D$9:$D$597,0),MATCH('Resultados Caso I'!$D$4,'Costo SCyD'!$O$2:$S$2,0))+IF($D$6="Sí",INDEX(costos.acceso,MATCH($D59,vel.SAIB,0),MATCH($D$4,years,0)),0)} -> 369.38034 | M59: {=INDEX('Costo SCyD'!$O$9:$S$597,MATCH(M$11&$F$44&M$13&$D59,'Costo SCyD'!$A$9:$A$597&'Costo SCyD'!$B$9:$B$597&'Costo SCyD'!$C$9:$C$597&'Costo SCyD'!$D$9:$D$597,0),MATCH('Resultados Caso I'!$D$4,'Costo SCyD'!$O$2:$S$2,0))+IF($D$6="Sí",INDEX(costos.acceso,MATCH($D59,vel.SAIB,0),MATCH($D$4,years,0)),0)} -> 408.52284 | N59: {=INDEX('Costo SCyD'!$O$9:$S$597,MATCH(N$11&$F$44&N$13&$D59,'Costo SCyD'!$A$9:$A$597&'Costo SCyD'!$B$9:$B$597&'Costo SCyD'!$C$9:$C$597&'Costo SCyD'!$D$9:$D$597,0),MATCH('Resultados Caso I'!$D$4,'Costo SCyD'!$O$2:$S$2,0))+IF($D$6="Sí",INDEX(costos.acceso,MATCH($D59,vel.SAIB,0),MATCH($D$4,years,0)),0)} -> 443.9639 | P59: {=INDEX('Costo SCyD'!$O$9:$S$597,MATCH(P$11&$F$44&P$13&$D59,'Costo SCyD'!$A$9:$A$597&'Costo SCyD'!$B$9:$B$597&'Costo SCyD'!$C$9:$C$597&'Costo SCyD'!$D$9:$D$597,0),MATCH('Resultados Caso I'!$D$4,'Costo SCyD'!$O$2:$S$2,0))+IF($D$6="Sí",INDEX(costos.acceso,MATCH($D59,vel.SAIB,0),MATCH($D$4,years,0)),0)} -> 423.79614 | Q59: {=INDEX('Costo SCyD'!$O$9:$S$597,MATCH(Q$11&$F$44&Q$13&$D59,'Costo SCyD'!$A$9:$A$597&'Costo SCyD'!$B$9:$B$597&'Costo SCyD'!$C$9:$C$597&'Costo SCyD'!$D$9:$D$597,0),MATCH('Resultados Caso I'!$D$4,'Costo SCyD'!$O$2:$S$2,0))+IF($D$6="Sí",INDEX(costos.acceso,MATCH($D59,vel.SAIB,0),MATCH($D$4,years,0)),0)} -> 459.22463 | R59: {=INDEX('Costo SCyD'!$O$9:$S$597,MATCH(R$11&$F$44&R$13&$D59,'Costo SCyD'!$A$9:$A$597&'Costo SCyD'!$B$9:$B$597&'Costo SCyD'!$C$9:$C$597&'Costo SCyD'!$D$9:$D$597,0),MATCH('Resultados Caso I'!$D$4,'Costo SCyD'!$O$2:$S$2,0))+IF($D$6="Sí",INDEX(costos.acceso,MATCH($D59,vel.SAIB,0),MATCH($D$4,years,0)),0)} -> 511.52744 | S59: {=INDEX('Costo SCyD'!$O$9:$S$597,MATCH(S$11&$F$44&S$13&$D59,'Costo SCyD'!$A$9:$A$597&'Costo SCyD'!$B$9:$B$597&'Costo SCyD'!$C$9:$C$597&'Costo SCyD'!$D$9:$D$597,0),MATCH('Resultados Caso I'!$D$4,'Costo SCyD'!$O$2:$S$2,0))+IF($D$6="Sí",INDEX(costos.acceso,MATCH($D59,vel.SAIB,0),MATCH($D$4,years,0)),0)} -> 558.88431
C60: =+D60&" Mbps" -> 120 Mbps | D60: 120 | F60: {=INDEX('Costo SCyD'!$O$9:$S$597,MATCH(F$11&$F$44&F$13&$D60,'Costo SCyD'!$A$9:$A$597&'Costo SCyD'!$B$9:$B$597&'Costo SCyD'!$C$9:$C$597&'Costo SCyD'!$D$9:$D$597,0),MATCH('Resultados Caso I'!$D$4,'Costo SCyD'!$O$2:$S$2,0))+IF($D$6="Sí",INDEX(costos.acceso,MATCH($D60,vel.SAIB,0),MATCH($D$4,years,0)),0)} -> 289.38473 | G60: {=INDEX('Costo SCyD'!$O$9:$S$597,MATCH(G$11&$F$44&G$13&$D60,'Costo SCyD'!$A$9:$A$597&'Costo SCyD'!$B$9:$B$597&'Costo SCyD'!$C$9:$C$597&'Costo SCyD'!$D$9:$D$597,0),MATCH('Resultados Caso I'!$D$4,'Costo SCyD'!$O$2:$S$2,0))+IF($D$6="Sí",INDEX(costos.acceso,MATCH($D60,vel.SAIB,0),MATCH($D$4,years,0)),0)} -> 310.0078 | H60: {=INDEX('Costo SCyD'!$O$9:$S$597,MATCH(H$11&$F$44&H$13&$D60,'Costo SCyD'!$A$9:$A$597&'Costo SCyD'!$B$9:$B$597&'Costo SCyD'!$C$9:$C$597&'Costo SCyD'!$D$9:$D$597,0),MATCH('Resultados Caso I'!$D$4,'Costo SCyD'!$O$2:$S$2,0))+IF($D$6="Sí",INDEX(costos.acceso,MATCH($D60,vel.SAIB,0),MATCH($D$4,years,0)),0)} -> 340.45348 | I60: {=INDEX('Costo SCyD'!$O$9:$S$597,MATCH(I$11&$F$44&I$13&$D60,'Costo SCyD'!$A$9:$A$597&'Costo SCyD'!$B$9:$B$597&'Costo SCyD'!$C$9:$C$597&'Costo SCyD'!$D$9:$D$597,0),MATCH('Resultados Caso I'!$D$4,'Costo SCyD'!$O$2:$S$2,0))+IF($D$6="Sí",INDEX(costos.acceso,MATCH($D60,vel.SAIB,0),MATCH($D$4,years,0)),0)} -> 368.02011 | K60: {=INDEX('Costo SCyD'!$O$9:$S$597,MATCH(K$11&$F$44&K$13&$D60,'Costo SCyD'!$A$9:$A$597&'Costo SCyD'!$B$9:$B$597&'Costo SCyD'!$C$9:$C$597&'Costo SCyD'!$D$9:$D$597,0),MATCH('Resultados Caso I'!$D$4,'Costo SCyD'!$O$2:$S$2,0))+IF($D$6="Sí",INDEX(costos.acceso,MATCH($D60,vel.SAIB,0),MATCH($D$4,years,0)),0)} -> 365.17813 | L60: {=INDEX('Costo SCyD'!$O$9:$S$597,MATCH(L$11&$F$44&L$13&$D60,'Costo SCyD'!$A$9:$A$597&'Costo SCyD'!$B$9:$B$597&'Costo SCyD'!$C$9:$C$597&'Costo SCyD'!$D$9:$D$597,0),MATCH('Resultados Caso I'!$D$4,'Costo SCyD'!$O$2:$S$2,0))+IF($D$6="Sí",INDEX(costos.acceso,MATCH($D60,vel.SAIB,0),MATCH($D$4,years,0)),0)} -> 394.14985 | M60: {=INDEX('Costo SCyD'!$O$9:$S$597,MATCH(M$11&$F$44&M$13&$D60,'Costo SCyD'!$A$9:$A$597&'Costo SCyD'!$B$9:$B$597&'Costo SCyD'!$C$9:$C$597&'Costo SCyD'!$D$9:$D$597,0),MATCH('Resultados Caso I'!$D$4,'Costo SCyD'!$O$2:$S$2,0))+IF($D$6="Sí",INDEX(costos.acceso,MATCH($D60,vel.SAIB,0),MATCH($D$4,years,0)),0)} -> 436.92057 | N60: {=INDEX('Costo SCyD'!$O$9:$S$597,MATCH(N$11&$F$44&N$13&$D60,'Costo SCyD'!$A$9:$A$597&'Costo SCyD'!$B$9:$B$597&'Costo SCyD'!$C$9:$C$597&'Costo SCyD'!$D$9:$D$597,0),MATCH('Resultados Caso I'!$D$4,'Costo SCyD'!$O$2:$S$2,0))+IF($D$6="Sí",INDEX(costos.acceso,MATCH($D60,vel.SAIB,0),MATCH($D$4,years,0)),0)} -> 475.64674 | P60: {=INDEX('Costo SCyD'!$O$9:$S$597,MATCH(P$11&$F$44&P$13&$D60,'Costo SCyD'!$A$9:$A$597&'Costo SCyD'!$B$9:$B$597&'Costo SCyD'!$C$9:$C$597&'Costo SCyD'!$D$9:$D$597,0),MATCH('Resultados Caso I'!$D$4,'Costo SCyD'!$O$2:$S$2,0))+IF($D$6="Sí",INDEX(costos.acceso,MATCH($D60,vel.SAIB,0),MATCH($D$4,years,0)),0)} -> 453.60958 | Q60: {=INDEX('Costo SCyD'!$O$9:$S$597,MATCH(Q$11&$F$44&Q$13&$D60,'Costo SCyD'!$A$9:$A$597&'Costo SCyD'!$B$9:$B$597&'Costo SCyD'!$C$9:$C$597&'Costo SCyD'!$D$9:$D$597,0),MATCH('Resultados Caso I'!$D$4,'Costo SCyD'!$O$2:$S$2,0))+IF($D$6="Sí",INDEX(costos.acceso,MATCH($D60,vel.SAIB,0),MATCH($D$4,years,0)),0)} -> 492.32202 | R60: {=INDEX('Costo SCyD'!$O$9:$S$597,MATCH(R$11&$F$44&R$13&$D60,'Costo SCyD'!$A$9:$A$597&'Costo SCyD'!$B$9:$B$597&'Costo SCyD'!$C$9:$C$597&'Costo SCyD'!$D$9:$D$597,0),MATCH('Resultados Caso I'!$D$4,'Costo SCyD'!$O$2:$S$2,0))+IF($D$6="Sí",INDEX(costos.acceso,MATCH($D60,vel.SAIB,0),MATCH($D$4,years,0)),0)} -> 549.47291 | S60: {=INDEX('Costo SCyD'!$O$9:$S$597,MATCH(S$11&$F$44&S$13&$D60,'Costo SCyD'!$A$9:$A$597&'Costo SCyD'!$B$9:$B$597&'Costo SCyD'!$C$9:$C$597&'Costo SCyD'!$D$9:$D$597,0),MATCH('Resultados Caso I'!$D$4,'Costo SCyD'!$O$2:$S$2,0))+IF($D$6="Sí",INDEX(costos.acceso,MATCH($D60,vel.SAIB,0),MATCH($D$4,years,0)),0)} -> 601.2194
... C69: =+D69&" Mbps" -> 1000 Mbps | D69: 1000 | F69: {=INDEX('Costo SCyD'!$O$9:$S$597,MATCH(F$11&$F$44&F$13&$D69,'Costo SCyD'!$A$9:$A$597&'Costo SCyD'!$B$9:$B$597&'Costo SCyD'!$C$9:$C$597&'Costo SCyD'!$D$9:$D$597,0),MATCH('Resultados Caso I'!$D$4,'Costo SCyD'!$O$2:$S$2,0))+IF($D$6="Sí",INDEX(costos.acceso,MATCH($D69,vel.SAIB,0),MATCH($D$4,years,0)),0)} -> 627.05063 | G69: {=INDEX('Costo SCyD'!$O$9:$S$597,MATCH(G$11&$F$44&G$13&$D69,'Costo SCyD'!$A$9:$A$597&'Costo SCyD'!$B$9:$B$597&'Costo SCyD'!$C$9:$C$597&'Costo SCyD'!$D$9:$D$597,0),MATCH('Resultados Caso I'!$D$4,'Costo SCyD'!$O$2:$S$2,0))+IF($D$6="Sí",INDEX(costos.acceso,MATCH($D69,vel.SAIB,0),MATCH($D$4,years,0)),0)} -> 684.86761 | H69: {=INDEX('Costo SCyD'!$O$9:$S$597,MATCH(H$11&$F$44&H$13&$D69,'Costo SCyD'!$A$9:$A$597&'Costo SCyD'!$B$9:$B$597&'Costo SCyD'!$C$9:$C$597&'Costo SCyD'!$D$9:$D$597,0),MATCH('Resultados Caso I'!$D$4,'Costo SCyD'!$O$2:$S$2,0))+IF($D$6="Sí",INDEX(costos.acceso,MATCH($D69,vel.SAIB,0),MATCH($D$4,years,0)),0)} -> 770.22237 | I69: {=INDEX('Costo SCyD'!$O$9:$S$597,MATCH(I$11&$F$44&I$13&$D69,'Costo SCyD'!$A$9:$A$597&'Costo SCyD'!$B$9:$B$597&'Costo SCyD'!$C$9:$C$597&'Costo SCyD'!$D$9:$D$597,0),MATCH('Resultados Caso I'!$D$4,'Costo SCyD'!$O$2:$S$2,0))+IF($D$6="Sí",INDEX(costos.acceso,MATCH($D69,vel.SAIB,0),MATCH($D$4,years,0)),0)} -> 847.50569 | K69: {=INDEX('Costo SCyD'!$O$9:$S$597,MATCH(K$11&$F$44&K$13&$D69,'Costo SCyD'!$A$9:$A$597&'Costo SCyD'!$B$9:$B$597&'Costo SCyD'!$C$9:$C$597&'Costo SCyD'!$D$9:$D$597,0),MATCH('Resultados Caso I'!$D$4,'Costo SCyD'!$O$2:$S$2,0))+IF($D$6="Sí",INDEX(costos.acceso,MATCH($D69,vel.SAIB,0),MATCH($D$4,years,0)),0)} -> 839.53817 | L69: {=INDEX('Costo SCyD'!$O$9:$S$597,MATCH(L$11&$F$44&L$13&$D69,'Costo SCyD'!$A$9:$A$597&'Costo SCyD'!$B$9:$B$597&'Costo SCyD'!$C$9:$C$597&'Costo SCyD'!$D$9:$D$597,0),MATCH('Resultados Caso I'!$D$4,'Costo SCyD'!$O$2:$S$2,0))+IF($D$6="Sí",INDEX(costos.acceso,MATCH($D69,vel.SAIB,0),MATCH($D$4,years,0)),0)} -> 920.76066 | M69: {=INDEX('Costo SCyD'!$O$9:$S$597,MATCH(M$11&$F$44&M$13&$D69,'Costo SCyD'!$A$9:$A$597&'Costo SCyD'!$B$9:$B$597&'Costo SCyD'!$C$9:$C$597&'Costo SCyD'!$D$9:$D$597,0),MATCH('Resultados Caso I'!$D$4,'Costo SCyD'!$O$2:$S$2,0))+IF($D$6="Sí",INDEX(costos.acceso,MATCH($D69,vel.SAIB,0),MATCH($D$4,years,0)),0)} -> 1040.6688 | N69: {=INDEX('Costo SCyD'!$O$9:$S$597,MATCH(N$11&$F$44&N$13&$D69,'Costo SCyD'!$A$9:$A$597&'Costo SCyD'!$B$9:$B$597&'Costo SCyD'!$C$9:$C$597&'Costo SCyD'!$D$9:$D$597,0),MATCH('Resultados Caso I'!$D$4,'Costo SCyD'!$O$2:$S$2,0))+IF($D$6="Sí",INDEX(costos.acceso,MATCH($D69,vel.SAIB,0),MATCH($D$4,years,0)),0)} -> 1149.238 | P69: {=INDEX('Costo SCyD'!$O$9:$S$597,MATCH(P$11&$F$44&P$13&$D69,'Costo SCyD'!$A$9:$A$597&'Costo SCyD'!$B$9:$B$597&'Costo SCyD'!$C$9:$C$597&'Costo SCyD'!$D$9:$D$597,0),MATCH('Resultados Caso I'!$D$4,'Costo SCyD'!$O$2:$S$2,0))+IF($D$6="Sí",INDEX(costos.acceso,MATCH($D69,vel.SAIB,0),MATCH($D$4,years,0)),0)} -> 1087.4566 | Q69: {=INDEX('Costo SCyD'!$O$9:$S$597,MATCH(Q$11&$F$44&Q$13&$D69,'Costo SCyD'!$A$9:$A$597&'Costo SCyD'!$B$9:$B$597&'Costo SCyD'!$C$9:$C$597&'Costo SCyD'!$D$9:$D$597,0),MATCH('Resultados Caso I'!$D$4,'Costo SCyD'!$O$2:$S$2,0))+IF($D$6="Sí",INDEX(costos.acceso,MATCH($D69,vel.SAIB,0),MATCH($D$4,years,0)),0)} -> 1195.9873 | R69: {=INDEX('Costo SCyD'!$O$9:$S$597,MATCH(R$11&$F$44&R$13&$D69,'Costo SCyD'!$A$9:$A$597&'Costo SCyD'!$B$9:$B$597&'Costo SCyD'!$C$9:$C$597&'Costo SCyD'!$D$9:$D$597,0),MATCH('Resultados Caso I'!$D$4,'Costo SCyD'!$O$2:$S$2,0))+IF($D$6="Sí",INDEX(costos.acceso,MATCH($D69,vel.SAIB,0),MATCH($D$4,years,0)),0)} -> 1356.2104 | S69: {=INDEX('Costo SCyD'!$O$9:$S$597,MATCH(S$11&$F$44&S$13&$D69,'Costo SCyD'!$A$9:$A$597&'Costo SCyD'!$B$9:$B$597&'Costo SCyD'!$C$9:$C$597&'Costo SCyD'!$D$9:$D$597,0),MATCH('Resultados Caso I'!$D$4,'Costo SCyD'!$O$2:$S$2,0))+IF($D$6="Sí",INDEX(costos.acceso,MATCH($D69,vel.SAIB,0),MATCH($D$4,years,0)),0)} -> 1501.2822

Sheet Resultados Caso II
D1: Resultados Caso II
C4: Año seleccionado | D4: 2026
C6: Incluir costos de acceso? | D6: No
F7: =+$F$8&$F$9&F10 -> AsimétricoLocalCalidad Best Effort | G7: =+$F$8&$F$9&G10 -> AsimétricoLocalCalidad Datos Generales | H7: =+$F$8&$F$9&H10 -> AsimétricoLocalCalidad Doble | I7: =+$F$8&$F$9&I10 -> AsimétricoLocalCalidad Triple | K7: =+$K$8&$K$9&K10 -> AsimétricoRegionalCalidad Best Effort | L7: =+$K$8&$K$9&L10 -> AsimétricoRegionalCalidad Datos Generales | M7: =+$K$8&$K$9&M10 -> AsimétricoRegionalCalidad Doble | N7: =+$K$8&$K$9&N10 -> AsimétricoRegionalCalidad Triple | P7: =+$P$8&$P$9&P10 -> AsimétricoNacionalCalidad Best Effort | Q7: =+$P$8&$P$9&Q10 -> AsimétricoNacionalCalidad Datos Generales | R7: =+$P$8&$P$9&R10 -> AsimétricoNacionalCalidad Doble | S7: =+$P$8&$P$9&S10 -> AsimétricoNacionalCalidad Triple
D8: Simetría | F8: Asimétrico | K8: Asimétrico | P8: Asimétrico
D9: Agregación | F9: Local | K9: Regional | P9: Nacional
D10: Calidad | F10: Calidad Best Effort | G10: Calidad Datos Generales | H10: Calidad Doble | I10: Calidad Triple | K10: Calidad Best Effort | L10: Calidad Datos Generales | M10: Calidad Doble | N10: Calidad Triple | P10: Calidad Best Effort | Q10: Calidad Datos Generales | R10: Calidad Doble | S10: Calidad Triple
D11: Agregación | F11: Local | G11: Local | H11: Local | I11: Local | K11: Regional | L11: Regional | M11: Regional | N11: Regional | P11: Nacional | Q11: Nacional | R11: Nacional | S11: Nacional
D12: Simetría | F12: Asimétrico | G12: Asimétrico | H12: Asimétrico | I12: Asimétrico | K12: Asimétrico | L12: Asimétrico | M12: Asimétrico | N12: Asimétrico | P12: Asimétrico | Q12: Asimétrico | R12: Asimétrico | S12: Asimétrico
D13: Calidad | F13: Calidad Best Effort | G13: Calidad Datos Generales | H13: Calidad Doble | I13: Calidad Triple | K13: Calidad Best Effort | L13: Calidad Datos Generales | M13: Calidad Doble | N13: Calidad Triple | P13: Calidad Best Effort | Q13: Calidad Datos Generales | R13: Calidad Doble | S13: Calidad Triple
C15: 2 Mbps | D15: {=vel.SAIB} -> 2 | F15: {=INDEX('Costo SCyD'!$O$9:$S$597,MATCH(F$11&F$12&F$13&$D15,'Costo SCyD'!$A$9:$A$597&'Costo SCyD'!$B$9:$B$597&'Costo SCyD'!$C$9:$C$597&'Costo SCyD'!$D$9:$D$597,0),MATCH('Resultados Caso II'!$D$4,'Costo SCyD'!$O$2:$S$2,0))+IF($D$6="Sí",INDEX(costos.acceso,MATCH($D15,vel.SAIB,0),MATCH($D$4,years,0)),0)} -> 14.324142 | G15: {=INDEX('Costo SCyD'!$O$9:$S$597,MATCH(G$11&G$12&G$13&$D15,'Costo SCyD'!$A$9:$A$597&'Costo SCyD'!$B$9:$B$597&'Costo SCyD'!$C$9:$C$597&'Costo SCyD'!$D$9:$D$597,0),MATCH('Resultados Caso II'!$D$4,'Costo SCyD'!$O$2:$S$2,0))+IF($D$6="Sí",INDEX(costos.acceso,MATCH($D15,vel.SAIB,0),MATCH($D$4,years,0)),0)} -> 15.901946 | H15: {=INDEX('Costo SCyD'!$O$9:$S$597,MATCH(H$11&H$12&H$13&$D15,'Costo SCyD'!$A$9:$A$597&'Costo SCyD'!$B$9:$B$597&'Costo SCyD'!$C$9:$C$597&'Costo SCyD'!$D$9:$D$597,0),MATCH('Resultados Caso II'!$D$4,'Costo SCyD'!$O$2:$S$2,0))+IF($D$6="Sí",INDEX(costos.acceso,MATCH($D15,vel.SAIB,0),MATCH($D$4,years,0)),0)} -> 18.231247 | I15: {=INDEX('Costo SCyD'!$O$9:$S$597,MATCH(I$11&I$12&I$13&$D15,'Costo SCyD'!$A$9:$A$597&'Costo SCyD'!$B$9:$B$597&'Costo SCyD'!$C$9:$C$597&'Costo SCyD'!$D$9:$D$597,0),MATCH('Resultados Caso II'!$D$4,'Costo SCyD'!$O$2:$S$2,0))+IF($D$6="Sí",INDEX(costos.acceso,MATCH($D15,vel.SAIB,0),MATCH($D$4,years,0)),0)} -> 20.340281 | K15: {=INDEX('Costo SCyD'!$O$9:$S$597,MATCH(K$11&K$12&K$13&$D15,'Costo SCyD'!$A$9:$A$597&'Costo SCyD'!$B$9:$B$597&'Costo SCyD'!$C$9:$C$597&'Costo SCyD'!$D$9:$D$597,0),MATCH('Resultados Caso II'!$D$4,'Costo SCyD'!$O$2:$S$2,0))+IF($D$6="Sí",INDEX(costos.acceso,MATCH($D15,vel.SAIB,0),MATCH($D$4,years,0)),0)} -> 20.12285 | L15: {=INDEX('Costo SCyD'!$O$9:$S$597,MATCH(L$11&L$12&L$13&$D15,'Costo SCyD'!$A$9:$A$597&'Costo SCyD'!$B$9:$B$597&'Costo SCyD'!$C$9:$C$597&'Costo SCyD'!$D$9:$D$597,0),MATCH('Resultados Caso II'!$D$4,'Costo SCyD'!$O$2:$S$2,0))+IF($D$6="Sí",INDEX(costos.acceso,MATCH($D15,vel.SAIB,0),MATCH($D$4,years,0)),0)} -> 22.339383 | M15: {=INDEX('Costo SCyD'!$O$9:$S$597,MATCH(M$11&M$12&M$13&$D15,'Costo SCyD'!$A$9:$A$597&'Costo SCyD'!$B$9:$B$597&'Costo SCyD'!$C$9:$C$597&'Costo SCyD'!$D$9:$D$597,0),MATCH('Resultados Caso II'!$D$4,'Costo SCyD'!$O$2:$S$2,0))+IF($D$6="Sí",INDEX(costos.acceso,MATCH($D15,vel.SAIB,0),MATCH($D$4,years,0)),0)} -> 25.611633 | N15: {=INDEX('Costo SCyD'!$O$9:$S$597,MATCH(N$11&N$12&N$13&$D15,'Costo SCyD'!$A$9:$A$597&'Costo SCyD'!$B$9:$B$597&'Costo SCyD'!$C$9:$C$597&'Costo SCyD'!$D$9:$D$597,0),MATCH('Resultados Caso II'!$D$4,'Costo SCyD'!$O$2:$S$2,0))+IF($D$6="Sí",INDEX(costos.acceso,MATCH($D15,vel.SAIB,0),MATCH($D$4,years,0)),0)} -> 28.574448 | P15: {=INDEX('Costo SCyD'!$O$9:$S$597,MATCH(P$11&P$12&P$13&$D15,'Costo SCyD'!$A$9:$A$597&'Costo SCyD'!$B$9:$B$597&'Costo SCyD'!$C$9:$C$597&'Costo SCyD'!$D$9:$D$597,0),MATCH('Resultados Caso II'!$D$4,'Costo SCyD'!$O$2:$S$2,0))+IF($D$6="Sí",INDEX(costos.acceso,MATCH($D15,vel.SAIB,0),MATCH($D$4,years,0)),0)} -> 26.888456 | Q15: {=INDEX('Costo SCyD'!$O$9:$S$597,MATCH(Q$11&Q$12&Q$13&$D15,'Costo SCyD'!$A$9:$A$597&'Costo SCyD'!$B$9:$B$597&'Costo SCyD'!$C$9:$C$597&'Costo SCyD'!$D$9:$D$597,0),MATCH('Resultados Caso II'!$D$4,'Costo SCyD'!$O$2:$S$2,0))+IF($D$6="Sí",INDEX(costos.acceso,MATCH($D15,vel.SAIB,0),MATCH($D$4,years,0)),0)} -> 29.85022 | R15: {=INDEX('Costo SCyD'!$O$9:$S$597,MATCH(R$11&R$12&R$13&$D15,'Costo SCyD'!$A$9:$A$597&'Costo SCyD'!$B$9:$B$597&'Costo SCyD'!$C$9:$C$597&'Costo SCyD'!$D$9:$D$597,0),MATCH('Resultados Caso II'!$D$4,'Costo SCyD'!$O$2:$S$2,0))+IF($D$6="Sí",INDEX(costos.acceso,MATCH($D15,vel.SAIB,0),MATCH($D$4,years,0)),0)} -> 34.22265 | S15: {=INDEX('Costo SCyD'!$O$9:$S$597,MATCH(S$11&S$12&S$13&$D15,'Costo SCyD'!$A$9:$A$597&'Costo SCyD'!$B$9:$B$597&'Costo SCyD'!$C$9:$C$597&'Costo SCyD'!$D$9:$D$597,0),MATCH('Resultados Caso II'!$D$4,'Costo SCyD'!$O$2:$S$2,0))+IF($D$6="Sí",INDEX(costos.acceso,MATCH($D15,vel.SAIB,0),MATCH($D$4,years,0)),0)} -> 38.181607
C16: 3 Mbps | D16: 3 | F16: {=INDEX('Costo SCyD'!$O$9:$S$597,MATCH(F$11&F$12&F$13&$D16,'Costo SCyD'!$A$9:$A$597&'Costo SCyD'!$B$9:$B$597&'Costo SCyD'!$C$9:$C$597&'Costo SCyD'!$D$9:$D$597,0),MATCH('Resultados Caso II'!$D$4,'Costo SCyD'!$O$2:$S$2,0))+IF($D$6="Sí",INDEX(costos.acceso,MATCH($D16,vel.SAIB,0),MATCH($D$4,years,0)),0)} -> 17.44553 | G16: {=INDEX('Costo SCyD'!$O$9:$S$597,MATCH(G$11&G$12&G$13&$D16,'Costo SCyD'!$A$9:$A$597&'Costo SCyD'!$B$9:$B$597&'Costo SCyD'!$C$9:$C$597&'Costo SCyD'!$D$9:$D$597,0),MATCH('Resultados Caso II'!$D$4,'Costo SCyD'!$O$2:$S$2,0))+IF($D$6="Sí",INDEX(costos.acceso,MATCH($D16,vel.SAIB,0),MATCH($D$4,years,0)),0)} -> 19.367156 | H16: {=INDEX('Costo SCyD'!$O$9:$S$597,MATCH(H$11&H$12&H$13&$D16,'Costo SCyD'!$A$9:$A$597&'Costo SCyD'!$B$9:$B$597&'Costo SCyD'!$C$9:$C$597&'Costo SCyD'!$D$9:$D$597,0),MATCH('Resultados Caso II'!$D$4,'Costo SCyD'!$O$2:$S$2,0))+IF($D$6="Sí",INDEX(costos.acceso,MATCH($D16,vel.SAIB,0),MATCH($D$4,years,0)),0)} -> 22.204038 | I16: {=INDEX('Costo SCyD'!$O$9:$S$597,MATCH(I$11&I$12&I$13&$D16,'Costo SCyD'!$A$9:$A$597&'Costo SCyD'!$B$9:$B$597&'Costo SCyD'!$C$9:$C$597&'Costo SCyD'!$D$9:$D$597,0),MATCH('Resultados Caso II'!$D$4,'Costo SCyD'!$O$2:$S$2,0))+IF($D$6="Sí",INDEX(costos.acceso,MATCH($D16,vel.SAIB,0),MATCH($D$4,years,0)),0)} -> 24.772653 | K16: {=INDEX('Costo SCyD'!$O$9:$S$597,MATCH(K$11&K$12&K$13&$D16,'Costo SCyD'!$A$9:$A$597&'Costo SCyD'!$B$9:$B$597&'Costo SCyD'!$C$9:$C$597&'Costo SCyD'!$D$9:$D$597,0),MATCH('Resultados Caso II'!$D$4,'Costo SCyD'!$O$2:$S$2,0))+IF($D$6="Sí",INDEX(costos.acceso,MATCH($D16,vel.SAIB,0),MATCH($D$4,years,0)),0)} -> 24.507842 | L16: {=INDEX('Costo SCyD'!$O$9:$S$597,MATCH(L$11&L$12&L$13&$D16,'Costo SCyD'!$A$9:$A$597&'Costo SCyD'!$B$9:$B$597&'Costo SCyD'!$C$9:$C$597&'Costo SCyD'!$D$9:$D$597,0),MATCH('Resultados Caso II'!$D$4,'Costo SCyD'!$O$2:$S$2,0))+IF($D$6="Sí",INDEX(costos.acceso,MATCH($D16,vel.SAIB,0),MATCH($D$4,years,0)),0)} -> 27.207382 | M16: {=INDEX('Costo SCyD'!$O$9:$S$597,MATCH(M$11&M$12&M$13&$D16,'Costo SCyD'!$A$9:$A$597&'Costo SCyD'!$B$9:$B$597&'Costo SCyD'!$C$9:$C$597&'Costo SCyD'!$D$9:$D$597,0),MATCH('Resultados Caso II'!$D$4,'Costo SCyD'!$O$2:$S$2,0))+IF($D$6="Sí",INDEX(costos.acceso,MATCH($D16,vel.SAIB,0),MATCH($D$4,years,0)),0)} -> 31.192691 | N16: {=INDEX('Costo SCyD'!$O$9:$S$597,MATCH(N$11&N$12&N$13&$D16,'Costo SCyD'!$A$9:$A$597&'Costo SCyD'!$B$9:$B$597&'Costo SCyD'!$C$9:$C$597&'Costo SCyD'!$D$9:$D$597,0),MATCH('Resultados Caso II'!$D$4,'Costo SCyD'!$O$2:$S$2,0))+IF($D$6="Sí",INDEX(costos.acceso,MATCH($D16,vel.SAIB,0),MATCH($D$4,years,0)),0)} -> 34.801136 | P16: {=INDEX('Costo SCyD'!$O$9:$S$597,MATCH(P$11&P$12&P$13&$D16,'Costo SCyD'!$A$9:$A$597&'Costo SCyD'!$B$9:$B$597&'Costo SCyD'!$C$9:$C$597&'Costo SCyD'!$D$9:$D$597,0),MATCH('Resultados Caso II'!$D$4,'Costo SCyD'!$O$2:$S$2,0))+IF($D$6="Sí",INDEX(costos.acceso,MATCH($D16,vel.SAIB,0),MATCH($D$4,years,0)),0)} -> 32.747747 | Q16: {=INDEX('Costo SCyD'!$O$9:$S$597,MATCH(Q$11&Q$12&Q$13&$D16,'Costo SCyD'!$A$9:$A$597&'Costo SCyD'!$B$9:$B$597&'Costo SCyD'!$C$9:$C$597&'Costo SCyD'!$D$9:$D$597,0),MATCH('Resultados Caso II'!$D$4,'Costo SCyD'!$O$2:$S$2,0))+IF($D$6="Sí",INDEX(costos.acceso,MATCH($D16,vel.SAIB,0),MATCH($D$4,years,0)),0)} -> 36.354913 | R16: {=INDEX('Costo SCyD'!$O$9:$S$597,MATCH(R$11&R$12&R$13&$D16,'Costo SCyD'!$A$9:$A$597&'Costo SCyD'!$B$9:$B$597&'Costo SCyD'!$C$9:$C$597&'Costo SCyD'!$D$9:$D$597,0),MATCH('Resultados Caso II'!$D$4,'Costo SCyD'!$O$2:$S$2,0))+IF($D$6="Sí",INDEX(costos.acceso,MATCH($D16,vel.SAIB,0),MATCH($D$4,years,0)),0)} -> 41.680143 | S16: {=INDEX('Costo SCyD'!$O$9:$S$597,MATCH(S$11&S$12&S$13&$D16,'Costo SCyD'!$A$9:$A$597&'Costo SCyD'!$B$9:$B$597&'Costo SCyD'!$C$9:$C$597&'Costo SCyD'!$D$9:$D$597,0),MATCH('Resultados Caso II'!$D$4,'Costo SCyD'!$O$2:$S$2,0))+IF($D$6="Sí",INDEX(costos.acceso,MATCH($D16,vel.SAIB,0),MATCH($D$4,years,0)),0)} -> 46.501801
