Workbook
Name _RAN1: "A1..J66"
Name billion: 1000000000
Name bit.conversion: 1024
Name bit.per.byte: 8
Name calidad.SAIB: Insumos!$D$34:$D$37
Name cell.pi: 2.6
Name costo.unitario: Insumos!$K$19:$O$21
Name costos.acceso: Insumos!$K$75:$O$97
Name days.per.month: 30.42
Name days.per.year: 365
Name epsilon: 0.000001
Name factor.calidad.SAIB: Insumos!$M$34:$M$37
Name factor.simetria.SAIB: Insumos!$M$28:$M$29
Name factor.vel.SAIB: Insumos!$M$42:$M$64
Name hours.per.day: 24
Name hundred: 100
Name indice.tiempo: Listas!$E$12:$I$12
Name million: 1000000
Name minutes.per.hour: 60
Name monlogo: "Image 69"
Name months: 12
Name months.per.year: 12
Name Network_minutes_per_Mbps: Listas!$E$4
Name niveles.desagregacion: Insumos!$D$19:$D$21
Name scenario_selected: "'!$D$46"
Name seconds.per.hour: 3600
Name seconds.per.minute: 60
Name simetria.SAIB: Insumos!$D$28:$D$29
Name thousand: 1000
Name vel.SAIB: Listas!$C$4:$C$26
Name years: Listas!$E$13:$I$13

Sheet V
B1: =B5 -> Módulo SAIB
A3: Información
A5: Título | B5: Módulo SAIB
A6: Objetivo | B6: Cálculo del costo asociado al SAIB
A8: Versión | B8: Versión final tras consulta pública
A9: Autor | B9: Dirección General de Compartición de Infraestructura-UPR

Sheet S
C1: Guía de estilos en Excel
A3: Nota: Utilizar la opción 'Congelar los paneles' (para cada hoja de cálculo) para mantener la cabecera de la columna y de la fila a la vista cuando se navega por la hoja de cálculo
A4: Nota: Si una hoja de cálculo abarca más de una página, se sugiere repetir la primera fila de encabezados de columna en todas las páginas (Diseño de página_Repetir filas en extremo superior_Indique la referencia $1:$1, tal y como se hace en esta hoja de cálculo)
A6: Estilos de celda (datos de entrada o inputs)
A7: Utilizar estos estilos para identificar los datos de entrada (inputs) al modelo
A8: Nota: Estos estilos cambian prácticamente todo el formato de una celda (excepto los números y la alineación)
B10: Parámetro de entrada | C10: 100 | D10: Desbloqueada | E10: Un input (dato de entrada) que puede ser modificado por el usuario (siempre que quiera)
B12: Parámetro de entrada | C12: 250 | D12: Desbloqueada | E12: Se sugiere configurar el tipo de datos o los valores que los usuarios pueden escribir en una celda. La validación de datos se configura en el cuadro de diálogo 'Validación de datos'
B13: Minimum | C13: 100
B14: Maximum | C14: 300
B16: Parámetro de entrada | C16: 300 | D16: Desbloqueada | E16: Si un parámetro puede tomar sólo uno de entre un rango reducido de valores, para controlar el tipo de datos o los valores que los usuarios pueden entrar en una celda, se sugiere configurar la lista en el cuadro de diálogo Validación de Datos_Permitir_Lista, asegurándose de que esté activada la casilla Celda con lista desplegable
B17: Acceptable values | C17: 100
C18: 200
C19: 300
B21: Dato de entrada | C21: 100 | D21: Desbloqueada | E21: Datos reales (modificar únicamente si se dispone de mejores datos)
B23: Estimación de valores de entrada | C23: 100 | D23: Desbloqueada | E23: Una estimación utilizada ante la falta de datos reales (cambiar únicamente si se dispone de una mejor estimación, o de datos)
B25: Cálculo de valores de entrada | C25: 100 | D25: Bloqueada | E25: Datos de entrada del modelo calculados a partir de otros datos de entrada (e.g. valores de entrada interpolados)
B27: Enlace (dentro del mismo libro) | C27: 100 | D27: Bloqueada | E27: Celda vinculada a una fuente ubicada en otra hoja de cálculo dentro del mismo libro
B29: Enlace (a otro libro) | C29: 100 | D29: Bloqueada | E29: Celda vinculada a una fuente ubicada en una hoja de cálculo en otro libro
A31: Otros estilos de celda
A32: Utilizar estos estilos para identificar el papel de otras celdas en el modelo
A33: Nota: Estos estilos cambian sólo el tipo de letra utilizada en una celda
B35: Cálculo | C35: 100 | D35: Bloqueada | E35: Un cálculo del modelo
B37: Total | C37: 123.45 | E37: Total (utilizar si no forma parte de un 'Sub-total de fila' o un 'Total de fila' en una tabla - ver más abajo)
B39: Suma de verificación | C39: 0 | D39: Bloqueada | E39: Cálculo secundario cuyo objetivo principal es verificar un resultado (al que por tanto no debería hacerse referencia en ninguna otra parte del modelo)
B41: Suma de verificación | C41: 0.1 | D41: Bloqueada | E41: Utilizar este formato condicional para resaltar los valores de error obtenidos a través de la suma de verificación (ej. valores diferentes a cero)
B43: Valor de salida | C43: 100 | E43: Un resultado clave de esta parte del modelo (en particular uno que será utilizado en otra parte del modelo)
B45: Nombre | C45: Nombre | D45: Bloqueada | E45: Un nombre en Excel aplicable a una o más celdas adjuntas (Insertar Nombre_Crear)
B47: Nota | C47: Nota | E47: Una nota (cuyo tamaño de texto es menor de lo normal)
B49: Resaltar una celda con un formato especial | C49: 100 | E49: Una celda que contiene valores especiales
B51: Eliminar el resaltado de una celda | C51: 100 | E51: Una celda que deja de contener valores especiales
A53: Formatos de número
A54: Utilizar estos estilos para formatear números (y fechas) de manera consistente
A55: Nota: Todos los formatos de número utilizan un símbolo de separador decimal y de agrupamiento de dígitos (separador de miles), ambos definidos en las Opciones Regionales en el cuadro de diálogo 'Propriedades de Control'. Si desea cambiar los formatos de número, no lo haga aquí, sino en Excel!
A56: Nota: Casi todos los formatos de número dejan espacio para un ')' a la derecha del número, pero sólo los formatos de moneda utilizan '(…)' para los números negativos
C58: Número | D58: Número (2pd) | E58: Porcentaje | F58: Porcentaje (2pd) | G58: Moneda | H58: Moneda (2pd) | I58: Coma | J58: Porcentaje
B59: Positivo | C59: 1234.56 | D59: 123.45 | E59: 0.1234 | F59: 0.1234 | G59: 1234.56 | H59: 123.45 | I59: 1234.56 | J59: 0.1234
B60: Negativo | C60: -1234.56 | D60: -123.45 | E60: -0.1234 | F60: -0.1234 | G60: -1234.56 | H60: -123.45 | I60: -1234.56 | J60: -0.1234
B61: Cero | C61: 0 | D61: 0 | E61: 0 | F61: 0 | G61: 0 | H61: 0 | I61: 0 | J61: 0
B62: Texto | C62: Texto | D62: Texto | E62: Texto | F62: Texto | G62: Texto | H62: Texto | I62: Texto | J62: Texto
...

Sheet Listas
D1: Listas
C3: Velocidad de bajada | E3: Minutes to Mbps
C4: 2 | E4: 2355072.5
C5: 3 | E5: Network_minutes_per_Mbps
C6: 5
C7: 10
C8: 15
C9: 20
C10: 30
C11: 40
C12: 50 | E12: 1 | F12: =+E12+1 -> 2 | G12: =+F12+1 -> 3 | H12: =+G12+1 -> 4 | I12: =+H12+1 -> 5
C13: 60 | E13: 2022 | F13: =E13+1 -> 2023 | G13: =F13+1 -> 2024 | H13: =G13+1 -> 2025 | I13: =H13+1 -> 2026
C14: 70
C15: 80
C16: 100
C17: 120
C18: 150
C19: 200
C20: 250
C21: 300
C22: 350
C23: 400
C24: 500
C25: 750
C26: 1000
C27: vel.SAIB

Sheet Insumos
D1: Distribución según el tipo de servicio
K2: 1 | L2: =+K2+1 -> 2 | M2: =+L2+1 -> 3 | N2: =+M2+1 -> 4 | O2: =+N2+1 -> 5
E3: Fuente | F3: Notas | G3: Periodo | H3: Unidades | I3: Check | K3: 2022 | L3: =K3+1 -> 2023 | M3: =L3+1 -> 2024 | N3: =M3+1 -> 2025 | O3: =N3+1 -> 2026
A5: =MAX($A$1:$A4)+1 -> 1 | C5: Costo mensual por usuario
B7: Costo total SCyD
D9: Local | H9: MXN | K9: 5.7823514e+09 | L9: 6.5662114e+09 | M9: 7.3230729e+09 | N9: 8.0661272e+09 | O9: 8.7531277e+09
D10: Regional | H10: MXN | K10: 3.8672579e+09 | L10: 4.3585727e+09 | M10: 4.8256938e+09 | N10: 5.2780673e+09 | O10: 5.6888275e+09
D11: Nacional | H11: MXN | K11: 2776199.7 | L11: 3128779.6 | M11: 3463744.7 | N11: 3787829.1 | O11: 4081718.9
B13: Tráfico total SCyD
D14: Local | H14: Mbps | K14: 16073321 | L14: 17604412 | M14: 19035745 | N14: 20353731 | O14: 21576673
D15: Regional | H15: Mbps | K15: 7436083.1 | L15: 8144419.4 | M15: 8806604.4 | N15: 9416351.1 | O15: 9982127
D16: Nacional | H16: Mbps | K16: 3992.8978 | L16: 4373.2479 | M16: 4728.8164 | N16: 5056.2275 | O16: 5360.028
B18: Costo unitario del SCyD
D19: Local | H19: MXN/Mbps/mes | K19: =K9/K14/12 -> 29.979032 | L19: =L9/L14/12 -> 31.082225 | M19: =M9/M14/12 -> 32.058429 | N19: =N9/N14/12 -> 33.024769 | O19: =O9/O14/12 -> 33.806292
D20: Regional | H20: MXN/Mbps/mes | K20: =K10/K15/12 -> 43.338877 | L20: =L10/L15/12 -> 44.59672 | M20: =M10/M15/12 -> 45.663587 | N20: =N10/N15/12 -> 46.710126 | O20: =O10/O15/12 -> 47.491778
D21: Nacional | H21: MXN/Mbps/mes | K21: =K11/K16/12 -> 57.940368 | L21: =L11/L16/12 -> 59.619678 | M21: =M11/M16/12 -> 61.039669 | N21: =N11/N16/12 -> 62.428445 | O21: =O11/O16/12 -> 63.459229
D22: niveles.desagregacion
A24: =MAX($A$1:$A22)+1 -> 2 | C24: Factor de capacidad
C26: Factor simetría
D28: Simétrico | E28: IFT | M28: 1.7855127
D29: Asimétrico | E29: IFT | M29: 1
D30: simetria.SAIB | M30: factor.simetria.SAIB
C32: Factor calidad
D34: Calidad Best Effort | E34: IFT | M34: 1
D35: Calidad Datos Generales | E35: IFT | M35: 1.11015
D36: Calidad Doble | E36: IFT | M36: 1.2727637
D37: Calidad Triple | E37: IFT | M37: 1.42
D38: calidad.SAIB | M38: factor.calidad.SAIB
C40: Factor velocidad
C42: 2 | D42: 2 Mbps | E42: Estimación basado en datos de los operadores | M42: 0.4237123
C43: {=vel.SAIB} -> 2 | D43: 3 Mbps | E43: Estimación basado en datos de los operadores | M43: 0.51604389
C44: 3 | D44: 5 Mbps | E44: Estimación basado en datos de los operadores | M44: 0.66152994
C45: 5 | D45: 10 Mbps | E45: Estimación basado en datos de los operadores | M45: 0.92663839
C46: 10 | D46: 15 Mbps | E46: Estimación basado en datos de los operadores | M46: 1.1285631
C47: 15 | D47: 20 Mbps | E47: Estimación basado en datos de los operadores | M47: 1.2979892
C48: 20 | D48: 30 Mbps | E48: Estimación basado en datos de los operadores | M48: 1.5808354
C49: 30 | D49: 40 Mbps | E49: Estimación basado en datos de los operadores | M49: 1.818159
C50: 40 | D50: 50 Mbps | E50: Estimación basado en datos de los operadores | M50: 2.0265135
C51: 50 | D51: 60 Mbps | E51: Estimación basado en datos de los operadores | M51: 2.2143559
C52: 60 | D52: 70 Mbps | E52: Estimación basado en datos de los operadores | M52: 2.3866952
...

Sheet Costo SCyD
D1: Cálculo del costo de transporte por tipo de servicio
O2: 2022 | P2: =O2+1 -> 2023 | Q2: =P2+1 -> 2024 | R2: =Q2+1 -> 2025 | S2: =R2+1 -> 2026
A3: 1 | C3: Costo mensual por cliente por tipo de servicio
B5: Costo mensual por cliente - Nacional | J5: Factor velocidad | K5: Factor calidad | L5: Factor simetria | M5: Factor total
C7: Simétrico
D8: Calidad Best Effort
A9: Nacional | B9: =+IF(D8="Calidad best effort",C7,B8) -> Simétrico | C9: =+IF(D9=2,D8,C8) -> Calidad Best Effort | D9: {=vel.SAIB} -> 2 | J9: =INDEX([0]!factor.vel.SAIB,MATCH(D9,vel.SAIB,0)) -> 0.4237123 | K9: =INDEX(factor.calidad.SAIB,MATCH(C9,calidad.SAIB,0)) -> 1 | L9: =INDEX(factor.simetria.SAIB,MATCH(B9,simetria.SAIB,0)) -> 1.7855127 | M9: =J9*K9*L9 -> 0.7565437 | O9: {=INDEX(costo.unitario,MATCH($A9:$A31,niveles.desagregacion,0),indice.tiempo)*M9:M31} -> 43.834421 | P9: 45.104892 | Q9: 46.179177 | R9: 47.229847 | S9: 48.00968
A10: Nacional | B10: =+IF(D9="Calidad best effort",C8,B9) -> Simétrico | C10: =+IF(D10=2,D9,C9) -> Calidad Best Effort | D10: 3 | E10: Cálculo | H10: MXN/linea/mes | J10: =INDEX([0]!factor.vel.SAIB,MATCH(D10,vel.SAIB,0)) -> 0.51604389 | K10: =INDEX(factor.calidad.SAIB,MATCH(C10,calidad.SAIB,0)) -> 1 | L10: =INDEX(factor.simetria.SAIB,MATCH(B10,simetria.SAIB,0)) -> 1.7855127 | M10: =J10*K10*L10 -> 0.92140293 | O10: 53.386425 | P10: 54.933746 | Q10: 56.24213 | R10: 57.521752 | S10: 58.471519
A11: Nacional | B11: =+IF(D10="Calidad best effort",C9,B10) -> Simétrico | C11: =+IF(D11=2,D10,C10) -> Calidad Best Effort | D11: 5 | E11: Cálculo | H11: MXN/linea/mes | J11: =INDEX(factor.vel.SAIB,MATCH(D11,vel.SAIB,0)) -> 0.66152994 | K11: =INDEX(factor.calidad.SAIB,MATCH(C11,calidad.SAIB,0)) -> 1 | L11: =INDEX(factor.simetria.SAIB,MATCH(B11,simetria.SAIB,0)) -> 1.7855127 | M11: =J11*K11*L11 -> 1.1811701 | O11: 68.437432 | P11: 70.420983 | Q11: 72.098233 | R11: 73.738614 | S11: 74.956145
A12: Nacional | B12: =+IF(D11="Calidad best effort",C10,B11) -> Simétrico | C12: =+IF(D12=2,D11,C11) -> Calidad Best Effort | D12: 10 | E12: Cálculo | H12: MXN/linea/mes | J12: =INDEX(factor.vel.SAIB,MATCH(D12,vel.SAIB,0)) -> 0.92663839 | K12: =INDEX(factor.calidad.SAIB,MATCH(C12,calidad.SAIB,0)) -> 1 | L12: =INDEX(factor.simetria.SAIB,MATCH(B12,simetria.SAIB,0)) -> 1.7855127 | M12: =J12*K12*L12 -> 1.6545246 | O12: 95.863766 | P12: 98.642226 | Q12: 100.99164 | R12: 103.2894 | S12: 104.99486
A13: Nacional | B13: =+IF(D12="Calidad best effort",C11,B12) -> Simétrico | C13: =+IF(D13=2,D12,C12) -> Calidad Best Effort | D13: 15 | E13: Cálculo | H13: MXN/linea/mes | J13: =INDEX(factor.vel.SAIB,MATCH(D13,vel.SAIB,0)) -> 1.1285631 | K13: =INDEX(factor.calidad.SAIB,MATCH(C13,calidad.SAIB,0)) -> 1 | L13: =INDEX(factor.simetria.SAIB,MATCH(B13,simetria.SAIB,0)) -> 1.7855127 | M13: =J13*K13*L13 -> 2.0150638 | O13: 116.75354 | P13: 120.13746 | Q13: 122.99883 | R13: 125.7973 | S13: 127.8744
A14: Nacional | B14: =+IF(D13="Calidad best effort",C12,B13) -> Simétrico | C14: =+IF(D14=2,D13,C13) -> Calidad Best Effort | D14: 20 | E14: Cálculo | H14: MXN/linea/mes | J14: =INDEX(factor.vel.SAIB,MATCH(D14,vel.SAIB,0)) -> 1.2979892 | K14: =INDEX(factor.calidad.SAIB,MATCH(C14,calidad.SAIB,0)) -> 1 | L14: =INDEX(factor.simetria.SAIB,MATCH(B14,simetria.SAIB,0)) -> 1.7855127 | M14: =J14*K14*L14 -> 2.3175762 | O14: 134.28122 | P14: 138.17315 | Q14: 141.46408 | R14: 144.68268 | S14: 147.0716
A15: Nacional | B15: =+IF(D14="Calidad best effort",C13,B14) -> Simétrico | C15: =+IF(D15=2,D14,C14) -> Calidad Best Effort | D15: 30 | E15: Cálculo | H15: MXN/linea/mes | J15: =INDEX(factor.vel.SAIB,MATCH(D15,vel.SAIB,0)) -> 1.5808354 | K15: =INDEX(factor.calidad.SAIB,MATCH(C15,calidad.SAIB,0)) -> 1 | L15: =INDEX(factor.simetria.SAIB,MATCH(B15,simetria.SAIB,0)) -> 1.7855127 | M15: =J15*K15*L15 -> 2.8226016 | O15: 163.54258 | P15: 168.2826 | Q15: 172.29067 | R15: 176.21063 | S15: 179.12012
A16: Nacional | B16: =+IF(D15="Calidad best effort",C14,B15) -> Simétrico | C16: =+IF(D16=2,D15,C15) -> Calidad Best Effort | D16: 40 | E16: Cálculo | H16: MXN/linea/mes | J16: =INDEX(factor.vel.SAIB,MATCH(D16,vel.SAIB,0)) -> 1.818159 | K16: =INDEX(factor.calidad.SAIB,MATCH(C16,calidad.SAIB,0)) -> 1 | L16: =INDEX(factor.simetria.SAIB,MATCH(B16,simetria.SAIB,0)) -> 1.7855127 | M16: =J16*K16*L16 -> 3.246346 | O16: 188.09448 | P16: 193.5461 | Q16: 198.15588 | R16: 202.66433 | S16: 206.01061
A17: Nacional | B17: =+IF(D16="Calidad best effort",C15,B16) -> Simétrico | C17: =+IF(D17=2,D16,C16) -> Calidad Best Effort | D17: 50 | E17: Cálculo | H17: MXN/linea/mes | J17: =INDEX(factor.vel.SAIB,MATCH(D17,vel.SAIB,0)) -> 2.0265135 | K17: =INDEX(factor.calidad.SAIB,MATCH(C17,calidad.SAIB,0)) -> 1 | L17: =INDEX(factor.simetria.SAIB,MATCH(B17,simetria.SAIB,0)) -> 1.7855127 | M17: =J17*K17*L17 -> 3.6183656 | O17: 209.64944 | P17: 215.7258 | Q17: 220.86384 | R17: 225.88894 | S17: 229.61869
A18: Nacional | B18: =+IF(D17="Calidad best effort",C16,B17) -> Simétrico | C18: =+IF(D18=2,D17,C17) -> Calidad Best Effort | D18: 60 | E18: Cálculo | H18: MXN/linea/mes | J18: =INDEX(factor.vel.SAIB,MATCH(D18,vel.SAIB,0)) -> 2.2143559 | K18: =INDEX(factor.calidad.SAIB,MATCH(C18,calidad.SAIB,0)) -> 1 | L18: =INDEX(factor.simetria.SAIB,MATCH(B18,simetria.SAIB,0)) -> 1.7855127 | M18: =J18*K18*L18 -> 3.9537606 | O18: 229.08235 | P18: 235.72194 | Q18: 241.33624 | R18: 246.82713 | S18: 250.9026
A19: Nacional | B19: =+IF(D18="Calidad best effort",C17,B18) -> Simétrico | C19: =+IF(D19=2,D18,C18) -> Calidad Best Effort | D19: 70 | E19: Cálculo | H19: MXN/linea/mes | J19: =INDEX(factor.vel.SAIB,MATCH(D19,vel.SAIB,0)) -> 2.3866952 | K19: =INDEX(factor.calidad.SAIB,MATCH(C19,calidad.SAIB,0)) -> 1 | L19: =INDEX(factor.simetria.SAIB,MATCH(B19,simetria.SAIB,0)) -> 1.7855127 | M19: =J19*K19*L19 -> 4.2614746 | O19: 246.91141 | P19: 254.06774 | Q19: 260.119 | R19: 266.03723 | S19: 270.42989
A20: Nacional | B20: =+IF(D19="Calidad best effort",C18,B19) -> Simétrico | C20: =+IF(D20=2,D19,C19) -> Calidad Best Effort | D20: 80 | E20: Cálculo | H20: MXN/linea/mes | J20: =INDEX(factor.vel.SAIB,MATCH(D20,vel.SAIB,0)) -> 2.5467871 | K20: =INDEX(factor.calidad.SAIB,MATCH(C20,calidad.SAIB,0)) -> 1 | L20: =INDEX(factor.simetria.SAIB,MATCH(B20,simetria.SAIB,0)) -> 1.7855127 | M20: =J20*K20*L20 -> 4.5473207 | O20: 263.47344 | P20: 271.1098 | Q20: 277.56695 | R20: 283.88216 | S20: 288.56947
A21: Nacional | B21: =+IF(D20="Calidad best effort",C19,B20) -> Simétrico | C21: =+IF(D21=2,D20,C20) -> Calidad Best Effort | D21: 100 | E21: Cálculo | H21: MXN/linea/mes | J21: =INDEX(factor.vel.SAIB,MATCH(D21,vel.SAIB,0)) -> 2.8386398 | K21: =INDEX(factor.calidad.SAIB,MATCH(C21,calidad.SAIB,0)) -> 1 | L21: =INDEX(factor.simetria.SAIB,MATCH(B21,simetria.SAIB,0)) -> 1.7855127 | M21: =J21*K21*L21 -> 5.0684275 | O21: 293.66655 | P21: 302.17801 | Q21: 309.37514 | R21: 316.41404 | S21: 321.6385
A22: Nacional | B22: =+IF(D21="Calidad best effort",C20,B21) -> Simétrico | C22: =+IF(D22=2,D21,C21) -> Calidad Best Effort | D22: 120 | E22: Cálculo | H22: MXN/linea/mes | J22: =INDEX(factor.vel.SAIB,MATCH(D22,vel.SAIB,0)) -> 3.1017601 | K22: =INDEX(factor.calidad.SAIB,MATCH(C22,calidad.SAIB,0)) -> 1 | L22: =INDEX(factor.simetria.SAIB,MATCH(B22,simetria.SAIB,0)) -> 1.7855127 | M22: =J22*K22*L22 -> 5.5382322 | O22: 320.88721 | P22: 330.18762 | Q22: 338.05186 | R22: 345.74322 | S22: 351.45194
... A31: Nacional | B31: =+IF(D30="Calidad best effort",C29,B30) -> Simétrico | C31: =+IF(D31=2,D30,C30) -> Calidad Best Effort | D31: 1000 | E31: Cálculo | H31: MXN/linea/mes | J31: =INDEX(factor.vel.SAIB,MATCH(D31,vel.SAIB,0)) -> 8.6958149 | K31: =INDEX(factor.calidad.SAIB,MATCH(C31,calidad.SAIB,0)) -> 1 | L31: =INDEX(factor.simetria.SAIB,MATCH(B31,simetria.SAIB,0)) -> 1.7855127 | M31: =J31*K31*L31 -> 15.526488 | O31: 899.61044 | P31: 925.68423 | Q31: 947.7317 | R31: 969.29451 | S31: 985.29896
A32: Nacional | B32: =+IF(D30="Calidad best effort",C29,B30) -> Simétrico | C32: =+IF(D32=2,D30,C30) -> Calidad Best Effort | D32: Calidad Datos Generales
A33: Nacional | B33: =+IF(D32="Calidad best effort",C30,B32) -> Simétrico | C33: =+IF(D33=2,D32,C32) -> Calidad Datos Generales | D33: {=vel.SAIB} -> 2 | J33: =INDEX(factor.vel.SAIB,MATCH(D33,vel.SAIB,0)) -> 0.4237123 | K33: =INDEX(factor.calidad.SAIB,MATCH(C33,calidad.SAIB,0)) -> 1.11015 | L33: =INDEX(factor.simetria.SAIB,MATCH(B33,simetria.SAIB,0)) -> 1.7855127 | M33: =J33*K33*L33 -> 0.83987701 | O33: {=INDEX(costo.unitario,MATCH($A33:$A55,niveles.desagregacion,0),indice.tiempo)*M33:M55} -> 48.662784 | P33: 50.073197 | Q33: 51.265815 | R33: 52.432216 | S33: 53.297947
A34: Nacional | B34: =+IF(D33="Calidad best effort",C32,B33) -> Simétrico | C34: =+IF(D34=2,D33,C33) -> Calidad Datos Generales | D34: 3 | E34: Cálculo | H34: MXN/linea/mes | J34: =INDEX(factor.vel.SAIB,MATCH(D34,vel.SAIB,0)) -> 0.51604389 | K34: =INDEX(factor.calidad.SAIB,MATCH(C34,calidad.SAIB,0)) -> 1.11015 | L34: =INDEX(factor.simetria.SAIB,MATCH(B34,simetria.SAIB,0)) -> 1.7855127 | M34: =J34*K34*L34 -> 1.0228955 | O34: 59.266942 | P34: 60.9847 | Q34: 62.437203 | R34: 63.857775 | S34: 64.912159
A35: Nacional | B35: =+IF(D34="Calidad best effort",C33,B34) -> Simétrico | C35: =+IF(D35=2,D34,C34) -> Calidad Datos Generales | D35: 5 | E35: Cálculo | H35: MXN/linea/mes | J35: =INDEX(factor.vel.SAIB,MATCH(D35,vel.SAIB,0)) -> 0.66152994 | K35: =INDEX(factor.calidad.SAIB,MATCH(C35,calidad.SAIB,0)) -> 1.11015 | L35: =INDEX(factor.simetria.SAIB,MATCH(B35,simetria.SAIB,0)) -> 1.7855127 | M35: =J35*K35*L35 -> 1.311276 | O35: 75.975817 | P35: 78.177856 | Q35: 80.039856 | R35: 81.860924 | S35: 83.212566
A36: Nacional | B36: =+IF(D35="Calidad best effort",C34,B35) -> Simétrico | C36: =+IF(D36=2,D35,C35) -> Calidad Datos Generales | D36: 10 | E36: Cálculo | H36: MXN/linea/mes | J36: =INDEX(factor.vel.SAIB,MATCH(D36,vel.SAIB,0)) -> 0.92663839 | K36: =INDEX(factor.calidad.SAIB,MATCH(C36,calidad.SAIB,0)) -> 1.11015 | L36: =INDEX(factor.simetria.SAIB,MATCH(B36,simetria.SAIB,0)) -> 1.7855127 | M36: =J36*K36*L36 -> 1.8367706 | O36: 106.42316 | P36: 109.50767 | Q36: 112.11587 | R36: 114.66673 | S36: 116.56004
A37: Nacional | B37: =+IF(D36="Calidad best effort",C35,B36) -> Simétrico | C37: =+IF(D37=2,D36,C36) -> Calidad Datos Generales | D37: 15 | E37: Cálculo | H37: MXN/linea/mes | J37: =INDEX(factor.vel.SAIB,MATCH(D37,vel.SAIB,0)) -> 1.1285631 | K37: =INDEX(factor.calidad.SAIB,MATCH(C37,calidad.SAIB,0)) -> 1.11015 | L37: =INDEX(factor.simetria.SAIB,MATCH(B37,simetria.SAIB,0)) -> 1.7855127 | M37: =J37*K37*L37 -> 2.2370232 | O37: 129.61395 | P37: 133.3706 | Q37: 136.54715 | R37: 139.65388 | S37: 141.95976
A38: Nacional | B38: =+IF(D37="Calidad best effort",C36,B37) -> Simétrico | C38: =+IF(D38=2,D37,C37) -> Calidad Datos Generales | D38: 20 | E38: Cálculo | H38: MXN/linea/mes | J38: =INDEX(factor.vel.SAIB,MATCH(D38,vel.SAIB,0)) -> 1.2979892 | K38: =INDEX(factor.calidad.SAIB,MATCH(C38,calidad.SAIB,0)) -> 1.11015 | L38: =INDEX(factor.simetria.SAIB,MATCH(B38,simetria.SAIB,0)) -> 1.7855127 | M38: =J38*K38*L38 -> 2.5728573 | O38: 149.0723 | P38: 153.39292 | Q38: 157.04636 | R38: 160.61948 | S38: 163.27154
A39: Nacional | B39: =+IF(D38="Calidad best effort",C37,B38) -> Simétrico | C39: =+IF(D39=2,D38,C38) -> Calidad Datos Generales | D39: 30 | E39: Cálculo | H39: MXN/linea/mes | J39: =INDEX(factor.vel.SAIB,MATCH(D39,vel.SAIB,0)) -> 1.5808354 | K39: =INDEX(factor.calidad.SAIB,MATCH(C39,calidad.SAIB,0)) -> 1.11015 | L39: =INDEX(factor.simetria.SAIB,MATCH(B39,simetria.SAIB,0)) -> 1.7855127 | M39: =J39*K39*L39 -> 3.1335113 | O39: 181.5568 | P39: 186.81894 | Q39: 191.26849 | R39: 195.62024 | S39: 198.85021
A40: Nacional | B40: =+IF(D39="Calidad best effort",C38,B39) -> Simétrico | C40: =+IF(D40=2,D39,C39) -> Calidad Datos Generales | D40: 40 | E40: Cálculo | H40: MXN/linea/mes | J40: =INDEX(factor.vel.SAIB,MATCH(D40,vel.SAIB,0)) -> 1.818159 | K40: =INDEX(factor.calidad.SAIB,MATCH(C40,calidad.SAIB,0)) -> 1.11015 | L40: =INDEX(factor.simetria.SAIB,MATCH(B40,simetria.SAIB,0)) -> 1.7855127 | M40: =J40*K40*L40 -> 3.6039311 | O40: 208.8131 | P40: 214.86521 | Q40: 219.98276 | R40: 224.98781 | S40: 228.70269
A41: Nacional | B41: =+IF(D40="Calidad best effort",C39,B40) -> Simétrico | C41: =+IF(D41=2,D40,C40) -> Calidad Datos Generales | D41: 50 | E41: Cálculo | H41: MXN/linea/mes | J41: =INDEX(factor.vel.SAIB,MATCH(D41,vel.SAIB,0)) -> 2.0265135 | K41: =INDEX(factor.calidad.SAIB,MATCH(C41,calidad.SAIB,0)) -> 1.11015 | L41: =INDEX(factor.simetria.SAIB,MATCH(B41,simetria.SAIB,0)) -> 1.7855127 | M41: =J41*K41*L41 -> 4.0169287 | O41: 232.74233 | P41: 239.488 | Q41: 245.192 | R41: 250.77061 | S41: 254.9112
A42: Nacional | B42: =+IF(D41="Calidad best effort",C40,B41) -> Simétrico | C42: =+IF(D42=2,D41,C41) -> Calidad Datos Generales | D42: 60 | E42: Cálculo | H42: MXN/linea/mes | J42: =INDEX(factor.vel.SAIB,MATCH(D42,vel.SAIB,0)) -> 2.2143559 | K42: =INDEX(factor.calidad.SAIB,MATCH(C42,calidad.SAIB,0)) -> 1.11015 | L42: =INDEX(factor.simetria.SAIB,MATCH(B42,simetria.SAIB,0)) -> 1.7855127 | M42: =J42*K42*L42 -> 4.3892675 | O42: 254.31578 | P42: 261.68672 | Q42: 267.91944 | R42: 274.01514 | S42: 278.53953
A43: Nacional | B43: =+IF(D42="Calidad best effort",C41,B42) -> Simétrico | C43: =+IF(D43=2,D42,C42) -> Calidad Datos Generales | D43: 70 | E43: Cálculo | H43: MXN/linea/mes | J43: =INDEX(factor.vel.SAIB,MATCH(D43,vel.SAIB,0)) -> 2.3866952 | K43: =INDEX(factor.calidad.SAIB,MATCH(C43,calidad.SAIB,0)) -> 1.11015 | L43: =INDEX(factor.simetria.SAIB,MATCH(B43,simetria.SAIB,0)) -> 1.7855127 | M43: =J43*K43*L43 -> 4.7308761 | O43: 274.10871 | P43: 282.05331 | Q43: 288.77112 | R43: 295.34124 | S43: 300.21775
A44: Nacional | B44: =+IF(D43="Calidad best effort",C42,B43) -> Simétrico | C44: =+IF(D44=2,D43,C43) -> Calidad Datos Generales | D44: 80 | E44: Cálculo | H44: MXN/linea/mes | J44: =INDEX(factor.vel.SAIB,MATCH(D44,vel.SAIB,0)) -> 2.5467871 | K44: =INDEX(factor.calidad.SAIB,MATCH(C44,calidad.SAIB,0)) -> 1.11015 | L44: =INDEX(factor.simetria.SAIB,MATCH(B44,simetria.SAIB,0)) -> 1.7855127 | M44: =J44*K44*L44 -> 5.0482083 | O44: 292.49505 | P44: 300.97255 | Q44: 308.14096 | R44: 315.15179 | S44: 320.3554
A45: Nacional | B45: =+IF(D44="Calidad best effort",C43,B44) -> Simétrico | C45: =+IF(D45=2,D44,C44) -> Calidad Datos Generales | D45: 100 | E45: Cálculo | H45: MXN/linea/mes | J45: =INDEX(factor.vel.SAIB,MATCH(D45,vel.SAIB,0)) -> 2.8386398 | K45: =INDEX(factor.calidad.SAIB,MATCH(C45,calidad.SAIB,0)) -> 1.11015 | L45: =INDEX(factor.simetria.SAIB,MATCH(B45,simetria.SAIB,0)) -> 1.7855127 | M45: =J45*K45*L45 -> 5.6267149 | O45: 326.01394 | P45: 335.46293 | Q45: 343.45282 | R45: 351.26706 | S45: 357.06699
... A55: Nacional | B55: =+IF(D54="Calidad best effort",C53,B54) -> Simétrico | C55: =+IF(D55=2,D54,C54) -> Calidad Datos Generales | D55: 1000 | E55: Cálculo | H55: MXN/linea/mes | J55: =INDEX(factor.vel.SAIB,MATCH(D55,vel.SAIB,0)) -> 8.6958149 | K55: =INDEX(factor.calidad.SAIB,MATCH(C55,calidad.SAIB,0)) -> 1.11015 | L55: =INDEX(factor.simetria.SAIB,MATCH(B55,simetria.SAIB,0)) -> 1.7855127 | M55: =J55*K55*L55 -> 17.236731 | O55: 998.70256 | P55: 1027.6484 | Q55: 1052.1244 | R55: 1076.0623 | S55: 1093.8297
A56: Nacional | B56: =+IF(D54="Calidad best effort",C53,B54) -> Simétrico | C56: =+IF(D56=2,D54,C54) -> Calidad Datos Generales | D56: Calidad Doble
A57: Nacional | B57: =+IF(D56="Calidad best effort",C54,B56) -> Simétrico | C57: =+IF(D57=2,D56,C56) -> Calidad Doble | D57: {=vel.SAIB} -> 2 | J57: =INDEX(factor.vel.SAIB,MATCH(D57,vel.SAIB,0)) -> 0.4237123 | K57: =INDEX(factor.calidad.SAIB,MATCH(C57,calidad.SAIB,0)) -> 1.2727637 | L57: =INDEX(factor.simetria.SAIB,MATCH(B57,simetria.SAIB,0)) -> 1.7855127 | M57: =J57*K57*L57 -> 0.96290134 | O57: {=INDEX(costo.unitario,MATCH($A57:$A79,niveles.desagregacion,0),indice.tiempo)*M57:M79} -> 55.790859 | P57: 57.407868 | Q57: 58.775179 | R57: 60.112433 | S57: 61.104976
A58: Nacional | B58: =+IF(D57="Calidad best effort",C56,B57) -> Simétrico | C58: =+IF(D58=2,D57,C57) -> Calidad Doble | D58: 3 | E58: Cálculo | H58: MXN/linea/mes | J58: =INDEX(factor.vel.SAIB,MATCH(D58,vel.SAIB,0)) -> 0.51604389 | K58: =INDEX(factor.calidad.SAIB,MATCH(C58,calidad.SAIB,0)) -> 1.2727637 | L58: =INDEX(factor.simetria.SAIB,MATCH(B58,simetria.SAIB,0)) -> 1.7855127 | M58: =J58*K58*L58 -> 1.1727282 | O58: 67.948303 | P58: 69.917677 | Q58: 71.58294 | R58: 73.211597 | S58: 74.420426
A59: Nacional | B59: =+IF(D58="Calidad best effort",C57,B58) -> Simétrico | C59: =+IF(D59=2,D58,C58) -> Calidad Doble | D59: 5 | E59: Cálculo | H59: MXN/linea/mes | J59: =INDEX(factor.vel.SAIB,MATCH(D59,vel.SAIB,0)) -> 0.66152994 | K59: =INDEX(factor.calidad.SAIB,MATCH(C59,calidad.SAIB,0)) -> 1.2727637 | L59: =INDEX(factor.simetria.SAIB,MATCH(B59,simetria.SAIB,0)) -> 1.7855127 | M59: =J59*K59*L59 -> 1.5033504 | O59: 87.104678 | P59: 89.629269 | Q59: 91.764013 | R59: 93.851829 | S59: 95.401458
...

Sheet Resultados Caso I
D1: Resultados Caso I
C4: Año seleccionado | D4: 2026
C6: Incluir costos de acceso? | D6: Sí
F7: =+$F$8&" - "&$F$9&" - "&F10 -> Asimétrico - Local - Calidad Best Effort | G7: =+$F$8&" - "&$F$9&" - "&G10 -> Asimétrico - Local - Calidad Datos Generales | H7: =+$F$8&" - "&$F$9&" - "&H10 -> Asimétrico - Local - Calidad Doble | I7: =+$F$8&" - "&$F$9&" - "&I10 -> Asimétrico - Local - Calidad Triple | K7: =+$F$8&" - "&$K$9&" - "&K10 -> Asimétrico - Regional - Calidad Best Effort | L7: =+$F$8&" - "&$K$9&" - "&L10 -> Asimétrico - Regional - Calidad Datos Generales | M7: =+$F$8&" - "&$K$9&" - "&M10 -> Asimétrico - Regional - Calidad Doble | N7: =+$F$8&" - "&$K$9&" - "&N10 -> Asimétrico - Regional - Calidad Triple | P7: =+$F$8&" - "&$P$9&" - "&P10 -> Asimétrico - Nacional - Calidad Best Effort | Q7: =+$F$8&" - "&$P$9&" - "&Q10 -> Asimétrico - Nacional - Calidad Datos Generales | R7: =+$F$8&" - "&$P$9&" - "&R10 -> Asimétrico - Nacional - Calidad Doble | S7: =+$F$8&" - "&$P$9&" - "&S10 -> Asimétrico - Nacional - Calidad Triple
D8: Simetría | F8: Asimétrico | K8: Asimétrico | P8: Asimétrico
D9: Agregación | F9: Local | K9: Regional | P9: Nacional
D10: Calidad | F10: Calidad Best Effort | G10: Calidad Datos Generales | H10: Calidad Doble | I10: Calidad Triple | K10: Calidad Best Effort | L10: Calidad Datos Generales | M10: Calidad Doble | N10: Calidad Triple | P10: Calidad Best Effort | Q10: Calidad Datos Generales | R10: Calidad Doble | S10: Calidad Triple
D11: Agregación | F11: Local | G11: Local | H11: Local | I11: Local | K11: Regional | L11: Regional | M11: Regional | N11: Regional | P11: Nacional | Q11: Nacional | R11: Nacional | S11: Nacional
D12: Simetría | F12: Asimétrico | G12: Asimétrico | H12: Asimétrico | I12: Asimétrico | K12: Asimétrico | L12: Asimétrico | M12: Asimétrico | N12: Asimétrico | P12: Asimétrico | Q12: Asimétrico | R12: Asimétrico | S12: Asimétrico
D13: Calidad | F13: Calidad Best Effort | G13: Calidad Datos Generales | H13: Calidad Doble | I13: Calidad Triple | K13: Calidad Best Effort | L13: Calidad Datos Generales | M13: Calidad Doble | N13: Calidad Triple | P13: Calidad Best Effort | Q13: Calidad Datos Generales | R13: Calidad Doble | S13: Calidad Triple
C15: 2 Mbps | D15: {=vel.SAIB} -> 2 | F15: {=INDEX('Costo SCyD'!$O$9:$S$597,MATCH(F$11&F$12&F$13&$D15,'Costo SCyD'!$A$9:$A$597&'Costo SCyD'!$B$9:$B$597&'Costo SCyD'!$C$9:$C$597&'Costo SCyD'!$D$9:$D$597,0),MATCH('Resultados Caso I'!$D$4,'Costo SCyD'!$O$2:$S$2,0))+IF($D$6="Sí",INDEX(costos.acceso,MATCH($D15,vel.SAIB,0),MATCH($D$4,years,0)),0)} -> 113.71679 | G15: {=INDEX('Costo SCyD'!$O$9:$S$597,MATCH(G$11&G$12&G$13&$D15,'Costo SCyD'!$A$9:$A$597&'Costo SCyD'!$B$9:$B$597&'Costo SCyD'!$C$9:$C$597&'Costo SCyD'!$D$9:$D$597,0),MATCH('Resultados Caso I'!$D$4,'Costo SCyD'!$O$2:$S$2,0))+IF($D$6="Sí",INDEX(costos.acceso,MATCH($D15,vel.SAIB,0),MATCH($D$4,years,0)),0)} -> 115.2946 | H15: {=INDEX('Costo SCyD'!$O$9:$S$597,MATCH(H$11&H$12&H$13&$D15,'Costo SCyD'!$A$9:$A$597&'Costo SCyD'!$B$9:$B$597&'Costo SCyD'!$C$9:$C$597&'Costo SCyD'!$D$9:$D$597,0),MATCH('Resultados Caso I'!$D$4,'Costo SCyD'!$O$2:$S$2,0))+IF($D$6="Sí",INDEX(costos.acceso,MATCH($D15,vel.SAIB,0),MATCH($D$4,years,0)),0)} -> 117.6239 | I15: {=INDEX('Costo SCyD'!$O$9:$S$597,MATCH(I$11&I$12&I$13&$D15,'Costo SCyD'!$A$9:$A$597&'Costo SCyD'!$B$9:$B$597&'Costo SCyD'!$C$9:$C$597&'Costo SCyD'!$D$9:$D$597,0),MATCH('Resultados Caso I'!$D$4,'Costo SCyD'!$O$2:$S$2,0))+IF($D$6="Sí",INDEX(costos.acceso,MATCH($D15,vel.SAIB,0),MATCH($D$4,years,0)),0)} -> 119.73293 | K15: {=INDEX('Costo SCyD'!$O$9:$S$597,MATCH(K$11&K$12&K$13&$D15,'Costo SCyD'!$A$9:$A$597&'Costo SCyD'!$B$9:$B$597&'Costo SCyD'!$C$9:$C$597&'Costo SCyD'!$D$9:$D$597,0),MATCH('Resultados Caso I'!$D$4,'Costo SCyD'!$O$2:$S$2,0))+IF($D$6="Sí",INDEX(costos.acceso,MATCH($D15,vel.SAIB,0),MATCH($D$4,years,0)),0)} -> 119.5155 | L15: {=INDEX('Costo SCyD'!$O$9:$S$597,MATCH(L$11&L$12&L$13&$D15,'Costo SCyD'!$A$9:$A$597&'Costo SCyD'!$B$9:$B$597&'Costo SCyD'!$C$9:$C$597&'Costo SCyD'!$D$9:$D$597,0),MATCH('Resultados Caso I'!$D$4,'Costo SCyD'!$O$2:$S$2,0))+IF($D$6="Sí",INDEX(costos.acceso,MATCH($D15,vel.SAIB,0),MATCH($D$4,years,0)),0)} -> 121.73204 | M15: {=INDEX('Costo SCyD'!$O$9:$S$597,MATCH(M$11&M$12&M$13&$D15,'Costo SCyD'!$A$9:$A$597&'Costo SCyD'!$B$9:$B$597&'Costo SCyD'!$C$9:$C$597&'Costo SCyD'!$D$9:$D$597,0),MATCH('Resultados Caso I'!$D$4,'Costo SCyD'!$O$2:$S$2,0))+IF($D$6="Sí",INDEX(costos.acceso,MATCH($D15,vel.SAIB,0),MATCH($D$4,years,0)),0)} -> 125.00429 | N15: {=INDEX('Costo SCyD'!$O$9:$S$597,MATCH(N$11&N$12&N$13&$D15,'Costo SCyD'!$A$9:$A$597&'Costo SCyD'!$B$9:$B$597&'Costo SCyD'!$C$9:$C$597&'Costo SCyD'!$D$9:$D$597,0),MATCH('Resultados Caso I'!$D$4,'Costo SCyD'!$O$2:$S$2,0))+IF($D$6="Sí",INDEX(costos.acceso,MATCH($D15,vel.SAIB,0),MATCH($D$4,years,0)),0)} -> 127.9671 | P15: {=INDEX('Costo SCyD'!$O$9:$S$597,MATCH(P$11&P$12&P$13&$D15,'Costo SCyD'!$A$9:$A$597&'Costo SCyD'!$B$9:$B$597&'Costo SCyD'!$C$9:$C$597&'Costo SCyD'!$D$9:$D$597,0),MATCH('Resultados Caso I'!$D$4,'Costo SCyD'!$O$2:$S$2,0))+IF($D$6="Sí",INDEX(costos.acceso,MATCH($D15,vel.SAIB,0),MATCH($D$4,years,0)),0)} -> 126.28111 | Q15: {=INDEX('Costo SCyD'!$O$9:$S$597,MATCH(Q$11&Q$12&Q$13&$D15,'Costo SCyD'!$A$9:$A$597&'Costo SCyD'!$B$9:$B$597&'Costo SCyD'!$C$9:$C$597&'Costo SCyD'!$D$9:$D$597,0),MATCH('Resultados Caso I'!$D$4,'Costo SCyD'!$O$2:$S$2,0))+IF($D$6="Sí",INDEX(costos.acceso,MATCH($D15,vel.SAIB,0),MATCH($D$4,years,0)),0)} -> 129.24287 | R15: {=INDEX('Costo SCyD'!$O$9:$S$597,MATCH(R$11&R$12&R$13&$D15,'Costo SCyD'!$A$9:$A$597&'Costo SCyD'!$B$9:$B$597&'Costo SCyD'!$C$9:$C$597&'Costo SCyD'!$D$9:$D$597,0),MATCH('Resultados Caso I'!$D$4,'Costo SCyD'!$O$2:$S$2,0))+IF($D$6="Sí",INDEX(costos.acceso,MATCH($D15,vel.SAIB,0),MATCH($D$4,years,0)),0)} -> 133.6153 | S15: {=INDEX('Costo SCyD'!$O$9:$S$597,MATCH(S$11&S$12&S$13&$D15,'Costo SCyD'!$A$9:$A$597&'Costo SCyD'!$B$9:$B$597&'Costo SCyD'!$C$9:$C$597&'Costo SCyD'!$D$9:$D$597,0),MATCH('Resultados Caso I'!$D$4,'Costo SCyD'!$O$2:$S$2,0))+IF($D$6="Sí",INDEX(costos.acceso,MATCH($D15,vel.SAIB,0),MATCH($D$4,years,0)),0)} -> 137.57426
C16: 3 Mbps | D16: 3 | F16: {=INDEX('Costo SCyD'!$O$9:$S$597,MATCH(F$11&F$12&F$13&$D16,'Costo SCyD'!$A$9:$A$597&'Costo SCyD'!$B$9:$B$597&'Costo SCyD'!$C$9:$C$597&'Costo SCyD'!$D$9:$D$597,0),MATCH('Resultados Caso I'!$D$4,'Costo SCyD'!$O$2:$S$2,0))+IF($D$6="Sí",INDEX(costos.acceso,MATCH($D16,vel.SAIB,0),MATCH($D$4,years,0)),0)} -> 116.83818 | G16: {=INDEX('Costo SCyD'!$O$9:$S$597,MATCH(G$11&G$12&G$13&$D16,'Costo SCyD'!$A$9:$A$597&'Costo SCyD'!$B$9:$B$597&'Costo SCyD'!$C$9:$C$597&'Costo SCyD'!$D$9:$D$597,0),MATCH('Resultados Caso I'!$D$4,'Costo SCyD'!$O$2:$S$2,0))+IF($D$6="Sí",INDEX(costos.acceso,MATCH($D16,vel.SAIB,0),MATCH($D$4,years,0)),0)} -> 118.75981 | H16: {=INDEX('Costo SCyD'!$O$9:$S$597,MATCH(H$11&H$12&H$13&$D16,'Costo SCyD'!$A$9:$A$597&'Costo SCyD'!$B$9:$B$597&'Costo SCyD'!$C$9:$C$597&'Costo SCyD'!$D$9:$D$597,0),MATCH('Resultados Caso I'!$D$4,'Costo SCyD'!$O$2:$S$2,0))+IF($D$6="Sí",INDEX(costos.acceso,MATCH($D16,vel.SAIB,0),MATCH($D$4,years,0)),0)} -> 121.59669 | I16: {=INDEX('Costo SCyD'!$O$9:$S$597,MATCH(I$11&I$12&I$13&$D16,'Costo SCyD'!$A$9:$A$597&'Costo SCyD'!$B$9:$B$597&'Costo SCyD'!$C$9:$C$597&'Costo SCyD'!$D$9:$D$597,0),MATCH('Resultados Caso I'!$D$4,'Costo SCyD'!$O$2:$S$2,0))+IF($D$6="Sí",INDEX(costos.acceso,MATCH($D16,vel.SAIB,0),MATCH($D$4,years,0)),0)} -> 124.16531 | K16: {=INDEX('Costo SCyD'!$O$9:$S$597,MATCH(K$11&K$12&K$13&$D16,'Costo SCyD'!$A$9:$A$597&'Costo SCyD'!$B$9:$B$597&'Costo SCyD'!$C$9:$C$597&'Costo SCyD'!$D$9:$D$597,0),MATCH('Resultados Caso I'!$D$4,'Costo SCyD'!$O$2:$S$2,0))+IF($D$6="Sí",INDEX(costos.acceso,MATCH($D16,vel.SAIB,0),MATCH($D$4,years,0)),0)} -> 123.90049 | L16: {=INDEX('Costo SCyD'!$O$9:$S$597,MATCH(L$11&L$12&L$13&$D16,'Costo SCyD'!$A$9:$A$597&'Costo SCyD'!$B$9:$B$597&'Costo SCyD'!$C$9:$C$597&'Costo SCyD'!$D$9:$D$597,0),MATCH('Resultados Caso I'!$D$4,'Costo SCyD'!$O$2:$S$2,0))+IF($D$6="Sí",INDEX(costos.acceso,MATCH($D16,vel.SAIB,0),MATCH($D$4,years,0)),0)} -> 126.60003 | M16: {=INDEX('Costo SCyD'!$O$9:$S$597,MATCH(M$11&M$12&M$13&$D16,'Costo SCyD'!$A$9:$A$597&'Costo SCyD'!$B$9:$B$597&'Costo SCyD'!$C$9:$C$597&'Costo SCyD'!$D$9:$D$597,0),MATCH('Resultados Caso I'!$D$4,'Costo SCyD'!$O$2:$S$2,0))+IF($D$6="Sí",INDEX(costos.acceso,MATCH($D16,vel.SAIB,0),MATCH($D$4,years,0)),0)} -> 130.58534 | N16: {=INDEX('Costo SCyD'!$O$9:$S$597,MATCH(N$11&N$12&N$13&$D16,'Costo SCyD'!$A$9:$A$597&'Costo SCyD'!$B$9:$B$597&'Costo SCyD'!$C$9:$C$597&'Costo SCyD'!$D$9:$D$597,0),MATCH('Resultados Caso I'!$D$4,'Costo SCyD'!$O$2:$S$2,0))+IF($D$6="Sí",INDEX(costos.acceso,MATCH($D16,vel.SAIB,0),MATCH($D$4,years,0)),0)} -> 134.19379 | P16: {=INDEX('Costo SCyD'!$O$9:$S$597,MATCH(P$11&P$12&P$13&$D16,'Costo SCyD'!$A$9:$A$597&'Costo SCyD'!$B$9:$B$597&'Costo SCyD'!$C$9:$C$597&'Costo SCyD'!$D$9:$D$597,0),MATCH('Resultados Caso I'!$D$4,'Costo SCyD'!$O$2:$S$2,0))+IF($D$6="Sí",INDEX(costos.acceso,MATCH($D16,vel.SAIB,0),MATCH($D$4,years,0)),0)} -> 132.1404 | Q16: {=INDEX('Costo SCyD'!$O$9:$S$597,MATCH(Q$11&Q$12&Q$13&$D16,'Costo SCyD'!$A$9:$A$597&'Costo SCyD'!$B$9:$B$597&'Costo SCyD'!$C$9:$C$597&'Costo SCyD'!$D$9:$D$597,0),MATCH('Resultados Caso I'!$D$4,'Costo SCyD'!$O$2:$S$2,0))+IF($D$6="Sí",INDEX(costos.acceso,MATCH($D16,vel.SAIB,0),MATCH($D$4,years,0)),0)} -> 135.74756 | R16: {=INDEX('Costo SCyD'!$O$9:$S$597,MATCH(R$11&R$12&R$13&$D16,'Costo SCyD'!$A$9:$A$597&'Costo SCyD'!$B$9:$B$597&'Costo SCyD'!$C$9:$C$597&'Costo SCyD'!$D$9:$D$597,0),MATCH('Resultados Caso I'!$D$4,'Costo SCyD'!$O$2:$S$2,0))+IF($D$6="Sí",INDEX(costos.acceso,MATCH($D16,vel.SAIB,0),MATCH($D$4,years,0)),0)} -> 141.0728 | S16: {=INDEX('Costo SCyD'!$O$9:$S$597,MATCH(S$11&S$12&S$13&$D16,'Costo SCyD'!$A$9:$A$597&'Costo SCyD'!$B$9:$B$597&'Costo SCyD'!$C$9:$C$597&'Costo SCyD'!$D$9:$D$597,0),MATCH('Resultados Caso I'!$D$4,'Costo SCyD'!$O$2:$S$2,0))+IF($D$6="Sí",INDEX(costos.acceso,MATCH($D16,vel.SAIB,0),MATCH($D$4,years,0)),0)} -> 145.89445
C17: =+D17&" Mbps" -> 5 Mbps | D17: 5 | F17: {=INDEX('Costo SCyD'!$O$9:$S$597,MATCH(F$11&F$12&F$13&$D17,'Costo SCyD'!$A$9:$A$597&'Costo SCyD'!$B$9:$B$597&'Costo SCyD'!$C$9:$C$597&'Costo SCyD'!$D$9:$D$597,0),MATCH('Resultados Caso I'!$D$4,'Costo SCyD'!$O$2:$S$2,0))+IF($D$6="Sí",INDEX(costos.acceso,MATCH($D17,vel.SAIB,0),MATCH($D$4,years,0)),0)} -> 121.75653 | G17: {=INDEX('Costo SCyD'!$O$9:$S$597,MATCH(G$11&G$12&G$13&$D17,'Costo SCyD'!$A$9:$A$597&'Costo SCyD'!$B$9:$B$597&'Costo SCyD'!$C$9:$C$597&'Costo SCyD'!$D$9:$D$597,0),MATCH('Resultados Caso I'!$D$4,'Costo SCyD'!$O$2:$S$2,0))+IF($D$6="Sí",INDEX(costos.acceso,MATCH($D17,vel.SAIB,0),MATCH($D$4,years,0)),0)} -> 124.21991 | H17: {=INDEX('Costo SCyD'!$O$9:$S$597,MATCH(H$11&H$12&H$13&$D17,'Costo SCyD'!$A$9:$A$597&'Costo SCyD'!$B$9:$B$597&'Costo SCyD'!$C$9:$C$597&'Costo SCyD'!$D$9:$D$597,0),MATCH('Resultados Caso I'!$D$4,'Costo SCyD'!$O$2:$S$2,0))+IF($D$6="Sí",INDEX(costos.acceso,MATCH($D17,vel.SAIB,0),MATCH($D$4,years,0)),0)} -> 127.85658 | I17: {=INDEX('Costo SCyD'!$O$9:$S$597,MATCH(I$11&I$12&I$13&$D17,'Costo SCyD'!$A$9:$A$597&'Costo SCyD'!$B$9:$B$597&'Costo SCyD'!$C$9:$C$597&'Costo SCyD'!$D$9:$D$597,0),MATCH('Resultados Caso I'!$D$4,'Costo SCyD'!$O$2:$S$2,0))+IF($D$6="Sí",INDEX(costos.acceso,MATCH($D17,vel.SAIB,0),MATCH($D$4,years,0)),0)} -> 131.14935 | K17: {=INDEX('Costo SCyD'!$O$9:$S$597,MATCH(K$11&K$12&K$13&$D17,'Costo SCyD'!$A$9:$A$597&'Costo SCyD'!$B$9:$B$597&'Costo SCyD'!$C$9:$C$597&'Costo SCyD'!$D$9:$D$597,0),MATCH('Resultados Caso I'!$D$4,'Costo SCyD'!$O$2:$S$2,0))+IF($D$6="Sí",INDEX(costos.acceso,MATCH($D17,vel.SAIB,0),MATCH($D$4,years,0)),0)} -> 130.80989 | L17: {=INDEX('Costo SCyD'!$O$9:$S$597,MATCH(L$11&L$12&L$13&$D17,'Costo SCyD'!$A$9:$A$597&'Costo SCyD'!$B$9:$B$597&'Costo SCyD'!$C$9:$C$597&'Costo SCyD'!$D$9:$D$597,0),MATCH('Resultados Caso I'!$D$4,'Costo SCyD'!$O$2:$S$2,0))+IF($D$6="Sí",INDEX(costos.acceso,MATCH($D17,vel.SAIB,0),MATCH($D$4,years,0)),0)} -> 134.27049 | M17: {=INDEX('Costo SCyD'!$O$9:$S$597,MATCH(M$11&M$12&M$13&$D17,'Costo SCyD'!$A$9:$A$597&'Costo SCyD'!$B$9:$B$597&'Costo SCyD'!$C$9:$C$597&'Costo SCyD'!$D$9:$D$597,0),MATCH('Resultados Caso I'!$D$4,'Costo SCyD'!$O$2:$S$2,0))+IF($D$6="Sí",INDEX(costos.acceso,MATCH($D17,vel.SAIB,0),MATCH($D$4,years,0)),0)} -> 139.37937 | N17: {=INDEX('Costo SCyD'!$O$9:$S$597,MATCH(N$11&N$12&N$13&$D17,'Costo SCyD'!$A$9:$A$597&'Costo SCyD'!$B$9:$B$597&'Costo SCyD'!$C$9:$C$597&'Costo SCyD'!$D$9:$D$597,0),MATCH('Resultados Caso I'!$D$4,'Costo SCyD'!$O$2:$S$2,0))+IF($D$6="Sí",INDEX(costos.acceso,MATCH($D17,vel.SAIB,0),MATCH($D$4,years,0)),0)} -> 144.00512 | P17: {=INDEX('Costo SCyD'!$O$9:$S$597,MATCH(P$11&P$12&P$13&$D17,'Costo SCyD'!$A$9:$A$597&'Costo SCyD'!$B$9:$B$597&'Costo SCyD'!$C$9:$C$597&'Costo SCyD'!$D$9:$D$597,0),MATCH('Resultados Caso I'!$D$4,'Costo SCyD'!$O$2:$S$2,0))+IF($D$6="Sí",INDEX(costos.acceso,MATCH($D17,vel.SAIB,0),MATCH($D$4,years,0)),0)} -> 141.37283 | Q17: {=INDEX('Costo SCyD'!$O$9:$S$597,MATCH(Q$11&Q$12&Q$13&$D17,'Costo SCyD'!$A$9:$A$597&'Costo SCyD'!$B$9:$B$597&'Costo SCyD'!$C$9:$C$597&'Costo SCyD'!$D$9:$D$597,0),MATCH('Resultados Caso I'!$D$4,'Costo SCyD'!$O$2:$S$2,0))+IF($D$6="Sí",INDEX(costos.acceso,MATCH($D17,vel.SAIB,0),MATCH($D$4,years,0)),0)} -> 145.99695 | R17: {=INDEX('Costo SCyD'!$O$9:$S$597,MATCH(R$11&R$12&R$13&$D17,'Costo SCyD'!$A$9:$A$597&'Costo SCyD'!$B$9:$B$597&'Costo SCyD'!$C$9:$C$597&'Costo SCyD'!$D$9:$D$597,0),MATCH('Resultados Caso I'!$D$4,'Costo SCyD'!$O$2:$S$2,0))+IF($D$6="Sí",INDEX(costos.acceso,MATCH($D17,vel.SAIB,0),MATCH($D$4,years,0)),0)} -> 152.8235 | S17: {=INDEX('Costo SCyD'!$O$9:$S$597,MATCH(S$11&S$12&S$13&$D17,'Costo SCyD'!$A$9:$A$597&'Costo SCyD'!$B$9:$B$597&'Costo SCyD'!$C$9:$C$597&'Costo SCyD'!$D$9:$D$597,0),MATCH('Resultados Caso I'!$D$4,'Costo SCyD'!$O$2:$S$2,0))+IF($D$6="Sí",INDEX(costos.acceso,MATCH($D17,vel.SAIB,0),MATCH($D$4,years,0)),0)} -> 159.00451
C18: =+D18&" Mbps" -> 10 Mbps | D18: 10 | F18: {=INDEX('Costo SCyD'!$O$9:$S$597,MATCH(F$11&F$12&F$13&$D18,'Costo SCyD'!$A$9:$A$597&'Costo SCyD'!$B$9:$B$597&'Costo SCyD'!$C$9:$C$597&'Costo SCyD'!$D$9:$D$597,0),MATCH('Resultados Caso I'!$D$4,'Costo SCyD'!$O$2:$S$2,0))+IF($D$6="Sí",INDEX(costos.acceso,MATCH($D18,vel.SAIB,0),MATCH($D$4,years,0)),0)} -> 133.48385 | G18: {=INDEX('Costo SCyD'!$O$9:$S$597,MATCH(G$11&G$12&G$13&$D18,'Costo SCyD'!$A$9:$A$597&'Costo SCyD'!$B$9:$B$597&'Costo SCyD'!$C$9:$C$597&'Costo SCyD'!$D$9:$D$597,0),MATCH('Resultados Caso I'!$D$4,'Costo SCyD'!$O$2:$S$2,0))+IF($D$6="Sí",INDEX(costos.acceso,MATCH($D18,vel.SAIB,0),MATCH($D$4,years,0)),0)} -> 136.93443 | H18: {=INDEX('Costo SCyD'!$O$9:$S$597,MATCH(H$11&H$12&H$13&$D18,'Costo SCyD'!$A$9:$A$597&'Costo SCyD'!$B$9:$B$597&'Costo SCyD'!$C$9:$C$597&'Costo SCyD'!$D$9:$D$597,0),MATCH('Resultados Caso I'!$D$4,'Costo SCyD'!$O$2:$S$2,0))+IF($D$6="Sí",INDEX(costos.acceso,MATCH($D18,vel.SAIB,0),MATCH($D$4,years,0)),0)} -> 142.0285 | I18: {=INDEX('Costo SCyD'!$O$9:$S$597,MATCH(I$11&I$12&I$13&$D18,'Costo SCyD'!$A$9:$A$597&'Costo SCyD'!$B$9:$B$597&'Costo SCyD'!$C$9:$C$597&'Costo SCyD'!$D$9:$D$597,0),MATCH('Resultados Caso I'!$D$4,'Costo SCyD'!$O$2:$S$2,0))+IF($D$6="Sí",INDEX(costos.acceso,MATCH($D18,vel.SAIB,0),MATCH($D$4,years,0)),0)} -> 146.64086 | K18: {=INDEX('Costo SCyD'!$O$9:$S$597,MATCH(K$11&K$12&K$13&$D18,'Costo SCyD'!$A$9:$A$597&'Costo SCyD'!$B$9:$B$597&'Costo SCyD'!$C$9:$C$597&'Costo SCyD'!$D$9:$D$597,0),MATCH('Resultados Caso I'!$D$4,'Costo SCyD'!$O$2:$S$2,0))+IF($D$6="Sí",INDEX(costos.acceso,MATCH($D18,vel.SAIB,0),MATCH($D$4,years,0)),0)} -> 146.16534 | L18: {=INDEX('Costo SCyD'!$O$9:$S$597,MATCH(L$11&L$12&L$13&$D18,'Costo SCyD'!$A$9:$A$597&'Costo SCyD'!$B$9:$B$597&'Costo SCyD'!$C$9:$C$597&'Costo SCyD'!$D$9:$D$597,0),MATCH('Resultados Caso I'!$D$4,'Costo SCyD'!$O$2:$S$2,0))+IF($D$6="Sí",INDEX(costos.acceso,MATCH($D18,vel.SAIB,0),MATCH($D$4,years,0)),0)} -> 151.01279 | M18: {=INDEX('Costo SCyD'!$O$9:$S$597,MATCH(M$11&M$12&M$13&$D18,'Costo SCyD'!$A$9:$A$597&'Costo SCyD'!$B$9:$B$597&'Costo SCyD'!$C$9:$C$597&'Costo SCyD'!$D$9:$D$597,0),MATCH('Resultados Caso I'!$D$4,'Costo SCyD'!$O$2:$S$2,0))+IF($D$6="Sí",INDEX(costos.acceso,MATCH($D18,vel.SAIB,0),MATCH($D$4,years,0)),0)} -> 158.16905 | N18: {=INDEX('Costo SCyD'!$O$9:$S$597,MATCH(N$11&N$12&N$13&$D18,'Costo SCyD'!$A$9:$A$597&'Costo SCyD'!$B$9:$B$597&'Costo SCyD'!$C$9:$C$597&'Costo SCyD'!$D$9:$D$597,0),MATCH('Resultados Caso I'!$D$4,'Costo SCyD'!$O$2:$S$2,0))+IF($D$6="Sí",INDEX(costos.acceso,MATCH($D18,vel.SAIB,0),MATCH($D$4,years,0)),0)} -> 164.64858 | P18: {=INDEX('Costo SCyD'!$O$9:$S$597,MATCH(P$11&P$12&P$13&$D18,'Costo SCyD'!$A$9:$A$597&'Costo SCyD'!$B$9:$B$597&'Costo SCyD'!$C$9:$C$597&'Costo SCyD'!$D$9:$D$597,0),MATCH('Resultados Caso I'!$D$4,'Costo SCyD'!$O$2:$S$2,0))+IF($D$6="Sí",INDEX(costos.acceso,MATCH($D18,vel.SAIB,0),MATCH($D$4,years,0)),0)} -> 160.9614 | Q18: {=INDEX('Costo SCyD'!$O$9:$S$597,MATCH(Q$11&Q$12&Q$13&$D18,'Costo SCyD'!$A$9:$A$597&'Costo SCyD'!$B$9:$B$597&'Costo SCyD'!$C$9:$C$597&'Costo SCyD'!$D$9:$D$597,0),MATCH('Resultados Caso I'!$D$4,'Costo SCyD'!$O$2:$S$2,0))+IF($D$6="Sí",INDEX(costos.acceso,MATCH($D18,vel.SAIB,0),MATCH($D$4,years,0)),0)} -> 167.43863 | R18: {=INDEX('Costo SCyD'!$O$9:$S$597,MATCH(R$11&R$12&R$13&$D18,'Costo SCyD'!$A$9:$A$597&'Costo SCyD'!$B$9:$B$597&'Costo SCyD'!$C$9:$C$597&'Costo SCyD'!$D$9:$D$597,0),MATCH('Resultados Caso I'!$D$4,'Costo SCyD'!$O$2:$S$2,0))+IF($D$6="Sí",INDEX(costos.acceso,MATCH($D18,vel.SAIB,0),MATCH($D$4,years,0)),0)} -> 177.00093 | S18: {=INDEX('Costo SCyD'!$O$9:$S$597,MATCH(S$11&S$12&S$13&$D18,'Costo SCyD'!$A$9:$A$597&'Costo SCyD'!$B$9:$B$597&'Costo SCyD'!$C$9:$C$597&'Costo SCyD'!$D$9:$D$597,0),MATCH('Resultados Caso I'!$D$4,'Costo SCyD'!$O$2:$S$2,0))+IF($D$6="Sí",INDEX(costos.acceso,MATCH($D18,vel.SAIB,0),MATCH($D$4,years,0)),0)} -> 185.65898
C19: =+D19&" Mbps" -> 15 Mbps | D19: 15 | F19: {=INDEX('Costo SCyD'!$O$9:$S$597,MATCH(F$11&F$12&F$13&$D19,'Costo SCyD'!$A$9:$A$597&'Costo SCyD'!$B$9:$B$597&'Costo SCyD'!$C$9:$C$597&'Costo SCyD'!$D$9:$D$597,0),MATCH('Resultados Caso I'!$D$4,'Costo SCyD'!$O$2:$S$2,0))+IF($D$6="Sí",INDEX(costos.acceso,MATCH($D19,vel.SAIB,0),MATCH($D$4,years,0)),0)} -> 140.31017 | G19: {=INDEX('Costo SCyD'!$O$9:$S$597,MATCH(G$11&G$12&G$13&$D19,'Costo SCyD'!$A$9:$A$597&'Costo SCyD'!$B$9:$B$597&'Costo SCyD'!$C$9:$C$597&'Costo SCyD'!$D$9:$D$597,0),MATCH('Resultados Caso I'!$D$4,'Costo SCyD'!$O$2:$S$2,0))+IF($D$6="Sí",INDEX(costos.acceso,MATCH($D19,vel.SAIB,0),MATCH($D$4,years,0)),0)} -> 144.51268 | H19: {=INDEX('Costo SCyD'!$O$9:$S$597,MATCH(H$11&H$12&H$13&$D19,'Costo SCyD'!$A$9:$A$597&'Costo SCyD'!$B$9:$B$597&'Costo SCyD'!$C$9:$C$597&'Costo SCyD'!$D$9:$D$597,0),MATCH('Resultados Caso I'!$D$4,'Costo SCyD'!$O$2:$S$2,0))+IF($D$6="Sí",INDEX(costos.acceso,MATCH($D19,vel.SAIB,0),MATCH($D$4,years,0)),0)} -> 150.7168 | I19: {=INDEX('Costo SCyD'!$O$9:$S$597,MATCH(I$11&I$12&I$13&$D19,'Costo SCyD'!$A$9:$A$597&'Costo SCyD'!$B$9:$B$597&'Costo SCyD'!$C$9:$C$597&'Costo SCyD'!$D$9:$D$597,0),MATCH('Resultados Caso I'!$D$4,'Costo SCyD'!$O$2:$S$2,0))+IF($D$6="Sí",INDEX(costos.acceso,MATCH($D19,vel.SAIB,0),MATCH($D$4,years,0)),0)} -> 156.33424 | K19: {=INDEX('Costo SCyD'!$O$9:$S$597,MATCH(K$11&K$12&K$13&$D19,'Costo SCyD'!$A$9:$A$597&'Costo SCyD'!$B$9:$B$597&'Costo SCyD'!$C$9:$C$597&'Costo SCyD'!$D$9:$D$597,0),MATCH('Resultados Caso I'!$D$4,'Costo SCyD'!$O$2:$S$2,0))+IF($D$6="Sí",INDEX(costos.acceso,MATCH($D19,vel.SAIB,0),MATCH($D$4,years,0)),0)} -> 155.75511 | L19: {=INDEX('Costo SCyD'!$O$9:$S$597,MATCH(L$11&L$12&L$13&$D19,'Costo SCyD'!$A$9:$A$597&'Costo SCyD'!$B$9:$B$597&'Costo SCyD'!$C$9:$C$597&'Costo SCyD'!$D$9:$D$597,0),MATCH('Resultados Caso I'!$D$4,'Costo SCyD'!$O$2:$S$2,0))+IF($D$6="Sí",INDEX(costos.acceso,MATCH($D19,vel.SAIB,0),MATCH($D$4,years,0)),0)} -> 161.65887 | M19: {=INDEX('Costo SCyD'!$O$9:$S$597,MATCH(M$11&M$12&M$13&$D19,'Costo SCyD'!$A$9:$A$597&'Costo SCyD'!$B$9:$B$597&'Costo SCyD'!$C$9:$C$597&'Costo SCyD'!$D$9:$D$597,0),MATCH('Resultados Caso I'!$D$4,'Costo SCyD'!$O$2:$S$2,0))+IF($D$6="Sí",INDEX(costos.acceso,MATCH($D19,vel.SAIB,0),MATCH($D$4,years,0)),0)} -> 170.37455 | N19: {=INDEX('Costo SCyD'!$O$9:$S$597,MATCH(N$11&N$12&N$13&$D19,'Costo SCyD'!$A$9:$A$597&'Costo SCyD'!$B$9:$B$597&'Costo SCyD'!$C$9:$C$597&'Costo SCyD'!$D$9:$D$597,0),MATCH('Resultados Caso I'!$D$4,'Costo SCyD'!$O$2:$S$2,0))+IF($D$6="Sí",INDEX(costos.acceso,MATCH($D19,vel.SAIB,0),MATCH($D$4,years,0)),0)} -> 178.26605 | P19: {=INDEX('Costo SCyD'!$O$9:$S$597,MATCH(P$11&P$12&P$13&$D19,'Costo SCyD'!$A$9:$A$597&'Costo SCyD'!$B$9:$B$597&'Costo SCyD'!$C$9:$C$597&'Costo SCyD'!$D$9:$D$597,0),MATCH('Resultados Caso I'!$D$4,'Costo SCyD'!$O$2:$S$2,0))+IF($D$6="Sí",INDEX(costos.acceso,MATCH($D19,vel.SAIB,0),MATCH($D$4,years,0)),0)} -> 173.77539 | Q19: {=INDEX('Costo SCyD'!$O$9:$S$597,MATCH(Q$11&Q$12&Q$13&$D19,'Costo SCyD'!$A$9:$A$597&'Costo SCyD'!$B$9:$B$597&'Costo SCyD'!$C$9:$C$597&'Costo SCyD'!$D$9:$D$597,0),MATCH('Resultados Caso I'!$D$4,'Costo SCyD'!$O$2:$S$2,0))+IF($D$6="Sí",INDEX(costos.acceso,MATCH($D19,vel.SAIB,0),MATCH($D$4,years,0)),0)} -> 181.66408 | R19: {=INDEX('Costo SCyD'!$O$9:$S$597,MATCH(R$11&R$12&R$13&$D19,'Costo SCyD'!$A$9:$A$597&'Costo SCyD'!$B$9:$B$597&'Costo SCyD'!$C$9:$C$597&'Costo SCyD'!$D$9:$D$597,0),MATCH('Resultados Caso I'!$D$4,'Costo SCyD'!$O$2:$S$2,0))+IF($D$6="Sí",INDEX(costos.acceso,MATCH($D19,vel.SAIB,0),MATCH($D$4,years,0)),0)} -> 193.31011 | S19: {=INDEX('Costo SCyD'!$O$9:$S$597,MATCH(S$11&S$12&S$13&$D19,'Costo SCyD'!$A$9:$A$597&'Costo SCyD'!$B$9:$B$597&'Costo SCyD'!$C$9:$C$597&'Costo SCyD'!$D$9:$D$597,0),MATCH('Resultados Caso I'!$D$4,'Costo SCyD'!$O$2:$S$2,0))+IF($D$6="Sí",INDEX(costos.acceso,MATCH($D19,vel.SAIB,0),MATCH($D$4,years,0)),0)} -> 203.85484
C20: =+D20&" Mbps" -> 20 Mbps | D20: 20 | F20: {=INDEX('Costo SCyD'!$O$9:$S$597,MATCH(F$11&F$12&F$13&$D20,'Costo SCyD'!$A$9:$A$597&'Costo SCyD'!$B$9:$B$597&'Costo SCyD'!$C$9:$C$597&'Costo SCyD'!$D$9:$D$597,0),MATCH('Resultados Caso I'!$D$4,'Costo SCyD'!$O$2:$S$2,0))+IF($D$6="Sí",INDEX(costos.acceso,MATCH($D20,vel.SAIB,0),MATCH($D$4,years,0)),0)} -> 146.03784 | G20: {=INDEX('Costo SCyD'!$O$9:$S$597,MATCH(G$11&G$12&G$13&$D20,'Costo SCyD'!$A$9:$A$597&'Costo SCyD'!$B$9:$B$597&'Costo SCyD'!$C$9:$C$597&'Costo SCyD'!$D$9:$D$597,0),MATCH('Resultados Caso I'!$D$4,'Costo SCyD'!$O$2:$S$2,0))+IF($D$6="Sí",INDEX(costos.acceso,MATCH($D20,vel.SAIB,0),MATCH($D$4,years,0)),0)} -> 150.87125 | H20: {=INDEX('Costo SCyD'!$O$9:$S$597,MATCH(H$11&H$12&H$13&$D20,'Costo SCyD'!$A$9:$A$597&'Costo SCyD'!$B$9:$B$597&'Costo SCyD'!$C$9:$C$597&'Costo SCyD'!$D$9:$D$597,0),MATCH('Resultados Caso I'!$D$4,'Costo SCyD'!$O$2:$S$2,0))+IF($D$6="Sí",INDEX(costos.acceso,MATCH($D20,vel.SAIB,0),MATCH($D$4,years,0)),0)} -> 158.00677 | I20: {=INDEX('Costo SCyD'!$O$9:$S$597,MATCH(I$11&I$12&I$13&$D20,'Costo SCyD'!$A$9:$A$597&'Costo SCyD'!$B$9:$B$597&'Costo SCyD'!$C$9:$C$597&'Costo SCyD'!$D$9:$D$597,0),MATCH('Resultados Caso I'!$D$4,'Costo SCyD'!$O$2:$S$2,0))+IF($D$6="Sí",INDEX(costos.acceso,MATCH($D20,vel.SAIB,0),MATCH($D$4,years,0)),0)} -> 164.46753 | K20: {=INDEX('Costo SCyD'!$O$9:$S$597,MATCH(K$11&K$12&K$13&$D20,'Costo SCyD'!$A$9:$A$597&'Costo SCyD'!$B$9:$B$597&'Costo SCyD'!$C$9:$C$597&'Costo SCyD'!$D$9:$D$597,0),MATCH('Resultados Caso I'!$D$4,'Costo SCyD'!$O$2:$S$2,0))+IF($D$6="Sí",INDEX(costos.acceso,MATCH($D20,vel.SAIB,0),MATCH($D$4,years,0)),0)} -> 163.80145 | L20: {=INDEX('Costo SCyD'!$O$9:$S$597,MATCH(L$11&L$12&L$13&$D20,'Costo SCyD'!$A$9:$A$597&'Costo SCyD'!$B$9:$B$597&'Costo SCyD'!$C$9:$C$597&'Costo SCyD'!$D$9:$D$597,0),MATCH('Resultados Caso I'!$D$4,'Costo SCyD'!$O$2:$S$2,0))+IF($D$6="Sí",INDEX(costos.acceso,MATCH($D20,vel.SAIB,0),MATCH($D$4,years,0)),0)} -> 170.59152 | M20: {=INDEX('Costo SCyD'!$O$9:$S$597,MATCH(M$11&M$12&M$13&$D20,'Costo SCyD'!$A$9:$A$597&'Costo SCyD'!$B$9:$B$597&'Costo SCyD'!$C$9:$C$597&'Costo SCyD'!$D$9:$D$597,0),MATCH('Resultados Caso I'!$D$4,'Costo SCyD'!$O$2:$S$2,0))+IF($D$6="Sí",INDEX(costos.acceso,MATCH($D20,vel.SAIB,0),MATCH($D$4,years,0)),0)} -> 180.61565 | N20: {=INDEX('Costo SCyD'!$O$9:$S$597,MATCH(N$11&N$12&N$13&$D20,'Costo SCyD'!$A$9:$A$597&'Costo SCyD'!$B$9:$B$597&'Costo SCyD'!$C$9:$C$597&'Costo SCyD'!$D$9:$D$597,0),MATCH('Resultados Caso I'!$D$4,'Costo SCyD'!$O$2:$S$2,0))+IF($D$6="Sí",INDEX(costos.acceso,MATCH($D20,vel.SAIB,0),MATCH($D$4,years,0)),0)} -> 189.69186 | P20: {=INDEX('Costo SCyD'!$O$9:$S$597,MATCH(P$11&P$12&P$13&$D20,'Costo SCyD'!$A$9:$A$597&'Costo SCyD'!$B$9:$B$597&'Costo SCyD'!$C$9:$C$597&'Costo SCyD'!$D$9:$D$597,0),MATCH('Resultados Caso I'!$D$4,'Costo SCyD'!$O$2:$S$2,0))+IF($D$6="Sí",INDEX(costos.acceso,MATCH($D20,vel.SAIB,0),MATCH($D$4,years,0)),0)} -> 184.52703 | Q20: {=INDEX('Costo SCyD'!$O$9:$S$597,MATCH(Q$11&Q$12&Q$13&$D20,'Costo SCyD'!$A$9:$A$597&'Costo SCyD'!$B$9:$B$597&'Costo SCyD'!$C$9:$C$597&'Costo SCyD'!$D$9:$D$597,0),MATCH('Resultados Caso I'!$D$4,'Costo SCyD'!$O$2:$S$2,0))+IF($D$6="Sí",INDEX(costos.acceso,MATCH($D20,vel.SAIB,0),MATCH($D$4,years,0)),0)} -> 193.60002 | R20: {=INDEX('Costo SCyD'!$O$9:$S$597,MATCH(R$11&R$12&R$13&$D20,'Costo SCyD'!$A$9:$A$597&'Costo SCyD'!$B$9:$B$597&'Costo SCyD'!$C$9:$C$597&'Costo SCyD'!$D$9:$D$597,0),MATCH('Resultados Caso I'!$D$4,'Costo SCyD'!$O$2:$S$2,0))+IF($D$6="Sí",INDEX(costos.acceso,MATCH($D20,vel.SAIB,0),MATCH($D$4,years,0)),0)} -> 206.99441 | S20: {=INDEX('Costo SCyD'!$O$9:$S$597,MATCH(S$11&S$12&S$13&$D20,'Costo SCyD'!$A$9:$A$597&'Costo SCyD'!$B$9:$B$597&'Costo SCyD'!$C$9:$C$597&'Costo SCyD'!$D$9:$D$597,0),MATCH('Resultados Caso I'!$D$4,'Costo SCyD'!$O$2:$S$2,0))+IF($D$6="Sí",INDEX(costos.acceso,MATCH($D20,vel.SAIB,0),MATCH($D$4,years,0)),0)} -> 219.12218
C21: =+D21&" Mbps" -> 30 Mbps | D21: 30 | F21: {=INDEX('Costo SCyD'!$O$9:$S$597,MATCH(F$11&F$12&F$13&$D21,'Costo SCyD'!$A$9:$A$597&'Costo SCyD'!$B$9:$B$597&'Costo SCyD'!$C$9:$C$597&'Costo SCyD'!$D$9:$D$597,0),MATCH('Resultados Caso I'!$D$4,'Costo SCyD'!$O$2:$S$2,0))+IF($D$6="Sí",INDEX(costos.acceso,MATCH($D21,vel.SAIB,0),MATCH($D$4,years,0)),0)} -> 155.59982 | G21: {=INDEX('Costo SCyD'!$O$9:$S$597,MATCH(G$11&G$12&G$13&$D21,'Costo SCyD'!$A$9:$A$597&'Costo SCyD'!$B$9:$B$597&'Costo SCyD'!$C$9:$C$597&'Costo SCyD'!$D$9:$D$597,0),MATCH('Resultados Caso I'!$D$4,'Costo SCyD'!$O$2:$S$2,0))+IF($D$6="Sí",INDEX(costos.acceso,MATCH($D21,vel.SAIB,0),MATCH($D$4,years,0)),0)} -> 161.48648 | H21: {=INDEX('Costo SCyD'!$O$9:$S$597,MATCH(H$11&H$12&H$13&$D21,'Costo SCyD'!$A$9:$A$597&'Costo SCyD'!$B$9:$B$597&'Costo SCyD'!$C$9:$C$597&'Costo SCyD'!$D$9:$D$597,0),MATCH('Resultados Caso I'!$D$4,'Costo SCyD'!$O$2:$S$2,0))+IF($D$6="Sí",INDEX(costos.acceso,MATCH($D21,vel.SAIB,0),MATCH($D$4,years,0)),0)} -> 170.17691 | I21: {=INDEX('Costo SCyD'!$O$9:$S$597,MATCH(I$11&I$12&I$13&$D21,'Costo SCyD'!$A$9:$A$597&'Costo SCyD'!$B$9:$B$597&'Costo SCyD'!$C$9:$C$597&'Costo SCyD'!$D$9:$D$597,0),MATCH('Resultados Caso I'!$D$4,'Costo SCyD'!$O$2:$S$2,0))+IF($D$6="Sí",INDEX(costos.acceso,MATCH($D21,vel.SAIB,0),MATCH($D$4,years,0)),0)} -> 178.04554 | K21: {=INDEX('Costo SCyD'!$O$9:$S$597,MATCH(K$11&K$12&K$13&$D21,'Costo SCyD'!$A$9:$A$597&'Costo SCyD'!$B$9:$B$597&'Costo SCyD'!$C$9:$C$597&'Costo SCyD'!$D$9:$D$597,0),MATCH('Resultados Caso I'!$D$4,'Costo SCyD'!$O$2:$S$2,0))+IF($D$6="Sí",INDEX(costos.acceso,MATCH($D21,vel.SAIB,0),MATCH($D$4,years,0)),0)} -> 177.23432 | L21: {=INDEX('Costo SCyD'!$O$9:$S$597,MATCH(L$11&L$12&L$13&$D21,'Costo SCyD'!$A$9:$A$597&'Costo SCyD'!$B$9:$B$597&'Costo SCyD'!$C$9:$C$597&'Costo SCyD'!$D$9:$D$597,0),MATCH('Resultados Caso I'!$D$4,'Costo SCyD'!$O$2:$S$2,0))+IF($D$6="Sí",INDEX(costos.acceso,MATCH($D21,vel.SAIB,0),MATCH($D$4,years,0)),0)} -> 185.50402 | M21: {=INDEX('Costo SCyD'!$O$9:$S$597,MATCH(M$11&M$12&M$13&$D21,'Costo SCyD'!$A$9:$A$597&'Costo SCyD'!$B$9:$B$597&'Costo SCyD'!$C$9:$C$597&'Costo SCyD'!$D$9:$D$597,0),MATCH('Resultados Caso I'!$D$4,'Costo SCyD'!$O$2:$S$2,0))+IF($D$6="Sí",INDEX(costos.acceso,MATCH($D21,vel.SAIB,0),MATCH($D$4,years,0)),0)} -> 197.71251 | N21: {=INDEX('Costo SCyD'!$O$9:$S$597,MATCH(N$11&N$12&N$13&$D21,'Costo SCyD'!$A$9:$A$597&'Costo SCyD'!$B$9:$B$597&'Costo SCyD'!$C$9:$C$597&'Costo SCyD'!$D$9:$D$597,0),MATCH('Resultados Caso I'!$D$4,'Costo SCyD'!$O$2:$S$2,0))+IF($D$6="Sí",INDEX(costos.acceso,MATCH($D21,vel.SAIB,0),MATCH($D$4,years,0)),0)} -> 208.76653 | P21: {=INDEX('Costo SCyD'!$O$9:$S$597,MATCH(P$11&P$12&P$13&$D21,'Costo SCyD'!$A$9:$A$597&'Costo SCyD'!$B$9:$B$597&'Costo SCyD'!$C$9:$C$597&'Costo SCyD'!$D$9:$D$597,0),MATCH('Resultados Caso I'!$D$4,'Costo SCyD'!$O$2:$S$2,0))+IF($D$6="Sí",INDEX(costos.acceso,MATCH($D21,vel.SAIB,0),MATCH($D$4,years,0)),0)} -> 202.47623 | Q21: {=INDEX('Costo SCyD'!$O$9:$S$597,MATCH(Q$11&Q$12&Q$13&$D21,'Costo SCyD'!$A$9:$A$597&'Costo SCyD'!$B$9:$B$597&'Costo SCyD'!$C$9:$C$597&'Costo SCyD'!$D$9:$D$597,0),MATCH('Resultados Caso I'!$D$4,'Costo SCyD'!$O$2:$S$2,0))+IF($D$6="Sí",INDEX(costos.acceso,MATCH($D21,vel.SAIB,0),MATCH($D$4,years,0)),0)} -> 213.52633 | R21: {=INDEX('Costo SCyD'!$O$9:$S$597,MATCH(R$11&R$12&R$13&$D21,'Costo SCyD'!$A$9:$A$597&'Costo SCyD'!$B$9:$B$597&'Costo SCyD'!$C$9:$C$597&'Costo SCyD'!$D$9:$D$597,0),MATCH('Resultados Caso I'!$D$4,'Costo SCyD'!$O$2:$S$2,0))+IF($D$6="Sí",INDEX(costos.acceso,MATCH($D21,vel.SAIB,0),MATCH($D$4,years,0)),0)} -> 229.8395 | S21: {=INDEX('Costo SCyD'!$O$9:$S$597,MATCH(S$11&S$12&S$13&$D21,'Costo SCyD'!$A$9:$A$597&'Costo SCyD'!$B$9:$B$597&'Costo SCyD'!$C$9:$C$597&'Costo SCyD'!$D$9:$D$597,0),MATCH('Resultados Caso I'!$D$4,'Costo SCyD'!$O$2:$S$2,0))+IF($D$6="Sí",INDEX(costos.acceso,MATCH($D21,vel.SAIB,0),MATCH($D$4,years,0)),0)} -> 244.61004
