Workbook
Name Admin.costs: Control!$I$49
Name Admin.staff.per.customer.care.staff: Control!$I$47
Name AEP.broadband.distribution.by.plan: Mercado!$C$21:$P$59
Name AEP.broadband.subs.by.plan: Mercado!$C$67:$P$105
Name AEP.broadband.subs.non.residential: Mercado!$I$117:$P$117
Name AEP.broadband.subs.residential: Mercado!$I$111:$P$111
Name AEP.broadband.subs.residential.with.line.rental: Mercado!$I$113:$P$113
Name AEP.broadband.subs.residential.without.line.rental: Mercado!$I$115:$P$115
Name AEP.telephone.lines: Mercado!$I$130:$P$130
Name AEP.telephone.lines.voice.only: Mercado!$I$151:$P$151
Name AEP.telephone.lines.voice.only.noresidential: Mercado!$I$155:$P$155
Name AEP.telephone.lines.voice.only.residential: Mercado!$I$153:$P$153
Name AEP.telephony.distribution.by.plan: Mercado!$C$179:$P$199
Name AEP.telephony.subs.by.plan: Mercado!$C$206:$P$226
Name Bad.debt.cost: Control!$I$17
Name Billing.cost: Control!$I$14
Name billion: 1000000000
Name bit.conversion: 1024
Name bit.per.byte: 8
Name Broadbad.suscriptions.AEP: Mercado!$I$10:$P$10
Name Broadbad.suscriptions.market: Mercado!$I$10:$O$10
Name Broadband.gross.adds.non.residential: 'Calculos Banda Ancha'!$J$32
Name Broadband.gross.adds.residential.with.line.rental: 'Calculos Banda Ancha'!$J$23
Name cell.pi: 2.6
Name clarovideo.rental.without.taxes: Control!$I$65
Name Customer.care.broadbandsubscriber.per.staff: Control!$I$30
Name Customer.care.line.rental.per.staff: Control!$I$31
Name days.per.month: 30.42
Name days.per.year: 365
Name epsilon: 0.000001
Name equipo.terminal.parameter: Control!$I$68
Name factor.Mbps.to.Kbps: Listas!$S$4
Name Floorspace.per.staff: Control!$I$43
Name hours.per.day: 24
Name Line.rental.churn: Control!$I$11
Name local.loop.cooper: Control!$I$60
Name local.loop.FTTC: Control!$I$61
Name local.loop.optical.fiber: Control!$I$62
Name Marketing.and.sales.minimum.proportion.broadband: Control!$I$26
Name Marketing.and.sales.minimum.proportion.line.rental: Control!$I$25
Name Marketing.and.sales.per.gross.add.broadband: Control!$I$22
Name Marketing.and.sales.per.gross.add.line.rental: Control!$I$21
Name million: 1000000
Name minutes.per.hour: 60
Name modalidad: [1]listas!$A$2:$A$5
Name modalidad: [1]listas!$A$2:$A$5
Name modalidad: 'Cálculos principales'!$I$7:$AR$7
Name Monthly.cost.per.staff: Control!$I$33
Name months.per.year: 12
Name Rent.per.sqm: Control!$I$45
Name Retail.minus.additional.calls: 'Calculos Renta de Linea y Voz'!$M$102
Name Retail.minus.additional.calls.retail.minus.items.only: 'Calculos Renta de Linea y Voz'!$M$104
Name Retail.minus.bitstream.retail.minus.items.only: 'Tarifas SRL'!$D$69
Name Retail.minus.int: 'Calculos Banda Ancha'!$J$104
Name Retail.minus.int.retail.minus.items.only: 'Calculos Banda Ancha'!$J$106
Name Retail.minus.line.rental: 'Calculos Renta de Linea y Voz'!$J$102
Name Retail.minus.line.rental.retail.minus.items.only: 'Calculos Renta de Linea y Voz'!$J$104
Name Retail.profit: Control!$I$52
Name seconds.per.hour: 3600
Name seconds.per.minute: 60

Sheet C
C1: Contents
A3: Information
A5: Title | B5: Workbook Title
A6: Objective | B6: Workbook Objective
A8: Version | B8: Workbook Version
A9: Status | B9: Under construction
B10: Under construction
B11: Work in progress
B12: Ready for review
B13: Approved for release
A14: Author | B14: Workbook Author
A15: Email | B15: Workbook Author's Email Address
A17: Contents
A19: Sheet | B19: Description | D19: Status | E19: Notes
A20: C | B20: This contents sheet | D20: Approved for release
A21: V | B21: A history of the versions of this workbook | D21: Approved for release
A22: S | B22: A guide to the styles used in this workbook | D22: Approved for release
A23: Sheet | B23: Enter description of worksheet here | D23: Approved for release
A24: Insert extra rows above here

Sheet V
C1: Version history
A3: Information
A5: Title | B5: =Workbook.Title -> Workbook Title
A6: Objective | B6: =Workbook.Objective -> Workbook Objective
A8: Version | B8: =Workbook.Version -> Workbook Version
A9: Status | B9: =Workbook.Status -> Under construction
A10: Author | B10: =Workbook.Author -> Workbook Author
A11: Email | B11: =Workbook.Authors_Email_Address -> Workbook Author's Email Address
A13: History
A15: Version | B15: Date released | C15: Author | D15: Details

Sheet S
C1: Style guidelines
A3: NB Use Window Unfreeze Panes (on each worksheet) to have row 1 scroll with the rest of the worksheet
A4: NB Consider using Insert > Header & Footer > Sheet > Rows to repeat at top: $1:$1 to include row 1 at the top of all printed pages
A6: Input cell styles
A7: Use these styles to identify inputs to a model
A8: NB These styles change most aspects of a cell's formatting (all except Number and Alignment)
B10: Input Parameter | C10: 100 | D10: unlocked | E10: An input to the model that it is expected the user will change (change at will)
B12: Input Parameter | C12: 250 | D12: unlocked | E12: Consider using Data Validation to ensure that only acceptable values are entered
B13: Minimum | C13: 100
B14: Maximum | C14: 300
B16: Input Parameter | C16: 300 | D16: unlocked | E16: If a parameter can take only one of a small number of values, consider using Data Validation Allow List with In-cell dropdown selected
B17: Acceptable values | C17: 100
C18: 200
C19: 300
B21: Input Data | C21: 100 | D21: unlocked | E21: A piece of real data (only change if you have better data)
B23: Input Estimate | C23: 100 | D23: unlocked | E23: An estimate used in the absence of real data (only change if you have a better estimate, or real data )
B25: Input Calculation | C25: 100 | D25: locked | E25: An input to the model that has been calculated from other inputs (e.g. interpolated input values)
B27: Input Link | C27: 100 | D27: locked | E27: An input to this part of the model, which is linked to a source on this worksheet within this workbook
B29: Input Link (different Worksheet) | C29: 100 | D29: locked | E29: An input to this part of the model, which is linked to a source on another worksheet within this workbook
B31: Input Link (different Workbook) | C31: 100 | D31: locked | E31: An input to this part of the model, which is linked to a source on a worksheet in a different workbook
A33: Other cell styles
A34: Use these styles to identify the role of other cells in a model
A35: NB These styles change a variety of different aspects of a cell's formatting (as appropriate to the context)
B37: Calculation | C37: 100 | D37: locked | E37: A calculation of the model
B39: Total | C39: 123.45 | E39: A total (use if not part of a "Sub-total row" or a "Total row" in a table - see below)
B41: Checksum | C41: 0 | D41: locked | E41: A side calculation intended solely to cross check a result (and which therefore should not be referenced anywhere else in the model)
B43: Checksum | C43: 0.1 | D43: locked | E43: Consider using Conditional Formatting (on Home tab) to highlight unacceptable results of cross-check calculations (e.g. non-zero)
B45: Output | C45: 100 | E45: A key result from this part of the model (in particular one that will be used elsewhere in the model)
B47: Name | C47: Name | D47: locked | E47: An Excel Name applying to one or more adjacent cells – use Create from Selection (on Formulas tab) to actually create the Excel Names
B49: Note | C49: Note | E49: A note (NB smaller than standard font size)
B51: Highlight | C51: 100 | E51: A cell that is special in some way
B53: Unhighlight | C53: 100 | E53: And one that isn't anymore
A55: Number styles
A56: Use these styles to consistently format numbers (and dates)
A57: NB All number styles use the decimal symbol and digit grouping symbol (thousands separator) defined under Regional Options in Control Panel. So if you want to change them do it there, and not here in Excel !
A58: NB Most number styles leave space for a ')' to the right of the number, but only the Currency styles actually use '(…)' for negatives
C60: Number | D60: Number (2dp) | E60: Percentage | F60: Percentage (2dp) | G60: Currency | H60: Currency (2dp) | I60: Comma | J60: Percent
B61: Positive | C61: 1234.56 | D61: 123.45 | E61: 0.1234 | F61: 0.1234 | G61: 1234.56 | H61: 123.45 | I61: 1234.56 | J61: 0.1234
B62: Negative | C62: -1234.56 | D62: -123.45 | E62: -0.1234 | F62: -0.1234 | G62: -1234.56 | H62: -123.45 | I62: -1234.56 | J62: -0.1234
B63: Zero | C63: 0 | D63: 0 | E63: 0 | F63: 0 | G63: 0 | H63: 0 | I63: 0 | J63: 0
...

Sheet Listas
C1: Listas
B3: Años | D3: # | E3: Nombres de planes y paquetes principales | G3: # | H3: Nombres de planes y paquetes que ofrecen banda ancha | J3: # | K3: Nombres de planes y paquetes que ofrecen telefonía fija | M3: # | N3: Nombres de planes y paquetes que ofrecen banda ancha single play | P3: # | Q3: Nombres de planes y paquetes que ofrecen telefonía fija single play | S3: Factor conversion (1 Mbps a Kbps)
B4: 2018 | D4: 1 | E4: Renta Mensual de la Línea Residencial | G4: 1 | H4: Paquete 249 | J4: 1 | K4: Renta Mensual de la Línea Residencial | M4: 1 | N4: Infinitum 279 | P4: 1 | Q4: Renta Mensual de la Línea Residencial | S4: 1024
B5: =1+B4 -> 2019 | D5: =1+D4 -> 2 | E5: Renta Mensual de la Línea Comercial | G5: =G4+1 -> 2 | H5: Paquete 289 | J5: =1+J4 -> 2 | K5: Renta Mensual de la Línea Comercial | M5: =1+M4 -> 2 | N5: Infinitum 299 R | P5: 2 | Q5: Renta Mensual de la Línea Comercial | S5: factor.Mbps.to.Kbps | V5: Listado banda ancha
B6: =1+B5 -> 2020 | D6: =1+D5 -> 3 | E6: Paquete 249 | G6: =G5+1 -> 3 | H6: Paquete 333 | J6: =1+J5 -> 3 | K6: Paquete 249 | M6: =1+M5 -> 3 | N6: Infinitum 349 | Q6: vector.telephony.plans.singleplay.names | V6: Banda ancha
B7: =1+B6 -> 2021 | D7: =1+D6 -> 4 | E7: Paquete 289 | G7: =G6+1 -> 4 | H7: Paquete 389 | J7: =1+J6 -> 4 | K7: Paquete 289 | M7: =1+M6 -> 4 | N7: Infinitum 399 | V7: Banda ancha menor
B8: =1+B7 -> 2022 | D8: =1+D7 -> 5 | E8: Paquete 333 | G8: =G7+1 -> 5 | H8: Paquete 435 | J8: =1+J7 -> 5 | K8: Paquete 333 | M8: =1+M7 -> 5 | N8: Infinitum 449
B9: =1+B8 -> 2023 | D9: =1+D8 -> 6 | E9: Paquete 389 | G9: =G8+1 -> 6 | H9: Paquete 499 | J9: =1+J8 -> 6 | K9: Paquete 389 | M9: =1+M8 -> 6 | N9: Infinitum 499
B10: =1+B9 -> 2024 | D10: =1+D9 -> 7 | E10: Paquete 435 | G10: =G9+1 -> 7 | H10: Paquete 599 | J10: =1+J9 -> 7 | K10: Paquete 435 | M10: =1+M9 -> 7 | N10: Infinitum 549
B11: =1+B10 -> 2025 | D11: =1+D10 -> 8 | E11: Paquete 499 | G11: =G10+1 -> 8 | H11: Paquete 649 | J11: =1+J10 -> 8 | K11: Paquete 499 | M11: =1+M10 -> 8 | N11: Infinitum 649
B12: Years | D12: =1+D11 -> 9 | E12: Paquete 599 | G12: =G11+1 -> 9 | H12: Paquetre 725 | J12: =1+J11 -> 9 | K12: Paquete 599 | M12: =1+M11 -> 9 | N12: Infinitum 899
D13: =1+D12 -> 10 | E13: Paquete 649 | G13: =G12+1 -> 10 | H13: Paquete Infinitum 999 | J13: =1+J12 -> 10 | K13: Paquete 649 | M13: =1+M12 -> 10 | N13: Infinitum 299 N
D14: =1+D13 -> 11 | E14: Paquetre 725 | G14: =G13+1 -> 11 | H14: Paquete 1399 | J14: =1+J13 -> 11 | K14: Paquetre 725 | M14: =1+M13 -> 11 | N14: Infinitum Negocio 349
D15: =1+D14 -> 12 | E15: Paquete Infinitum 999 | G15: =G14+1 -> 12 | H15: Infinitum 279 | J15: =1+J14 -> 12 | K15: Paquete Infinitum 999 | M15: =1+M14 -> 12 | N15: Infinitum Negocio 399
D16: =1+D15 -> 13 | E16: Paquete 1399 | G16: =G15+1 -> 13 | H16: Infinitum 299 R | J16: =1+J15 -> 13 | K16: Paquete 1399 | M16: =1+M15 -> 13 | N16: Infinitum Negocio 449
D17: =1+D16 -> 14 | E17: Infinitum 279 | G17: =G16+1 -> 14 | H17: Infinitum 349 | J17: =1+J16 -> 14 | K17: Paquete Conectes Negocio | M17: =1+M16 -> 14 | N17: Infinitum Negocio 499
D18: =1+D17 -> 15 | E18: Infinitum 299 R | G18: =G17+1 -> 15 | H18: Infinitum 399 | J18: =1+J17 -> 15 | K18: Paquete Mi Negocio | M18: =1+M17 -> 15 | N18: Infinitum Negocio 549
D19: =1+D18 -> 16 | E19: Infinitum 349 | G19: =G18+1 -> 16 | H19: Infinitum 449 | J19: =1+J18 -> 16 | K19: Paquete Negocio 649 | M19: =1+M18 -> 16 | N19: Infinitum Negocio 649
D20: =1+D19 -> 17 | E20: Infinitum 399 | G20: =G19+1 -> 17 | H20: Infinitum 499 | J20: =1+J19 -> 17 | K20: Paquete Supernegocio | M20: =1+M19 -> 17 | N20: Infinitum Negocio 899
D21: =1+D20 -> 18 | E21: Infinitum 449 | G21: =G20+1 -> 18 | H21: Infinitum 549 | J21: =1+J20 -> 18 | K21: Paquete Negocio 999 | M21: =1+M20 -> 18 | N21: Infinitum Negocio
D22: =1+D21 -> 19 | E22: Infinitum 499 | G22: =G21+1 -> 19 | H22: Infinitum 649 | J22: =1+J21 -> 19 | K22: Paquete Telmex Negocio Ilimitado 1 | M22: =1+M21 -> 19 | N22: Infinitum Negocio Red
D23: =1+D22 -> 20 | E23: Infinitum 549 | G23: =G22+1 -> 20 | H23: Infinitum 899 | J23: =1+J22 -> 20 | K23: Paquete Telmex Negocio Ilimitado 2 | M23: =1+M22 -> 20 | N23: Infinitum Negocio Premium
D24: =1+D23 -> 21 | E24: Infinitum 649 | G24: =G23+1 -> 21 | H24: Paquete Conectes Negocio | J24: =1+J23 -> 21 | K24: Paquete Telmex Negocio Ilimitado 3 | N24: vector.broadband.plans.singleplay.names
D25: =1+D24 -> 22 | E25: Infinitum 899 | G25: =G24+1 -> 22 | H25: Paquete Mi Negocio | K25: vector.telephony.plans.names
D26: =1+D25 -> 23 | E26: Paquete Conectes Negocio | G26: =G25+1 -> 23 | H26: Paquete Negocio 649
D27: =1+D26 -> 24 | E27: Paquete Mi Negocio | G27: =G26+1 -> 24 | H27: Paquete Supernegocio
D28: =1+D27 -> 25 | E28: Paquete Negocio 649 | G28: =G27+1 -> 25 | H28: Paquete Negocio 999
D29: =1+D28 -> 26 | E29: Paquete Supernegocio | G29: =G28+1 -> 26 | H29: Paquete Telmex Negocio Ilimitado 1
D30: =1+D29 -> 27 | E30: Paquete Negocio 999 | G30: =G29+1 -> 27 | H30: Paquete Telmex Negocio Ilimitado 2
D31: =1+D30 -> 28 | E31: Paquete Telmex Negocio Ilimitado 1 | G31: =G30+1 -> 28 | H31: Paquete Telmex Negocio Ilimitado 3
D32: =1+D31 -> 29 | E32: Paquete Telmex Negocio Ilimitado 2 | G32: =G31+1 -> 29 | H32: Infinitum 299 N
D33: =1+D32 -> 30 | E33: Paquete Telmex Negocio Ilimitado 3 | G33: =G32+1 -> 30 | H33: Infinitum Negocio 349
D34: =1+D33 -> 31 | E34: Infinitum 299 N | G34: =G33+1 -> 31 | H34: Infinitum Negocio 399
D35: =1+D34 -> 32 | E35: Infinitum Negocio 349 | G35: =G34+1 -> 32 | H35: Infinitum Negocio 449
D36: =1+D35 -> 33 | E36: Infinitum Negocio 399 | G36: =G35+1 -> 33 | H36: Infinitum Negocio 499
D37: =1+D36 -> 34 | E37: Infinitum Negocio 449 | G37: =G36+1 -> 34 | H37: Infinitum Negocio 549
... D42: =1+D41 -> 39 | E42: Infinitum Negocio | G42: =G41+1 -> 39 | H42: Infinitum Negocio Premium
D43: =1+D42 -> 40 | E43: Infinitum Negocio Red | H43: vector.broadband.plans.names
D44: =1+D43 -> 41 | E44: Infinitum Negocio Premium
E45: vector.plans.names

Sheet Control
C1: Control
D2: Concepto | H2: Unidad | J2: Nombre | L2: Notas
A3: 1 | B3: Año de referencia
C5: 1 | D5: Año de referencia para el que se realizan las estimaciones
D6: Año de referencia | H6: año | I6: 2025 | J6: Year.selected
A8: 2 | B8: Parámetros asociados a costos de los servicios
C10: 1 | D10: Relacionados a la captación de usuarios
D11: Índice de rotación (Churn) | H11: % | I11: 0.013326667 | J11: Line.rental.churn | L11: Fuente: Promedio 2021-2025, a partir del requerimiento de información Telmex /Telnor
C13: =C10+1 -> 2 | D13: Costos de facturación (incluyendo el sistema de facturación a clientes minoristas)
D14: Costos de facturación (incluyendo el sistema de facturación a clientes minoristas) sobre el total de ingresos | H14: % | I14: 0.040548338 | J14: Billing.cost | L14: Fuente: Promedio 2020-2024, a partir del monto calculado entre los de los costos de facturación reportados por Telmex y Telnory los ingresos por facturación de los servicios.
C16: =C13+1 -> 3 | D16: Asociados a deuda incobrable
D17: Deuda incobrable sobre el total de ingresos | H17: % | I17: 0.019334574 | J17: Bad.debt.cost | L17: Fuente: El valor estimado fue calculado a partir de la revisión de la Separación Contable para 2019 a 2023. Por lo cual se sumaron las cuentas de incobrabilidad respecto a sus ingresos operativos en cada ejercicio.
C19: =C16+1 -> 4 | D19: Marketing y publicidad
D20: Costos de ventas y marketing por suscriptor bruto adicional
D21: para servicios de voz | H21: MXN / Suscriptor bruto adicional | I21: 0 | J21: Marketing.and.sales.per.gross.add.line.rental | L21: Se asume cero, bajo la premisa de los operadores se publicitan para captar suscriptores de banda ancha, no suscriptores sólo de voz fija
D22: para servicios de banda ancha | H22: MXN / Suscriptor bruto adicional | I22: 1800 | J22: Marketing.and.sales.per.gross.add.broadband
D24: Gasto mínimo en marketing en ventas sobre el total de ingresos
D25: para servicios de voz | H25: % | I25: 0 | J25: Marketing.and.sales.minimum.proportion.line.rental | L25: Se asume cero, bajo la premisa de los operadores se publicitan para captar suscriptores de banda ancha, no suscriptores sólo de voz fija
D26: para servicios de banda ancha | H26: % | I26: 0.064572527 | J26: Marketing.and.sales.minimum.proportion.broadband | L26: Fuente: El valor se actualizó con el porcentaje de las cuentas de publicidad respecto a los ingresos de banda ancha de separación contable 2019-2022.
C28: =C19+1 -> 5 | D28: Atención al cliente minorista (incluyendo asistencia técnica de primera línea)
D29: Número promedio de suscriptores atendidos por empleado:
D30: para servicios de banda ancha | H30: # Suscriptor / empleado | I30: 944.74651 | J30: Customer.care.broadbandsubscriber.per.staff | L30: El índice menor de fallas por línea sólo de voz que para líneas de banda ancha (hay menos equipos que pueden fallar) y es menos probable que las fallas sean percibidas por los usuarios (la duración diaria de uso de una línea para llamadas de voz es mucho menor que para banda ancha)
D31: para servicios de voz | H31: # Suscriptor / empleado | I31: =I30*5 -> 4723.7325 | J31: Customer.care.line.rental.per.staff
L32: Incrementos de revisiones salariales Sindicato de Telefonistas de la República Mexicana
D33: Costo mensual por empleado dedicado a la atención del cliente minorista | H33: MXN / empleado | I33: =I34*(1+N41) -> 17763.929 | J33: Monthly.cost.per.staff | L33: 42850 | M33: % | N33: 0.059 | P33: Fuente: Telmex
I34: 16998.975 | L34: 43215 | M34: % | N34: 0.059 | P34: Fuente: Telmex: 4.5% incremento salarial y 1.5% prestaciones
L35: 43581 | M35: % | N35: =0.04+0.0112 -> 0.0512 | P35: Fuente: Telmex 4% incremento salarial y 1.12% prestaciones
L36: 44075 | N36: =0.035+0.01 -> 0.045 | P36: Fuente: Telmex incremento salarial de 3.5% y 1% prestaciones
L37: 44337 | M37: % | N37: =3.4%+0.8% -> 0.042 | P37: Fuente: Telmex incremento salarial de 3.4% y 0.8% prestaciones
L38: 44734 | M38: % | N38: 0.045 | P38: Fuente: Telmex incremento salarial https://www.gob.mx/stps/prensa/con-el-dialogo-impulsado-por-la-stps-sindicato-de-telefonistas-y-telmex-logran-acuerdo?idiom=es#:%7E:text=Las%20partes%20acordaron%20la%20revisi%C3%B3n,50.50%20pesos%20diarios%2C%20m%C3%A1s%201.1026%25
L39: 45082 | M39: % | N39: 0.056 | P39: Fuente: Telmex ncremento salarial https://www.gob.mx/stps/prensa/con-la-mediacion-de-la-stps-y-el-cfcrl-telmex-y-el-sindicato-de-telefonistas-alcanzan-acuerdo?idiom=es
L40: 45474 | M40: % | N40: 0.051 | P40: Fuente: Telmex incremento salarial. https://portal.strm.cloud/documentos/CircularUltimaPropuestaRevision2024.pdf
L41: 45838 | N41: 0.045 | P41: Fuente: Cuadro de justificaciones CP ORCI EM 2026. https://www.ift.org.mx/sites/default/files/industria/temasrelevantes/27420/documentos/orciem2026.zip
C42: =C28+1 -> 6 | D42: Costos generales y administrativos
D43: Superficie de suelo usada por empleado | H43: m2 / empleado | I43: 10 | J43: Floorspace.per.staff | L43: Fuente: AEP. Datos promedio de 2019-2023.
D45: Costos de alquiler de oficinas (por metro cuadrado al mes) | H45: MXN / Mes / m2 | I45: 791 | J45: Rent.per.sqm | L45: Fuente: AEP. Datos promedio de 2019-2023.
D47: Personal administrativo (incluyendo personal de marketing y ventas) por empleado de atención al cliente | H47: % | I47: 0.1293 | J47: Admin.staff.per.customer.care.staff | L47: Fuente: AEP. Datos promedio de 2019-2023.
D49: Costos administrativos sobre el total de ingresos (incluye personal de soporte IT, recursos humanos, estrategia, finanzas, etc.) | H49: % | I49: 0.0175 | J49: Admin.costs | L49: Fuente: AEP. Datos promedio considerados en la separación contable de 2019-2022.
C51: =C42+1 -> 7 | D51: Margen de beneficios sobre costos evitados
D52: Margen de beneficios sobre costos evitados | H52: % | I52: 0.1097 | J52: Retail.profit | L52: Fuente: CCPP. Condiciones técnicas mínimas de interconexión 2025.
...

Sheet Mercado
C1: Mercado
C2: Concepto | H2: Unidad | I2: {=TRANSPOSE(Years)} -> 2018 | J2: 2019 | K2: 2020 | L2: 2021 | M2: 2022 | N2: 2023 | O2: 2024 | P2: 2025 | R2: Nombre | T2: Notas
A3: 1 | B3: Banda ancha fija
B5: 1.1 | C5: Datos de mercado de banda ancha fija
C7: Suscripciones de banda ancha fija
C8: Suscripciones de banda ancha fija, residenciales y no residenciales del mercado | H8: # suscripciones | O8: 25317388 | P8: 27283980 | R8: Broadbad.suscriptions.market | T8: Fuente: Banco de Información de Telecomunicaciones, IFT (https://bit.ift.org.mx/BitWebApp/)
C10: Suscripciones de banda ancha fija, residenciales y no residenciales del AEP | H10: # suscripciones | O10: 10488966 | P10: 11077440 | R10: Broadbad.suscriptions.AEP | T10: Fuente: Banco de Información de Telecomunicaciones, IFT (https://bit.ift.org.mx/BitWebApp/)
C12: Cuota de Mercado del AEP
C13: % de suscripciones residenciales y no residenciales del AEP | H13: % respecto a total de suscripciones del mercado | I13: =IFERROR(I10/I8,"") | J13: =IFERROR(J10/J8,"") | K13: =IFERROR(K10/K8,"") | L13: =IFERROR(L10/L8,"") | M13: =IFERROR(M10/M8,"") | N13: =IFERROR(N10/N8,"") | O13: =IFERROR(O10/O8,"") -> 0.4142989 | P13: =IFERROR(P10/P8,"") -> 0.40600528 | R13: Broadbad.suscriptions.market.share.AEP | T13: Fuente: Banco de Información de Telecomunicaciones, IFT (https://bit.ift.org.mx/BitWebApp/)
B15: 1.2 | C15: Distribución de suscriptores del AEP
C17: Distribución porcentual de suscriptores del AEP por plan/paquete a través se ofrecen servicios de banda ancha fija
L18: 5 | M18: 8 | N18: 10 | O18: 9 | P18: 13
E19: Nombre de plan/paquete | F19: Modalidad | G19: Tipo de Servicio | H19: Unidad | I19: {=TRANSPOSE(Years)} -> 2018 | J19: 2019 | K19: 2020 | L19: 2021 | M19: 2022 | N19: 2023 | O19: 2024 | P19: 2025 | R19: Nombre | T19: Notas
I20: =SUM(I21:I54) -> 0 | J20: =SUM(J21:J54) -> 0 | K20: =SUM(K21:K54) -> 0 | L20: =SUM(L21:L54) -> 0 | M20: =SUM(M21:M54) -> 0 | N20: =SUM(N21:N54) -> 0 | O20: =SUM(O21:O59) -> 1 | P20: =SUM(P21:P59) -> 1
C21: =E21&F21 -> Paquete 249Residencial | D21: 1 | E21: {=vector.broadband.plans.names} -> Paquete 249 | F21: =IFERROR(VLOOKUP($E21,'Planes y paquetes'!$C$391:$G$432,2,FALSE),"") -> Residencial | G21: =IFERROR(VLOOKUP($E21,'Planes y paquetes'!$C$391:$G$432,3,FALSE),"") -> Telefonía fija + Internet fijo | H21: % | O21: =IFERROR(VLOOKUP($E21&$F21,'Planes y paquetes'!$A$482:$M$520,O$18,FALSE),0)/(SUMIFS('Planes y paquetes'!$I$482:$I$520,'Planes y paquetes'!$E$482:$E$520,"Telefonía fija + Internet fijo")+SUMIFS('Planes y paquetes'!$I$482:$I$520,'Planes y paquetes'!$E$482:$E$520,"Internet fijo")) -> 0.014785727 | P21: =IFERROR(VLOOKUP($E21&$F21,'Planes y paquetes'!$A$482:$M$520,P$18,FALSE),0)/(SUMIFS('Planes y paquetes'!$M$482:$M$520,'Planes y paquetes'!$E$482:$E$520,"Telefonía fija + Internet fijo")+SUMIFS('Planes y paquetes'!$M$482:$M$520,'Planes y paquetes'!$E$482:$E$520,"Internet fijo")) -> 0.018212856 | T21: Fuente: Estimaciones IFT, a partir de datos AEP
C22: =E22&F22 -> Paquete 289Residencial | D22: =1+D21 -> 2 | E22: Paquete 289 | F22: =IFERROR(VLOOKUP($E22,'Planes y paquetes'!$C$391:$G$432,2,FALSE),"") -> Residencial | G22: =IFERROR(VLOOKUP($E22,'Planes y paquetes'!$C$391:$G$432,3,FALSE),"") -> Telefonía fija + Internet fijo | H22: % | O22: =IFERROR(VLOOKUP($E22&$F22,'Planes y paquetes'!$A$482:$M$520,O$18,FALSE),0)/(SUMIFS('Planes y paquetes'!$I$482:$I$520,'Planes y paquetes'!$E$482:$E$520,"Telefonía fija + Internet fijo")+SUMIFS('Planes y paquetes'!$I$482:$I$520,'Planes y paquetes'!$E$482:$E$520,"Internet fijo")) -> 0.0043680323 | P22: =IFERROR(VLOOKUP($E22&$F22,'Planes y paquetes'!$A$482:$M$520,P$18,FALSE),0)/(SUMIFS('Planes y paquetes'!$M$482:$M$520,'Planes y paquetes'!$E$482:$E$520,"Telefonía fija + Internet fijo")+SUMIFS('Planes y paquetes'!$M$482:$M$520,'Planes y paquetes'!$E$482:$E$520,"Internet fijo")) -> 0.0044578413 | T22: Fuente: Estimaciones IFT, a partir de datos AEP
C23: =E23&F23 -> Paquete 333Residencial | D23: =1+D22 -> 3 | E23: Paquete 333 | F23: =IFERROR(VLOOKUP($E23,'Planes y paquetes'!$C$391:$G$432,2,FALSE),"") -> Residencial | G23: =IFERROR(VLOOKUP($E23,'Planes y paquetes'!$C$391:$G$432,3,FALSE),"") -> Telefonía fija + Internet fijo | H23: % | O23: =IFERROR(VLOOKUP($E23&$F23,'Planes y paquetes'!$A$482:$M$520,O$18,FALSE),0)/(SUMIFS('Planes y paquetes'!$I$482:$I$520,'Planes y paquetes'!$E$482:$E$520,"Telefonía fija + Internet fijo")+SUMIFS('Planes y paquetes'!$I$482:$I$520,'Planes y paquetes'!$E$482:$E$520,"Internet fijo")) -> 0.0063408923 | P23: =IFERROR(VLOOKUP($E23&$F23,'Planes y paquetes'!$A$482:$M$520,P$18,FALSE),0)/(SUMIFS('Planes y paquetes'!$M$482:$M$520,'Planes y paquetes'!$E$482:$E$520,"Telefonía fija + Internet fijo")+SUMIFS('Planes y paquetes'!$M$482:$M$520,'Planes y paquetes'!$E$482:$E$520,"Internet fijo")) -> 0.0060188654 | T23: Fuente: Estimaciones IFT, a partir de datos AEP
C24: =E24&F24 -> Paquete 389Residencial | D24: =1+D23 -> 4 | E24: Paquete 389 | F24: =IFERROR(VLOOKUP($E24,'Planes y paquetes'!$C$391:$G$432,2,FALSE),"") -> Residencial | G24: =IFERROR(VLOOKUP($E24,'Planes y paquetes'!$C$391:$G$432,3,FALSE),"") -> Telefonía fija + Internet fijo | H24: % | O24: =IFERROR(VLOOKUP($E24&$F24,'Planes y paquetes'!$A$482:$M$520,O$18,FALSE),0)/(SUMIFS('Planes y paquetes'!$I$482:$I$520,'Planes y paquetes'!$E$482:$E$520,"Telefonía fija + Internet fijo")+SUMIFS('Planes y paquetes'!$I$482:$I$520,'Planes y paquetes'!$E$482:$E$520,"Internet fijo")) -> 0.47359473 | P24: =IFERROR(VLOOKUP($E24&$F24,'Planes y paquetes'!$A$482:$M$520,P$18,FALSE),0)/(SUMIFS('Planes y paquetes'!$M$482:$M$520,'Planes y paquetes'!$E$482:$E$520,"Telefonía fija + Internet fijo")+SUMIFS('Planes y paquetes'!$M$482:$M$520,'Planes y paquetes'!$E$482:$E$520,"Internet fijo")) -> 0.44509508 | T24: Fuente: Estimaciones IFT, a partir de datos AEP
C25: =E25&F25 -> Paquete 435Residencial | D25: =1+D24 -> 5 | E25: Paquete 435 | F25: =IFERROR(VLOOKUP($E25,'Planes y paquetes'!$C$391:$G$432,2,FALSE),"") -> Residencial | G25: =IFERROR(VLOOKUP($E25,'Planes y paquetes'!$C$391:$G$432,3,FALSE),"") -> Telefonía fija + Internet fijo | H25: % | O25: =IFERROR(VLOOKUP($E25&$F25,'Planes y paquetes'!$A$482:$M$520,O$18,FALSE),0)/(SUMIFS('Planes y paquetes'!$I$482:$I$520,'Planes y paquetes'!$E$482:$E$520,"Telefonía fija + Internet fijo")+SUMIFS('Planes y paquetes'!$I$482:$I$520,'Planes y paquetes'!$E$482:$E$520,"Internet fijo")) -> 0.018604671 | P25: =IFERROR(VLOOKUP($E25&$F25,'Planes y paquetes'!$A$482:$M$520,P$18,FALSE),0)/(SUMIFS('Planes y paquetes'!$M$482:$M$520,'Planes y paquetes'!$E$482:$E$520,"Telefonía fija + Internet fijo")+SUMIFS('Planes y paquetes'!$M$482:$M$520,'Planes y paquetes'!$E$482:$E$520,"Internet fijo")) -> 0.024192037 | T25: Fuente: Estimaciones IFT, a partir de datos AEP
C26: =E26&F26 -> Paquete 499Residencial | D26: =1+D25 -> 6 | E26: Paquete 499 | F26: =IFERROR(VLOOKUP($E26,'Planes y paquetes'!$C$391:$G$432,2,FALSE),"") -> Residencial | G26: =IFERROR(VLOOKUP($E26,'Planes y paquetes'!$C$391:$G$432,3,FALSE),"") -> Telefonía fija + Internet fijo | H26: % | O26: =IFERROR(VLOOKUP($E26&$F26,'Planes y paquetes'!$A$482:$M$520,O$18,FALSE),0)/(SUMIFS('Planes y paquetes'!$I$482:$I$520,'Planes y paquetes'!$E$482:$E$520,"Telefonía fija + Internet fijo")+SUMIFS('Planes y paquetes'!$I$482:$I$520,'Planes y paquetes'!$E$482:$E$520,"Internet fijo")) -> 0.038760138 | P26: =IFERROR(VLOOKUP($E26&$F26,'Planes y paquetes'!$A$482:$M$520,P$18,FALSE),0)/(SUMIFS('Planes y paquetes'!$M$482:$M$520,'Planes y paquetes'!$E$482:$E$520,"Telefonía fija + Internet fijo")+SUMIFS('Planes y paquetes'!$M$482:$M$520,'Planes y paquetes'!$E$482:$E$520,"Internet fijo")) -> 0.036543112 | T26: Fuente: Estimaciones IFT, a partir de datos AEP
C27: =E27&F27 -> Paquete 599Residencial | D27: =1+D26 -> 7 | E27: Paquete 599 | F27: =IFERROR(VLOOKUP($E27,'Planes y paquetes'!$C$391:$G$432,2,FALSE),"") -> Residencial | G27: =IFERROR(VLOOKUP($E27,'Planes y paquetes'!$C$391:$G$432,3,FALSE),"") -> Telefonía fija + Internet fijo | H27: % | O27: =IFERROR(VLOOKUP($E27&$F27,'Planes y paquetes'!$A$482:$M$520,O$18,FALSE),0)/(SUMIFS('Planes y paquetes'!$I$482:$I$520,'Planes y paquetes'!$E$482:$E$520,"Telefonía fija + Internet fijo")+SUMIFS('Planes y paquetes'!$I$482:$I$520,'Planes y paquetes'!$E$482:$E$520,"Internet fijo")) -> 0.037621137 | P27: =IFERROR(VLOOKUP($E27&$F27,'Planes y paquetes'!$A$482:$M$520,P$18,FALSE),0)/(SUMIFS('Planes y paquetes'!$M$482:$M$520,'Planes y paquetes'!$E$482:$E$520,"Telefonía fija + Internet fijo")+SUMIFS('Planes y paquetes'!$M$482:$M$520,'Planes y paquetes'!$E$482:$E$520,"Internet fijo")) -> 0.028197024 | T27: Fuente: Estimaciones IFT, a partir de datos AEP
C28: =E28&F28 -> Paquete 649Residencial | D28: =1+D27 -> 8 | E28: Paquete 649 | F28: =IFERROR(VLOOKUP($E28,'Planes y paquetes'!$C$391:$G$432,2,FALSE),"") -> Residencial | G28: =IFERROR(VLOOKUP($E28,'Planes y paquetes'!$C$391:$G$432,3,FALSE),"") -> Telefonía fija + Internet fijo | H28: % | O28: =IFERROR(VLOOKUP($E28&$F28,'Planes y paquetes'!$A$482:$M$520,O$18,FALSE),0)/(SUMIFS('Planes y paquetes'!$I$482:$I$520,'Planes y paquetes'!$E$482:$E$520,"Telefonía fija + Internet fijo")+SUMIFS('Planes y paquetes'!$I$482:$I$520,'Planes y paquetes'!$E$482:$E$520,"Internet fijo")) -> 0.017240023 | P28: =IFERROR(VLOOKUP($E28&$F28,'Planes y paquetes'!$A$482:$M$520,P$18,FALSE),0)/(SUMIFS('Planes y paquetes'!$M$482:$M$520,'Planes y paquetes'!$E$482:$E$520,"Telefonía fija + Internet fijo")+SUMIFS('Planes y paquetes'!$M$482:$M$520,'Planes y paquetes'!$E$482:$E$520,"Internet fijo")) -> 0.021652042 | T28: Fuente: Estimaciones IFT, a partir de datos AEP
C29: =E29&F29 -> Paquetre 725Residencial | D29: =1+D28 -> 9 | E29: Paquetre 725 | F29: =IFERROR(VLOOKUP($E29,'Planes y paquetes'!$C$391:$G$432,2,FALSE),"") -> Residencial | G29: =IFERROR(VLOOKUP($E29,'Planes y paquetes'!$C$391:$G$432,3,FALSE),"") -> Telefonía fija + Internet fijo | H29: % | O29: =IFERROR(VLOOKUP($E29&$F29,'Planes y paquetes'!$A$482:$M$520,O$18,FALSE),0)/(SUMIFS('Planes y paquetes'!$I$482:$I$520,'Planes y paquetes'!$E$482:$E$520,"Telefonía fija + Internet fijo")+SUMIFS('Planes y paquetes'!$I$482:$I$520,'Planes y paquetes'!$E$482:$E$520,"Internet fijo")) -> 0.000786163 | P29: =IFERROR(VLOOKUP($E29&$F29,'Planes y paquetes'!$A$482:$M$520,P$18,FALSE),0)/(SUMIFS('Planes y paquetes'!$M$482:$M$520,'Planes y paquetes'!$E$482:$E$520,"Telefonía fija + Internet fijo")+SUMIFS('Planes y paquetes'!$M$482:$M$520,'Planes y paquetes'!$E$482:$E$520,"Internet fijo")) -> 0.0021632902 | T29: Fuente: Estimaciones IFT, a partir de datos AEP
C30: =E30&F30 -> Paquete Infinitum 999Residencial | D30: =1+D29 -> 10 | E30: Paquete Infinitum 999 | F30: =IFERROR(VLOOKUP($E30,'Planes y paquetes'!$C$391:$G$432,2,FALSE),"") -> Residencial | G30: =IFERROR(VLOOKUP($E30,'Planes y paquetes'!$C$391:$G$432,3,FALSE),"") -> Telefonía fija + Internet fijo | H30: % | O30: =IFERROR(VLOOKUP($E30&$F30,'Planes y paquetes'!$A$482:$M$520,O$18,FALSE),0)/(SUMIFS('Planes y paquetes'!$I$482:$I$520,'Planes y paquetes'!$E$482:$E$520,"Telefonía fija + Internet fijo")+SUMIFS('Planes y paquetes'!$I$482:$I$520,'Planes y paquetes'!$E$482:$E$520,"Internet fijo")) -> 0.0048075681 | P30: =IFERROR(VLOOKUP($E30&$F30,'Planes y paquetes'!$A$482:$M$520,P$18,FALSE),0)/(SUMIFS('Planes y paquetes'!$M$482:$M$520,'Planes y paquetes'!$E$482:$E$520,"Telefonía fija + Internet fijo")+SUMIFS('Planes y paquetes'!$M$482:$M$520,'Planes y paquetes'!$E$482:$E$520,"Internet fijo")) -> 0.0052263493 | T30: Fuente: Estimaciones IFT, a partir de datos AEP
C31: =E31&F31 -> Paquete 1399Residencial | D31: =1+D30 -> 11 | E31: Paquete 1399 | F31: =IFERROR(VLOOKUP($E31,'Planes y paquetes'!$C$391:$G$432,2,FALSE),"") -> Residencial | G31: =IFERROR(VLOOKUP($E31,'Planes y paquetes'!$C$391:$G$432,3,FALSE),"") -> Telefonía fija + Internet fijo | H31: % | O31: =IFERROR(VLOOKUP($E31&$F31,'Planes y paquetes'!$A$482:$M$520,O$18,FALSE),0)/(SUMIFS('Planes y paquetes'!$I$482:$I$520,'Planes y paquetes'!$E$482:$E$520,"Telefonía fija + Internet fijo")+SUMIFS('Planes y paquetes'!$I$482:$I$520,'Planes y paquetes'!$E$482:$E$520,"Internet fijo")) -> 0.0015540258 | P31: =IFERROR(VLOOKUP($E31&$F31,'Planes y paquetes'!$A$482:$M$520,P$18,FALSE),0)/(SUMIFS('Planes y paquetes'!$M$482:$M$520,'Planes y paquetes'!$E$482:$E$520,"Telefonía fija + Internet fijo")+SUMIFS('Planes y paquetes'!$M$482:$M$520,'Planes y paquetes'!$E$482:$E$520,"Internet fijo")) -> 0.0014324857 | T31: Fuente: Estimaciones IFT, a partir de datos AEP
C32: =E32&F32 -> Infinitum 279Residencial | D32: =1+D31 -> 12 | E32: Infinitum 279 | F32: =IFERROR(VLOOKUP($E32,'Planes y paquetes'!$C$391:$G$432,2,FALSE),"") -> Residencial | G32: =IFERROR(VLOOKUP($E32,'Planes y paquetes'!$C$391:$G$432,3,FALSE),"") -> Internet fijo | H32: % | O32: =IFERROR(VLOOKUP($E32&$F32,'Planes y paquetes'!$A$482:$M$520,O$18,FALSE),0)/(SUMIFS('Planes y paquetes'!$I$482:$I$520,'Planes y paquetes'!$E$482:$E$520,"Telefonía fija + Internet fijo")+SUMIFS('Planes y paquetes'!$I$482:$I$520,'Planes y paquetes'!$E$482:$E$520,"Internet fijo")) -> 0.0019632545 | P32: =IFERROR(VLOOKUP($E32&$F32,'Planes y paquetes'!$A$482:$M$520,P$18,FALSE),0)/(SUMIFS('Planes y paquetes'!$M$482:$M$520,'Planes y paquetes'!$E$482:$E$520,"Telefonía fija + Internet fijo")+SUMIFS('Planes y paquetes'!$M$482:$M$520,'Planes y paquetes'!$E$482:$E$520,"Internet fijo")) -> 0.0014240705 | T32: Fuente: Estimaciones IFT, a partir de datos AEP
C33: =E33&F33 -> Infinitum 299 RResidencial | D33: =1+D32 -> 13 | E33: Infinitum 299 R | F33: =IFERROR(VLOOKUP($E33,'Planes y paquetes'!$C$391:$G$432,2,FALSE),"") -> Residencial | G33: =IFERROR(VLOOKUP($E33,'Planes y paquetes'!$C$391:$G$432,3,FALSE),"") -> Internet fijo | H33: % | O33: =IFERROR(VLOOKUP($E33&$F33,'Planes y paquetes'!$A$482:$M$520,O$18,FALSE),0)/(SUMIFS('Planes y paquetes'!$I$482:$I$520,'Planes y paquetes'!$E$482:$E$520,"Telefonía fija + Internet fijo")+SUMIFS('Planes y paquetes'!$I$482:$I$520,'Planes y paquetes'!$E$482:$E$520,"Internet fijo")) -> 8.7774677e-06 | P33: =IFERROR(VLOOKUP($E33&$F33,'Planes y paquetes'!$A$482:$M$520,P$18,FALSE),0)/(SUMIFS('Planes y paquetes'!$M$482:$M$520,'Planes y paquetes'!$E$482:$E$520,"Telefonía fija + Internet fijo")+SUMIFS('Planes y paquetes'!$M$482:$M$520,'Planes y paquetes'!$E$482:$E$520,"Internet fijo")) -> 1.3365356e-05 | T33: Fuente: Estimaciones IFT, a partir de datos AEP
... C59: =E59&F59 -> Infinitum Negocio PremiumNo Residencial | D59: =1+D58 -> 39 | E59: Infinitum Negocio Premium | F59: =IFERROR(VLOOKUP($E59,'Planes y paquetes'!$C$391:$G$432,2,FALSE),"") -> No Residencial | G59: =IFERROR(VLOOKUP($E59,'Planes y paquetes'!$C$391:$G$432,3,FALSE),"") -> Internet fijo | H59: % | O59: =IFERROR(VLOOKUP($E59&$F59,'Planes y paquetes'!$A$482:$M$520,O$18,FALSE),0)/(SUMIFS('Planes y paquetes'!$I$482:$I$520,'Planes y paquetes'!$E$482:$E$520,"Telefonía fija + Internet fijo")+SUMIFS('Planes y paquetes'!$I$482:$I$520,'Planes y paquetes'!$E$482:$E$520,"Internet fijo")) -> 0.0010922979 | P59: =IFERROR(VLOOKUP($E59&$F59,'Planes y paquetes'!$A$482:$M$520,P$18,FALSE),0)/(SUMIFS('Planes y paquetes'!$M$482:$M$520,'Planes y paquetes'!$E$482:$E$520,"Telefonía fija + Internet fijo")+SUMIFS('Planes y paquetes'!$M$482:$M$520,'Planes y paquetes'!$E$482:$E$520,"Internet fijo")) -> 0.0007689205 | T59: Fuente: Estimaciones IFT, a partir de datos AEP
R60: AEP.broadband.distribution.by.plan
C63: Distribución suscriptores del AEP por plan/paquete a través se ofrecen servicios de banda ancha fija
E65: Nombre de plan/paquete | F65: Modalidad | G65: Tipo de Servicio | H65: Unidad | I65: {=TRANSPOSE(Years)} -> 2018 | J65: 2019 | K65: 2020 | L65: 2021 | M65: 2022 | N65: 2023 | O65: 2024 | P65: 2025 | R65: Nombre | T65: Notas
I66: =SUM(I67:I100) -> 0 | J66: =SUM(J67:J100) -> 0 | K66: =SUM(K67:K100) -> 0 | L66: =SUM(L67:L100) -> 0 | M66: =SUM(M67:M100) -> 0 | N66: =SUM(N67:N105) -> 0 | O66: =SUM(O67:O105) -> 10488966 | P66: =SUM(P67:P105) -> 11077440
C67: =E67&F67 -> Paquete 249Residencial | D67: 1 | E67: {=vector.broadband.plans.names} -> Paquete 249 | F67: =F21 -> Residencial | G67: =G21 -> Telefonía fija + Internet fijo | H67: # suscripciones | O67: =IFERROR(O$10*O21,"") -> 155086.99 | P67: =IFERROR(P$10*P21,"") -> 201751.81
C68: =E68&F68 -> Paquete 289Residencial | D68: =1+D67 -> 2 | E68: Paquete 289 | F68: =F22 -> Residencial | G68: =G22 -> Telefonía fija + Internet fijo | H68: # suscripciones | O68: =IFERROR(O$10*O22,"") -> 45816.142 | P68: =IFERROR(P$10*P22,"") -> 49381.47
C69: =E69&F69 -> Paquete 333Residencial | D69: =1+D68 -> 3 | E69: Paquete 333 | F69: =F23 -> Residencial | G69: =G23 -> Telefonía fija + Internet fijo | H69: # suscripciones | O69: =IFERROR(O$10*O23,"") -> 66509.404 | P69: =IFERROR(P$10*P23,"") -> 66673.621
C70: =E70&F70 -> Paquete 389Residencial | D70: =1+D69 -> 4 | E70: Paquete 389 | F70: =F24 -> Residencial | G70: =G24 -> Telefonía fija + Internet fijo | H70: # suscripciones | O70: =IFERROR(O$10*O24,"") -> 4967519 | P70: =IFERROR(P$10*P24,"") -> 4930514
C71: =E71&F71 -> Paquete 435Residencial | D71: =1+D70 -> 5 | E71: Paquete 435 | F71: =F25 -> Residencial | G71: =G25 -> Telefonía fija + Internet fijo | H71: # suscripciones | O71: =IFERROR(O$10*O25,"") -> 195143.76 | P71: =IFERROR(P$10*P25,"") -> 267985.84
C72: =E72&F72 -> Paquete 499Residencial | D72: =1+D71 -> 6 | E72: Paquete 499 | F72: =F26 -> Residencial | G72: =G26 -> Telefonía fija + Internet fijo | H72: # suscripciones | O72: =IFERROR(O$10*O26,"") -> 406553.77 | P72: =IFERROR(P$10*P26,"") -> 404804.13
C73: =E73&F73 -> Paquete 599Residencial | D73: =1+D72 -> 7 | E73: Paquete 599 | F73: =F27 -> Residencial | G73: =G27 -> Telefonía fija + Internet fijo | H73: # suscripciones | O73: =IFERROR(O$10*O27,"") -> 394606.83 | P73: =IFERROR(P$10*P27,"") -> 312350.84
C74: =E74&F74 -> Paquete 649Residencial | D74: =1+D73 -> 8 | E74: Paquete 649 | F74: =F28 -> Residencial | G74: =G28 -> Telefonía fija + Internet fijo | H74: # suscripciones | O74: =IFERROR(O$10*O28,"") -> 180830.02 | P74: =IFERROR(P$10*P28,"") -> 239849.2
...

Sheet Cálculos auxiliares
C1: Cálculos auxiliares
A2: 1 | B2: Información asociada a servicios digitales
C5: # | D5: Concepto | F5: Unidad | G5: Valor | H5: # Servicios digitales | I5: Estimación MXN / Mes / Servicio digital | J5: Nombre | K5: Fuente | L5: Notas
C6: 1 | D6: Tarifa por Activación por SD o en Paquete | F6: MXN / Servicio | G6: 20 | K6: https://downloads.telmex.com/pdf/ServiciosMercadoMasivo.pdf | L6: En la contratación adicional de un SD o Paquete, ya no aplica este cargo.
C7: =1+C6 -> 2 | D7: Renta Mensual por Servicio Digital | F7: MXN / Mes / Servicio | G7: 25 | H7: 1 | I7: =G7/H7 -> 25 | J7: unit.cost.digital.service.1 | K7: https://downloads.telmex.com/pdf/ServiciosMercadoMasivo.pdf | L7: • Paquete de SD incluyen como base: Identificador de llamadas + los otros SD, según paquete contratado. • *Por promoción 3 meses de renta gratis, al momento de contratar una línea nueva. El 4º mes, inicia el cobro de esta. • Identificador de llamadas requiere aparato telefónico c/Caller ID. 3) Identificador de llamadas requiere aparato. telefónico c/ Caller ID.
C8: =1+C7 -> 3 | D8: Renta Mensual por 3 Servicios Digitales | F8: MXN / Mes / Servicio | G8: 50 | H8: 3 | I8: =G8/H8 -> 16.666667 | J8: unit.cost.digital.service.3 | K8: https://downloads.telmex.com/pdf/ServiciosMercadoMasivo.pdf | L8: • Paquete de SD incluyen como base: Identificador de llamadas + los otros SD, según paquete contratado. • *Por promoción 3 meses de renta gratis, al momento de contratar una línea nueva. El 4º mes, inicia el cobro de esta. • Identificador de llamadas requiere aparato telefónico c/Caller ID. 3) Identificador de llamadas requiere aparato. telefónico c/ Caller ID.
C9: =1+C8 -> 4 | D9: Renta Mensual por 4 Servicios Digitales | F9: MXN / Mes / Servicio | G9: 65 | H9: 4 | I9: =G9/H9 -> 16.25 | J9: unit.cost.digital.service.4 | K9: https://downloads.telmex.com/pdf/ServiciosMercadoMasivo.pdf | L9: • Paquete de SD incluyen como base: Identificador de llamadas + los otros SD, según paquete contratado. • *Por promoción 3 meses de renta gratis, al momento de contratar una línea nueva. El 4º mes, inicia el cobro de esta. • Identificador de llamadas requiere aparato telefónico c/Caller ID. 3) Identificador de llamadas requiere aparato. telefónico c/ Caller ID.
C10: =1+C9 -> 5 | D10: Renta Mensual por 5 Servicios Digitales | F10: MXN / Mes / Servicio | G10: 80 | H10: 5 | I10: =G10/H10 -> 16 | J10: unit.cost.digital.service.5 | K10: https://downloads.telmex.com/pdf/ServiciosMercadoMasivo.pdf | L10: • Paquete de SD incluyen como base: Identificador de llamadas + los otros SD, según paquete contratado. • *Por promoción 3 meses de renta gratis, al momento de contratar una línea nueva. El 4º mes, inicia el cobro de esta. • Identificador de llamadas requiere aparato telefónico c/Caller ID. 3) Identificador de llamadas requiere aparato. telefónico c/ Caller ID.
A12: 2 | B12: Representación del costo mensual promedio ponderado del bucle, por plan/paquete con banda ancha fija y por perfil de velocidad
C14: Distriibución porcentual de los suscriptores por medio de transmissión | H14: 7 | I14: 8 | J14: 0
H15: ="Distribución "&Year.selected&" de suscriptores por medio de transmisión" -> Distribución 2025 de suscriptores por medio de transmisión
C16: # | D16: Nombre de plan o paquete | E16: Velocidad de bajada ofertada (Mbps) | F16: Modalidad | G16: Tipo de Servicio | H16: Cobre | I16: Fibra óptica | J16: Total | M16: Notas
C17: 1 | D17: {=vector.broadband.plans.names} -> Paquete 249 | E17: =H63 -> 15 | F17: =VLOOKUP($D17,'Planes y paquetes'!$C$661:$L$699,2,FALSE) -> Residencial | G17: =VLOOKUP($D17,'Planes y paquetes'!$C$661:$L$699,3,FALSE) -> Telefonía fija + Internet fijo | H17: =IFERROR(VLOOKUP($D17,$D$63:$K$101,H$14,FALSE)/SUM(VLOOKUP($D17,$D$63:$K101,H$14,FALSE),VLOOKUP($D17,$D$63:$K$101,I$14,FALSE)),"") -> 0.18686324 | I17: =IFERROR(VLOOKUP($D17,$D$63:$K$101,I$14,FALSE)/SUM(VLOOKUP($D17,$D$63:$K$101,H$14,FALSE),VLOOKUP($D17,$D$63:$K$101,I$14,FALSE)),"") -> 0.81313676 | J17: =SUM(H17:I17) -> 1
C18: =1+C17 -> 2 | D18: Paquete 289 | E18: =H64 -> 15 | F18: =VLOOKUP($D18,'Planes y paquetes'!$C$661:$L$699,2,FALSE) -> Residencial | G18: =VLOOKUP($D18,'Planes y paquetes'!$C$661:$L$699,3,FALSE) -> Telefonía fija + Internet fijo | H18: =IFERROR(VLOOKUP($D18,$D$63:$K$101,H$14,FALSE)/SUM(VLOOKUP($D18,$D$63:$K102,H$14,FALSE),VLOOKUP($D18,$D$63:$K$101,I$14,FALSE)),"") -> 0.24851774 | I18: =IFERROR(VLOOKUP($D18,$D$63:$K$101,I$14,FALSE)/SUM(VLOOKUP($D18,$D$63:$K$101,H$14,FALSE),VLOOKUP($D18,$D$63:$K$101,I$14,FALSE)),"") -> 0.75148226 | J18: =SUM(H18:I18) -> 1
C19: =1+C18 -> 3 | D19: Paquete 333 | E19: =H65 -> 15 | F19: =VLOOKUP($D19,'Planes y paquetes'!$C$661:$L$699,2,FALSE) -> Residencial | G19: =VLOOKUP($D19,'Planes y paquetes'!$C$661:$L$699,3,FALSE) -> Telefonía fija + Internet fijo | H19: =IFERROR(VLOOKUP($D19,$D$63:$K$101,H$14,FALSE)/SUM(VLOOKUP($D19,$D$63:$K103,H$14,FALSE),VLOOKUP($D19,$D$63:$K$101,I$14,FALSE)),"") -> 0.18309362 | I19: =IFERROR(VLOOKUP($D19,$D$63:$K$101,I$14,FALSE)/SUM(VLOOKUP($D19,$D$63:$K$101,H$14,FALSE),VLOOKUP($D19,$D$63:$K$101,I$14,FALSE)),"") -> 0.81690638 | J19: =SUM(H19:I19) -> 1
C20: =1+C19 -> 4 | D20: Paquete 389 | E20: =H66 -> 80 | F20: =VLOOKUP($D20,'Planes y paquetes'!$C$661:$L$699,2,FALSE) -> Residencial | G20: =VLOOKUP($D20,'Planes y paquetes'!$C$661:$L$699,3,FALSE) -> Telefonía fija + Internet fijo | H20: =IFERROR(VLOOKUP($D20,$D$63:$K$101,H$14,FALSE)/SUM(VLOOKUP($D20,$D$63:$K104,H$14,FALSE),VLOOKUP($D20,$D$63:$K$101,I$14,FALSE)),"") -> 0.19162053 | I20: =IFERROR(VLOOKUP($D20,$D$63:$K$101,I$14,FALSE)/SUM(VLOOKUP($D20,$D$63:$K$101,H$14,FALSE),VLOOKUP($D20,$D$63:$K$101,I$14,FALSE)),"") -> 0.80837947 | J20: =SUM(H20:I20) -> 1
C21: =1+C20 -> 5 | D21: Paquete 435 | E21: =H67 -> 100 | F21: =VLOOKUP($D21,'Planes y paquetes'!$C$661:$L$699,2,FALSE) -> Residencial | G21: =VLOOKUP($D21,'Planes y paquetes'!$C$661:$L$699,3,FALSE) -> Telefonía fija + Internet fijo | H21: =IFERROR(VLOOKUP($D21,$D$63:$K$101,H$14,FALSE)/SUM(VLOOKUP($D21,$D$63:$K105,H$14,FALSE),VLOOKUP($D21,$D$63:$K$101,I$14,FALSE)),"") -> 0.047792957 | I21: =IFERROR(VLOOKUP($D21,$D$63:$K$101,I$14,FALSE)/SUM(VLOOKUP($D21,$D$63:$K$101,H$14,FALSE),VLOOKUP($D21,$D$63:$K$101,I$14,FALSE)),"") -> 0.95220704 | J21: =SUM(H21:I21) -> 1
C22: =1+C21 -> 6 | D22: Paquete 499 | E22: =H68 -> 150 | F22: =VLOOKUP($D22,'Planes y paquetes'!$C$661:$L$699,2,FALSE) -> Residencial | G22: =VLOOKUP($D22,'Planes y paquetes'!$C$661:$L$699,3,FALSE) -> Telefonía fija + Internet fijo | H22: =IFERROR(VLOOKUP($D22,$D$63:$K$101,H$14,FALSE)/SUM(VLOOKUP($D22,$D$63:$K106,H$14,FALSE),VLOOKUP($D22,$D$63:$K$101,I$14,FALSE)),"") -> 0.017012956 | I22: =IFERROR(VLOOKUP($D22,$D$63:$K$101,I$14,FALSE)/SUM(VLOOKUP($D22,$D$63:$K$101,H$14,FALSE),VLOOKUP($D22,$D$63:$K$101,I$14,FALSE)),"") -> 0.98298704 | J22: =SUM(H22:I22) -> 1
C23: =1+C22 -> 7 | D23: Paquete 599 | E23: =H69 -> 250 | F23: =VLOOKUP($D23,'Planes y paquetes'!$C$661:$L$699,2,FALSE) -> Residencial | G23: =VLOOKUP($D23,'Planes y paquetes'!$C$661:$L$699,3,FALSE) -> Telefonía fija + Internet fijo | H23: =IFERROR(VLOOKUP($D23,$D$63:$K$101,H$14,FALSE)/SUM(VLOOKUP($D23,$D$63:$K107,H$14,FALSE),VLOOKUP($D23,$D$63:$K$101,I$14,FALSE)),"") -> 0.082228278 | I23: =IFERROR(VLOOKUP($D23,$D$63:$K$101,I$14,FALSE)/SUM(VLOOKUP($D23,$D$63:$K$101,H$14,FALSE),VLOOKUP($D23,$D$63:$K$101,I$14,FALSE)),"") -> 0.91777172 | J23: =SUM(H23:I23) -> 1
C24: =1+C23 -> 8 | D24: Paquete 649 | E24: =H70 -> 350 | F24: =VLOOKUP($D24,'Planes y paquetes'!$C$661:$L$699,2,FALSE) -> Residencial | G24: =VLOOKUP($D24,'Planes y paquetes'!$C$661:$L$699,3,FALSE) -> Telefonía fija + Internet fijo | H24: =IFERROR(VLOOKUP($D24,$D$63:$K$101,H$14,FALSE)/SUM(VLOOKUP($D24,$D$63:$K108,H$14,FALSE),VLOOKUP($D24,$D$63:$K$101,I$14,FALSE)),"") -> 0.00026398574 | I24: =IFERROR(VLOOKUP($D24,$D$63:$K$101,I$14,FALSE)/SUM(VLOOKUP($D24,$D$63:$K$101,H$14,FALSE),VLOOKUP($D24,$D$63:$K$101,I$14,FALSE)),"") -> 0.99973601 | J24: =SUM(H24:I24) -> 1
C25: =1+C24 -> 9 | D25: Paquetre 725 | E25: =H71 -> 500 | F25: =VLOOKUP($D25,'Planes y paquetes'!$C$661:$L$699,2,FALSE) -> Residencial | G25: =VLOOKUP($D25,'Planes y paquetes'!$C$661:$L$699,3,FALSE) -> Telefonía fija + Internet fijo | H25: =IFERROR(VLOOKUP($D25,$D$63:$K$101,H$14,FALSE)/SUM(VLOOKUP($D25,$D$63:$K109,H$14,FALSE),VLOOKUP($D25,$D$63:$K$101,I$14,FALSE)),"") -> 0.0028905144 | I25: =IFERROR(VLOOKUP($D25,$D$63:$K$101,I$14,FALSE)/SUM(VLOOKUP($D25,$D$63:$K$101,H$14,FALSE),VLOOKUP($D25,$D$63:$K$101,I$14,FALSE)),"") -> 0.99710949 | J25: =SUM(H25:I25) -> 1
C26: =1+C25 -> 10 | D26: Paquete Infinitum 999 | E26: =H72 -> 750 | F26: =VLOOKUP($D26,'Planes y paquetes'!$C$661:$L$699,2,FALSE) -> Residencial | G26: =VLOOKUP($D26,'Planes y paquetes'!$C$661:$L$699,3,FALSE) -> Telefonía fija + Internet fijo | H26: =IFERROR(VLOOKUP($D26,$D$63:$K$101,H$14,FALSE)/SUM(VLOOKUP($D26,$D$63:$K110,H$14,FALSE),VLOOKUP($D26,$D$63:$K$101,I$14,FALSE)),"") -> 0.016498895 | I26: =IFERROR(VLOOKUP($D26,$D$63:$K$101,I$14,FALSE)/SUM(VLOOKUP($D26,$D$63:$K$101,H$14,FALSE),VLOOKUP($D26,$D$63:$K$101,I$14,FALSE)),"") -> 0.9835011 | J26: =SUM(H26:I26) -> 1
C27: =1+C26 -> 11 | D27: Paquete 1399 | E27: =H73 -> 1000 | F27: =VLOOKUP($D27,'Planes y paquetes'!$C$661:$L$699,2,FALSE) -> Residencial | G27: =VLOOKUP($D27,'Planes y paquetes'!$C$661:$L$699,3,FALSE) -> Telefonía fija + Internet fijo | H27: =IFERROR(VLOOKUP($D27,$D$63:$K$101,H$14,FALSE)/SUM(VLOOKUP($D27,$D$63:$K111,H$14,FALSE),VLOOKUP($D27,$D$63:$K$101,I$14,FALSE)),"") -> 0.0011711712 | I27: =IFERROR(VLOOKUP($D27,$D$63:$K$101,I$14,FALSE)/SUM(VLOOKUP($D27,$D$63:$K$101,H$14,FALSE),VLOOKUP($D27,$D$63:$K$101,I$14,FALSE)),"") -> 0.99882883 | J27: =SUM(H27:I27) -> 1
C28: =1+C27 -> 12 | D28: Infinitum 279 | E28: =H74 -> 30 | F28: =VLOOKUP($D28,'Planes y paquetes'!$C$661:$L$699,2,FALSE) -> Residencial | G28: =VLOOKUP($D28,'Planes y paquetes'!$C$661:$L$699,3,FALSE) -> Internet fijo | H28: =IFERROR(VLOOKUP($D28,$D$63:$K$101,H$14,FALSE)/SUM(VLOOKUP($D28,$D$63:$K112,H$14,FALSE),VLOOKUP($D28,$D$63:$K$101,I$14,FALSE)),"") -> 0.20548016 | I28: =IFERROR(VLOOKUP($D28,$D$63:$K$101,I$14,FALSE)/SUM(VLOOKUP($D28,$D$63:$K$101,H$14,FALSE),VLOOKUP($D28,$D$63:$K$101,I$14,FALSE)),"") -> 0.79451984 | J28: =SUM(H28:I28) -> 1
C29: =1+C28 -> 13 | D29: Infinitum 299 R | E29: =H75 -> 40 | F29: =VLOOKUP($D29,'Planes y paquetes'!$C$661:$L$699,2,FALSE) -> Residencial | G29: =VLOOKUP($D29,'Planes y paquetes'!$C$661:$L$699,3,FALSE) -> Internet fijo | H29: =IFERROR(VLOOKUP($D29,$D$63:$K$101,H$14,FALSE)/SUM(VLOOKUP($D29,$D$63:$K113,H$14,FALSE),VLOOKUP($D29,$D$63:$K$101,I$14,FALSE)),"") -> 0.14102564 | I29: =IFERROR(VLOOKUP($D29,$D$63:$K$101,I$14,FALSE)/SUM(VLOOKUP($D29,$D$63:$K$101,H$14,FALSE),VLOOKUP($D29,$D$63:$K$101,I$14,FALSE)),"") -> 0.85897436 | J29: =SUM(H29:I29) -> 1
... C55: =1+C54 -> 39 | D55: Infinitum Negocio Premium | E55: =H101 -> 100 | F55: =VLOOKUP($D55,'Planes y paquetes'!$C$661:$L$699,2,FALSE) -> No Residencial | G55: =VLOOKUP($D55,'Planes y paquetes'!$C$661:$L$699,3,FALSE) -> Internet fijo | H55: =IFERROR(VLOOKUP($D55,$D$63:$K$101,H$14,FALSE)/SUM(VLOOKUP($D55,$D$63:$K139,H$14,FALSE),VLOOKUP($D55,$D$63:$K$101,I$14,FALSE)),"") -> 0.16208004 | I55: =IFERROR(VLOOKUP($D55,$D$63:$K$101,I$14,FALSE)/SUM(VLOOKUP($D55,$D$63:$K$101,H$14,FALSE),VLOOKUP($D55,$D$63:$K$101,I$14,FALSE)),"") -> 0.83791996 | J55: =SUM(H55:I55) -> 1
L56: weighted.average.local.loop.by.plan
C59: Distriibución de los suscriptores por medio de transmissión
J60: 8 | K60: 9 | L60: 10
J61: ="Distribución "&Year.selected&" de suscriptores por medio de transmisión" -> Distribución 2025 de suscriptores por medio de transmisión
D62: Nombre de plan o paquete | E62: h | F62: Modalidad | G62: Tipo de Servicio | H62: Velocidad de bajada ofertada (Mbps) | I62: Velocidad de subida ofertada (Mbps) | J62: Cobre + FTTC. Fibra hasta un punto intermedio entre el edificio del AEP y el usuario y despues cobre hasta el usuario. | K62: Fibra óptica
C63: 1 | D63: {=vector.broadband.plans.names} -> Paquete 249 | F63: =VLOOKUP($D63,'Planes y paquetes'!$C$661:$L$699,2,FALSE) -> Residencial | G63: =VLOOKUP($D63,'Planes y paquetes'!$C$661:$L$699,3,FALSE) -> Telefonía fija + Internet fijo | H63: =IFERROR(VLOOKUP($D63,'Planes y paquetes'!$C$391:$BW$429,69,FALSE),"") -> 15 | I63: =IFERROR(VLOOKUP($D63,'Planes y paquetes'!$C$391:$BW$429,70,FALSE),"") -> 0.64 | J63: =IFERROR(SUM(VLOOKUP($D63,'Planes y paquetes'!$C$661:$L$699,'Cálculos auxiliares'!L$60,FALSE),VLOOKUP($D63,'Planes y paquetes'!$C$661:$L$699,'Cálculos auxiliares'!J$60,FALSE)),"") -> 33638 | K63: =IFERROR(VLOOKUP($D63,'Planes y paquetes'!$C$661:$L$699,'Cálculos auxiliares'!K$60,FALSE),"") -> 146376
C64: =1+C63 -> 2 | D64: Paquete 289 | F64: =VLOOKUP($D64,'Planes y paquetes'!$C$661:$L$699,2,FALSE) -> Residencial | G64: =VLOOKUP($D64,'Planes y paquetes'!$C$661:$L$699,3,FALSE) -> Telefonía fija + Internet fijo | H64: =IFERROR(VLOOKUP($D64,'Planes y paquetes'!$C$391:$BW$429,69,FALSE),"") -> 15 | I64: =IFERROR(VLOOKUP($D64,'Planes y paquetes'!$C$391:$BW$429,70,FALSE),"") -> 0.64 | J64: =IFERROR(SUM(VLOOKUP($D64,'Planes y paquetes'!$C$661:$L$699,'Cálculos auxiliares'!L$60,FALSE),VLOOKUP($D64,'Planes y paquetes'!$C$661:$L$699,'Cálculos auxiliares'!J$60,FALSE)),"") -> 14838 | K64: =IFERROR(VLOOKUP($D64,'Planes y paquetes'!$C$661:$L$699,'Cálculos auxiliares'!K$60,FALSE),"") -> 44868
C65: =1+C64 -> 3 | D65: Paquete 333 | F65: =VLOOKUP($D65,'Planes y paquetes'!$C$661:$L$699,2,FALSE) -> Residencial | G65: =VLOOKUP($D65,'Planes y paquetes'!$C$661:$L$699,3,FALSE) -> Telefonía fija + Internet fijo | H65: =IFERROR(VLOOKUP($D65,'Planes y paquetes'!$C$391:$BW$429,69,FALSE),"") -> 15 | I65: =IFERROR(VLOOKUP($D65,'Planes y paquetes'!$C$391:$BW$429,70,FALSE),"") -> 0.64 | J65: =IFERROR(SUM(VLOOKUP($D65,'Planes y paquetes'!$C$661:$L$699,'Cálculos auxiliares'!L$60,FALSE),VLOOKUP($D65,'Planes y paquetes'!$C$661:$L$699,'Cálculos auxiliares'!J$60,FALSE)),"") -> 13481 | K65: =IFERROR(VLOOKUP($D65,'Planes y paquetes'!$C$661:$L$699,'Cálculos auxiliares'!K$60,FALSE),"") -> 60148
C66: =1+C65 -> 4 | D66: Paquete 389 | F66: =VLOOKUP($D66,'Planes y paquetes'!$C$661:$L$699,2,FALSE) -> Residencial | G66: =VLOOKUP($D66,'Planes y paquetes'!$C$661:$L$699,3,FALSE) -> Telefonía fija + Internet fijo | H66: =IFERROR(VLOOKUP($D66,'Planes y paquetes'!$C$391:$BW$429,69,FALSE),"") -> 80 | I66: =IFERROR(VLOOKUP($D66,'Planes y paquetes'!$C$391:$BW$429,70,FALSE),"") -> 80 | J66: =IFERROR(SUM(VLOOKUP($D66,'Planes y paquetes'!$C$661:$L$699,'Cálculos auxiliares'!L$60,FALSE),VLOOKUP($D66,'Planes y paquetes'!$C$661:$L$699,'Cálculos auxiliares'!J$60,FALSE)),"") -> 1046968 | K66: =IFERROR(VLOOKUP($D66,'Planes y paquetes'!$C$661:$L$699,'Cálculos auxiliares'!K$60,FALSE),"") -> 4416789
C67: =1+C66 -> 5 | D67: Paquete 435 | F67: =VLOOKUP($D67,'Planes y paquetes'!$C$661:$L$699,2,FALSE) -> Residencial | G67: =VLOOKUP($D67,'Planes y paquetes'!$C$661:$L$699,3,FALSE) -> Telefonía fija + Internet fijo | H67: =IFERROR(VLOOKUP($D67,'Planes y paquetes'!$C$391:$BW$429,69,FALSE),"") -> 100 | I67: =IFERROR(VLOOKUP($D67,'Planes y paquetes'!$C$391:$BW$429,70,FALSE),"") -> 100 | J67: =IFERROR(SUM(VLOOKUP($D67,'Planes y paquetes'!$C$661:$L$699,'Cálculos auxiliares'!L$60,FALSE),VLOOKUP($D67,'Planes y paquetes'!$C$661:$L$699,'Cálculos auxiliares'!J$60,FALSE)),"") -> 14683 | K67: =IFERROR(VLOOKUP($D67,'Planes y paquetes'!$C$661:$L$699,'Cálculos auxiliares'!K$60,FALSE),"") -> 292538
C68: =1+C67 -> 6 | D68: Paquete 499 | F68: =VLOOKUP($D68,'Planes y paquetes'!$C$661:$L$699,2,FALSE) -> Residencial | G68: =VLOOKUP($D68,'Planes y paquetes'!$C$661:$L$699,3,FALSE) -> Telefonía fija + Internet fijo | H68: =IFERROR(VLOOKUP($D68,'Planes y paquetes'!$C$391:$BW$429,69,FALSE),"") -> 150 | I68: =IFERROR(VLOOKUP($D68,'Planes y paquetes'!$C$391:$BW$429,70,FALSE),"") -> 150 | J68: =IFERROR(SUM(VLOOKUP($D68,'Planes y paquetes'!$C$661:$L$699,'Cálculos auxiliares'!L$60,FALSE),VLOOKUP($D68,'Planes y paquetes'!$C$661:$L$699,'Cálculos auxiliares'!J$60,FALSE)),"") -> 6874 | K68: =IFERROR(VLOOKUP($D68,'Planes y paquetes'!$C$661:$L$699,'Cálculos auxiliares'!K$60,FALSE),"") -> 397171
C69: =1+C68 -> 7 | D69: Paquete 599 | F69: =VLOOKUP($D69,'Planes y paquetes'!$C$661:$L$699,2,FALSE) -> Residencial | G69: =VLOOKUP($D69,'Planes y paquetes'!$C$661:$L$699,3,FALSE) -> Telefonía fija + Internet fijo | H69: =IFERROR(VLOOKUP($D69,'Planes y paquetes'!$C$391:$BW$429,69,FALSE),"") -> 250 | I69: =IFERROR(VLOOKUP($D69,'Planes y paquetes'!$C$391:$BW$429,70,FALSE),"") -> 250 | J69: =IFERROR(SUM(VLOOKUP($D69,'Planes y paquetes'!$C$661:$L$699,'Cálculos auxiliares'!L$60,FALSE),VLOOKUP($D69,'Planes y paquetes'!$C$661:$L$699,'Cálculos auxiliares'!J$60,FALSE)),"") -> 29814 | K69: =IFERROR(VLOOKUP($D69,'Planes y paquetes'!$C$661:$L$699,'Cálculos auxiliares'!K$60,FALSE),"") -> 332762
C70: =1+C69 -> 8 | D70: Paquete 649 | F70: =VLOOKUP($D70,'Planes y paquetes'!$C$661:$L$699,2,FALSE) -> Residencial | G70: =VLOOKUP($D70,'Planes y paquetes'!$C$661:$L$699,3,FALSE) -> Telefonía fija + Internet fijo | H70: =IFERROR(VLOOKUP($D70,'Planes y paquetes'!$C$391:$BW$429,69,FALSE),"") -> 350 | I70: =IFERROR(VLOOKUP($D70,'Planes y paquetes'!$C$391:$BW$429,70,FALSE),"") -> 350 | J70: =IFERROR(SUM(VLOOKUP($D70,'Planes y paquetes'!$C$661:$L$699,'Cálculos auxiliares'!L$60,FALSE),VLOOKUP($D70,'Planes y paquetes'!$C$661:$L$699,'Cálculos auxiliares'!J$60,FALSE)),"") -> 72 | K70: =IFERROR(VLOOKUP($D70,'Planes y paquetes'!$C$661:$L$699,'Cálculos auxiliares'!K$60,FALSE),"") -> 272670
C71: =1+C70 -> 9 | D71: Paquetre 725 | F71: =VLOOKUP($D71,'Planes y paquetes'!$C$661:$L$699,2,FALSE) -> Residencial | G71: =VLOOKUP($D71,'Planes y paquetes'!$C$661:$L$699,3,FALSE) -> Telefonía fija + Internet fijo | H71: =IFERROR(VLOOKUP($D71,'Planes y paquetes'!$C$391:$BW$429,69,FALSE),"") -> 500 | I71: =IFERROR(VLOOKUP($D71,'Planes y paquetes'!$C$391:$BW$429,70,FALSE),"") -> 350 | J71: =IFERROR(SUM(VLOOKUP($D71,'Planes y paquetes'!$C$661:$L$699,'Cálculos auxiliares'!L$60,FALSE),VLOOKUP($D71,'Planes y paquetes'!$C$661:$L$699,'Cálculos auxiliares'!J$60,FALSE)),"") -> 49 | K71: =IFERROR(VLOOKUP($D71,'Planes y paquetes'!$C$661:$L$699,'Cálculos auxiliares'!K$60,FALSE),"") -> 16903
...

Sheet Cálculos principales
D1: Cálculos principales
I2: 1 | J2: =I2+1 -> 2 | K2: =J2+1 -> 3 | L2: =K2+1 -> 4 | M2: =L2+1 -> 5 | N2: =M2+1 -> 6 | O2: =N2+1 -> 7 | P2: =O2+1 -> 8 | Q2: =P2+1 -> 9 | ... AW2: =AV2+1 -> 41
C3: Concepto | G3: Unidad | I3: {=TRANSPOSE(vector.plans.names)} -> Renta Mensual de la Línea Residencial | J3: Renta Mensual de la Línea Comercial | K3: Paquete 249 | L3: Paquete 289 | M3: Paquete 333 | N3: Paquete 389 | O3: Paquete 435 | P3: Paquete 499 | Q3: Paquete 599 | R3: Paquete 649 | S3: Paquetre 725 | T3: Paquete Infinitum 999 | U3: Paquete 1399 | V3: Infinitum 279 | W3: Infinitum 299 R | X3: Infinitum 349 | Y3: Infinitum 399 | Z3: Infinitum 449 | AA3: Infinitum 499 | AB3: Infinitum 549 | AC3: Infinitum 649 | AD3: Infinitum 899 | AE3: Paquete Conectes Negocio | AF3: Paquete Mi Negocio | AG3: Paquete Negocio 649 | AH3: Paquete Supernegocio | AI3: Paquete Negocio 999 | AJ3: Paquete Telmex Negocio Ilimitado 1 | AK3: Paquete Telmex Negocio Ilimitado 2 | AL3: Paquete Telmex Negocio Ilimitado 3 | AM3: Infinitum 299 N | AN3: Infinitum Negocio 349 | AO3: Infinitum Negocio 399 | AP3: Infinitum Negocio 449 | AQ3: Infinitum Negocio 499 | AR3: Infinitum Negocio 549 | AS3: Infinitum Negocio 649 | AT3: Infinitum Negocio 899 | AU3: Infinitum Negocio | AV3: Infinitum Negocio Red | AW3: Infinitum Negocio Premium | BA3: Check | BB3: Notas
A4: 1 | B4: Información general de planes y paquetes | G4: Unidad
C5: Tipo de servicio | G5: Telefonía Fija, Internet Fijo, Telefonía Fija+ Internet Fijo | H5: Fuente: AEP | I5: =IFERROR(VLOOKUP(I$3,'Planes y paquetes'!$C$197:$J$198,3,FALSE),"") -> Telefonía fija | J5: =IFERROR(VLOOKUP(J$3,'Planes y paquetes'!$C$197:$J$198,3,FALSE),"") -> Telefonía fija | K5: =IFERROR(VLOOKUP(K$3,'Planes y paquetes'!$C$391:$BW$429,3,FALSE),"") -> Telefonía fija + Internet fijo | L5: =IFERROR(VLOOKUP(L$3,'Planes y paquetes'!$C$391:$BW$429,3,FALSE),"") -> Telefonía fija + Internet fijo | M5: =IFERROR(VLOOKUP(M$3,'Planes y paquetes'!$C$391:$BW$429,3,FALSE),"") -> Telefonía fija + Internet fijo | N5: =IFERROR(VLOOKUP(N$3,'Planes y paquetes'!$C$391:$BW$429,3,FALSE),"") -> Telefonía fija + Internet fijo | O5: =IFERROR(VLOOKUP(O$3,'Planes y paquetes'!$C$391:$BW$429,3,FALSE),"") -> Telefonía fija + Internet fijo | P5: =IFERROR(VLOOKUP(P$3,'Planes y paquetes'!$C$391:$BW$429,3,FALSE),"") -> Telefonía fija + Internet fijo | Q5: =IFERROR(VLOOKUP(Q$3,'Planes y paquetes'!$C$391:$BW$429,3,FALSE),"") -> Telefonía fija + Internet fijo | R5: =IFERROR(VLOOKUP(R$3,'Planes y paquetes'!$C$391:$BW$429,3,FALSE),"") -> Telefonía fija + Internet fijo | ... AW5: =IFERROR(VLOOKUP(AW$3,'Planes y paquetes'!$C$391:$BW$429,3,FALSE),"") -> Internet fijo
